BEGIN:VCALENDAR
VERSION:2.0
PRODID:-//Political Jar - ECPv6.15.20//NONSGML v1.0//EN
CALSCALE:GREGORIAN
METHOD:PUBLISH
X-WR-CALNAME:Political Jar
X-ORIGINAL-URL:https://politicaljar.com
X-WR-CALDESC:Events for Political Jar
REFRESH-INTERVAL;VALUE=DURATION:PT1H
X-Robots-Tag:noindex
X-PUBLISHED-TTL:PT1H
BEGIN:VTIMEZONE
TZID:America/New_York
BEGIN:DAYLIGHT
TZOFFSETFROM:-0500
TZOFFSETTO:-0400
TZNAME:EDT
DTSTART:20240310T070000
END:DAYLIGHT
BEGIN:STANDARD
TZOFFSETFROM:-0400
TZOFFSETTO:-0500
TZNAME:EST
DTSTART:20241103T060000
END:STANDARD
BEGIN:DAYLIGHT
TZOFFSETFROM:-0500
TZOFFSETTO:-0400
TZNAME:EDT
DTSTART:20250309T070000
END:DAYLIGHT
BEGIN:STANDARD
TZOFFSETFROM:-0400
TZOFFSETTO:-0500
TZNAME:EST
DTSTART:20251102T060000
END:STANDARD
BEGIN:DAYLIGHT
TZOFFSETFROM:-0500
TZOFFSETTO:-0400
TZNAME:EDT
DTSTART:20260308T070000
END:DAYLIGHT
BEGIN:STANDARD
TZOFFSETFROM:-0400
TZOFFSETTO:-0500
TZNAME:EST
DTSTART:20261101T060000
END:STANDARD
END:VTIMEZONE
BEGIN:VTIMEZONE
TZID:America/Chicago
BEGIN:DAYLIGHT
TZOFFSETFROM:-0600
TZOFFSETTO:-0500
TZNAME:CDT
DTSTART:20240310T080000
END:DAYLIGHT
BEGIN:STANDARD
TZOFFSETFROM:-0500
TZOFFSETTO:-0600
TZNAME:CST
DTSTART:20241103T070000
END:STANDARD
BEGIN:DAYLIGHT
TZOFFSETFROM:-0600
TZOFFSETTO:-0500
TZNAME:CDT
DTSTART:20250309T080000
END:DAYLIGHT
BEGIN:STANDARD
TZOFFSETFROM:-0500
TZOFFSETTO:-0600
TZNAME:CST
DTSTART:20251102T070000
END:STANDARD
BEGIN:DAYLIGHT
TZOFFSETFROM:-0600
TZOFFSETTO:-0500
TZNAME:CDT
DTSTART:20260308T080000
END:DAYLIGHT
BEGIN:STANDARD
TZOFFSETFROM:-0500
TZOFFSETTO:-0600
TZNAME:CST
DTSTART:20261101T070000
END:STANDARD
END:VTIMEZONE
BEGIN:VTIMEZONE
TZID:UTC
BEGIN:STANDARD
TZOFFSETFROM:+0000
TZOFFSETTO:+0000
TZNAME:UTC
DTSTART:20240101T000000
END:STANDARD
END:VTIMEZONE
BEGIN:VEVENT
DTSTART;TZID=America/New_York:20251121T090000
DTEND;TZID=America/New_York:20251121T090000
DTSTAMP:20260419T183538
CREATED:20251121T021901Z
LAST-MODIFIED:20251121T134907Z
UID:34046-1763715600-1763715600@politicaljar.com
SUMMARY:In-Town Pool Call Time
DESCRIPTION:
URL:https://politicaljar.com/event/in-town-pool-call-time-243/
LOCATION:The White House
END:VEVENT
BEGIN:VEVENT
DTSTART;TZID=America/Chicago:20251121T090000
DTEND;TZID=America/Chicago:20251121T170000
DTSTAMP:20260419T183538
CREATED:20251111T192952Z
LAST-MODIFIED:20251111T192952Z
UID:33044-1763715600-1763744400@politicaljar.com
SUMMARY:2025 Indiana Political Science Association Conference
DESCRIPTION:Annual Meeting of the Indiana Political Science Association\n\n\n2025 Annual Meeting of the Indiana Political Science Association \nwww.inpolisci.org
URL:https://politicaljar.com/event/2025-indiana-political-science-association-conference/
LOCATION:University of Southern Indiana\, 8600 University Boulevard\, Evansville\, IN\, 47712\, United States
ATTACH;FMTTYPE=image/jpeg:https://politicaljar.com/wp-content/uploads/2025/11/8e0fdc28186be459042bc7c663ef7155.jpg
END:VEVENT
BEGIN:VEVENT
DTSTART;TZID=UTC:20251121T100000
DTEND;TZID=UTC:20251121T100000
DTSTAMP:20260419T183538
CREATED:20250125T191801Z
LAST-MODIFIED:20250222T090140Z
UID:6275-1763719200-1763719200@politicaljar.com
SUMMARY:State Employment and Unemployment (Monthly)
DESCRIPTION:
URL:https://politicaljar.com/event/state-employment-and-unemployment-monthly-11/
LOCATION:Washington\, DC
CATEGORIES:BLS,IMPORTANT
END:VEVENT
BEGIN:VEVENT
DTSTART;TZID=America/New_York:20251121T150000
DTEND;TZID=America/New_York:20251121T150000
DTSTAMP:20260419T183538
CREATED:20251121T021902Z
LAST-MODIFIED:20251121T194936Z
UID:34047-1763737200-1763737200@politicaljar.com
SUMMARY:The President meets with Zohran Mamdani\, Mayor-Elect\, New York City
DESCRIPTION:Closed Press
URL:https://politicaljar.com/event/the-president-meets-with-zohran-mamdani-mayor-elect-new-york-city/
LOCATION:Oval Office
END:VEVENT
END:VCALENDAR