BEGIN:VCALENDAR
VERSION:2.0
PRODID:-//Political Jar - ECPv6.15.20//NONSGML v1.0//EN
CALSCALE:GREGORIAN
METHOD:PUBLISH
X-WR-CALNAME:Political Jar
X-ORIGINAL-URL:https://politicaljar.com
X-WR-CALDESC:Events for Political Jar
REFRESH-INTERVAL;VALUE=DURATION:PT1H
X-Robots-Tag:noindex
X-PUBLISHED-TTL:PT1H
BEGIN:VTIMEZONE
TZID:America/New_York
BEGIN:DAYLIGHT
TZOFFSETFROM:-0500
TZOFFSETTO:-0400
TZNAME:EDT
DTSTART:20240310T070000
END:DAYLIGHT
BEGIN:STANDARD
TZOFFSETFROM:-0400
TZOFFSETTO:-0500
TZNAME:EST
DTSTART:20241103T060000
END:STANDARD
BEGIN:DAYLIGHT
TZOFFSETFROM:-0500
TZOFFSETTO:-0400
TZNAME:EDT
DTSTART:20250309T070000
END:DAYLIGHT
BEGIN:STANDARD
TZOFFSETFROM:-0400
TZOFFSETTO:-0500
TZNAME:EST
DTSTART:20251102T060000
END:STANDARD
BEGIN:DAYLIGHT
TZOFFSETFROM:-0500
TZOFFSETTO:-0400
TZNAME:EDT
DTSTART:20260308T070000
END:DAYLIGHT
BEGIN:STANDARD
TZOFFSETFROM:-0400
TZOFFSETTO:-0500
TZNAME:EST
DTSTART:20261101T060000
END:STANDARD
END:VTIMEZONE
BEGIN:VEVENT
DTSTART;TZID=America/New_York:20251110T090000
DTEND;TZID=America/New_York:20251110T090000
DTSTAMP:20260419T170122
CREATED:20251110T015859Z
LAST-MODIFIED:20251110T135901Z
UID:32862-1762765200-1762765200@politicaljar.com
SUMMARY:In-Town Pool Call Time
DESCRIPTION:
URL:https://politicaljar.com/event/in-town-pool-call-time-233/
LOCATION:The White House
END:VEVENT
BEGIN:VEVENT
DTSTART;TZID=America/New_York:20251110T110000
DTEND;TZID=America/New_York:20251110T110000
DTSTAMP:20260419T170122
CREATED:20251110T015859Z
LAST-MODIFIED:20251110T154427Z
UID:32863-1762772400-1762772400@politicaljar.com
SUMMARY:The President participates in a Bilateral meeting with the President of Syria
DESCRIPTION:Closed Press
URL:https://politicaljar.com/event/the-president-participates-in-a-bilateral-meeting-with-the-president-of-syria/
LOCATION:Oval Office
END:VEVENT
BEGIN:VEVENT
DTSTART;TZID=America/New_York:20251110T150000
DTEND;TZID=America/New_York:20251110T150000
DTSTAMP:20260419T170122
CREATED:20251110T015900Z
LAST-MODIFIED:20251110T194441Z
UID:32864-1762786800-1762786800@politicaljar.com
SUMMARY:The President participates in a Swearing-in Ceremony for the Ambassador to the Republic of India
DESCRIPTION:Closed Press
URL:https://politicaljar.com/event/the-president-participates-in-a-swearing-in-ceremony-for-the-ambassador-to-the-republic-of-india/
LOCATION:Oval Office
END:VEVENT
END:VCALENDAR