BEGIN:VCALENDAR
VERSION:2.0
PRODID:-//Political Jar - ECPv6.15.20//NONSGML v1.0//EN
CALSCALE:GREGORIAN
METHOD:PUBLISH
X-ORIGINAL-URL:https://politicaljar.com
X-WR-CALDESC:Events for Political Jar
REFRESH-INTERVAL;VALUE=DURATION:PT1H
X-Robots-Tag:noindex
X-PUBLISHED-TTL:PT1H
BEGIN:VTIMEZONE
TZID:America/New_York
BEGIN:DAYLIGHT
TZOFFSETFROM:-0500
TZOFFSETTO:-0400
TZNAME:EDT
DTSTART:20240310T070000
END:DAYLIGHT
BEGIN:STANDARD
TZOFFSETFROM:-0400
TZOFFSETTO:-0500
TZNAME:EST
DTSTART:20241103T060000
END:STANDARD
BEGIN:DAYLIGHT
TZOFFSETFROM:-0500
TZOFFSETTO:-0400
TZNAME:EDT
DTSTART:20250309T070000
END:DAYLIGHT
BEGIN:STANDARD
TZOFFSETFROM:-0400
TZOFFSETTO:-0500
TZNAME:EST
DTSTART:20251102T060000
END:STANDARD
BEGIN:DAYLIGHT
TZOFFSETFROM:-0500
TZOFFSETTO:-0400
TZNAME:EDT
DTSTART:20260308T070000
END:DAYLIGHT
BEGIN:STANDARD
TZOFFSETFROM:-0400
TZOFFSETTO:-0500
TZNAME:EST
DTSTART:20261101T060000
END:STANDARD
END:VTIMEZONE
BEGIN:VEVENT
DTSTART;TZID=America/New_York:20251109T070000
DTEND;TZID=America/New_York:20251109T070000
DTSTAMP:20260419T052828
CREATED:20251108T031405Z
LAST-MODIFIED:20251109T115857Z
UID:32740-1762671600-1762671600@politicaljar.com
SUMMARY:Out-of-Town Travel Pool Call Time
DESCRIPTION:Out-of-Town Travel Pool
URL:https://politicaljar.com/event/out-of-town-travel-pool-call-time-76/
LOCATION:Mar-a-Lago
CATEGORIES:Presidents Schedule
END:VEVENT
BEGIN:VEVENT
DTSTART;TZID=America/New_York:20251109T080000
DTEND;TZID=America/New_York:20251109T120000
DTSTAMP:20260419T052828
CREATED:20251013T041603Z
LAST-MODIFIED:20251103T041703Z
UID:30966-1762675200-1762689600@politicaljar.com
SUMMARY:Camp Congress for Youth Jacksonville 2025
DESCRIPTION:It’s all civics & fun. Girls and boys study government\, run for office\, vote and convene a mock session of Congress to pass a bill.\n\n\nCamp Congress for Youth Jacksonville 2025 is a leadership program that introduces girls and boy to the United States political system. Camp begins with a lesson on the structure of our political system. Each student will choose to run for a seat in the US House of Representatives\, the US Senate or for the presidency. Students will create a campaign with a platform\, campaign finance plan\, and film a political ad. All campers will register to vote and then vote in an election. Once elected to Congress and sworn in\, the newly installed members of Congress will learn how to introduce a bill\, debate the merits of the bill\, lobby fellow legislators\, collaborate with the Executive branch and finally vote on the proposed bill. Camp will culminate with a ceremonial signing of the bill by our President. All participants will receive Certificate of Completion. \nFor additional information contact us at +1 866-277-2123 extension 1\, via email at info@girlsinpolitics.com or visit our website at www.girlsinpolitics.com. Ticketing options for girls ages 8-11 and 12-17. Please no solicitation emails or calls. We do not book speakers\, book vendors or recruit volunteers for events. \nFrequently Asked Questions \nIs this event a drop-off? All camps are drop-off unless parent participation is indicated. Parents may wait at the venue for the duration of the camp in any of the lounge or seating area throughout the hotel. The meeting room space capacity can only accommodate students and staff. \nIs the registration fee refundable? The registration fee is non-refundable unless the organizer cancels the session. If a participant is unable to attend a session a credit will be placed on file that may be used at any time for a future program. The credit does not expire. \nIs this a partisan program or supported by a political party? No\, the Girls in Politics Initiative is an independent organization that is self-funded through the fees generated from hosting sessions. The curriculum is civic education. \nIs financial assistance available? Due to rising costs associated with hosting events\, there is no financial assistance available for this event and there is no promo code for this event. \nWho are the instructors? Our Lead Instructors are women that currently or have previously worked in government or electoral politics. Our support staffers are current or former licensed teachers. All instructors and support staff undergo background screening. All instructors and support staff are also in compliance with any local ordinances or state/provincial regulations applicable to those working with children.
URL:https://politicaljar.com/event/camp-congress-for-youth-jacksonville-2025/
LOCATION:4670 Salisbury Rd\, 4670 Salisbury Road\, Jacksonville\, FL\, 32256\, United States
ATTACH;FMTTYPE=image/jpeg:https://politicaljar.com/wp-content/uploads/2025/10/ba9188a35b4e27b81cb0844784606d11.jpg
END:VEVENT
BEGIN:VEVENT
DTSTART;TZID=America/New_York:20251109T130000
DTEND;TZID=America/New_York:20251109T170000
DTSTAMP:20260419T052828
CREATED:20251013T041607Z
LAST-MODIFIED:20251103T041704Z
UID:30969-1762693200-1762707600@politicaljar.com
SUMMARY:Camp Congress for Girls Jacksonville 2025
DESCRIPTION:It’s all fun\, civics and girl power at Camp Congress for Girls Jacksonville 2025. Girls study government\, run for office & pass a bill.\n\n\nCamp Congress for Girls Jacksonville 2025 is a leadership program that introduces girls to U.S. politics. Camp begins with a lesson on the structure of our political system. Each girl will choose to run for a seat in the US House of Representatives\, the US Senate or for the presidency. She will create her own campaign with a platform\, campaign finance plan\, and film a political ad. All campers will register to vote and then vote in an election. Once elected to Congress and sworn in\, the newly installed members of Congress will learn how to introduce a bill\, debate the merits of the bill\, lobby fellow legislators\, collaborate with the Executive branch and finally vote on the proposed bill. Camp will culminate with a ceremonial signing of the bill by our Ms. President. All participants will receive Certificate of Completion. \nFor additional information contact us at +1 866-277-2123 extension 1\, via email at info@girlsinpolitics.com or visit our website at www.girlsinpolitics.com. Ticketing options for girls ages 8-11 and 12-17. Please no solicitation emails or calls. We do not book speakers\, book vendors or recruit volunteers for events. \nFrequently Asked Questions \nIs this event a drop-off? All camps are drop-off unless parent participation is indicated. Parents may wait at the venue for the duration of the camp in any of the lounge or seating area throughout the hotel. The meeting room space capacity can only accommodate students and staff. \nIs the registration fee refundable? The registration fee is non-refundable unless the organizer cancels the session. If a participant is unable to attend a session a credit will be placed on file that may be used at any time for a future program. The credit does not expire. \nIs this a partisan program or supported by a political party? No\, the Girls in Politics Initiative is an independent organization that is self-funded through the fees generated from hosting sessions. The curriculum is civic education. \nIs financial assistance available? Due to rising costs associated with hosting events\, there is no financial assistance available for this event and there is no promo code for this event. \nWho are the instructors? Our Lead Instructors are women that currently or have previously worked in government or electoral politics. Our support staffers are current or former licensed teachers. All instructors and support staff undergo background screening. All instructors and support staff are also in compliance with any local ordinances or state/provincial regulations applicable to those working with children.
URL:https://politicaljar.com/event/camp-congress-for-girls-jacksonville-2025/
LOCATION:4670 Salisbury Rd\, 4670 Salisbury Road\, Jacksonville\, FL\, 32256\, United States
ATTACH;FMTTYPE=image/jpeg:https://politicaljar.com/wp-content/uploads/2025/10/aa2deaadf16a0f3329cdf282030be40b.jpg
END:VEVENT
BEGIN:VEVENT
DTSTART;TZID=America/New_York:20251109T144500
DTEND;TZID=America/New_York:20251109T144500
DTSTAMP:20260419T052828
CREATED:20251108T031406Z
LAST-MODIFIED:20251109T194359Z
UID:32741-1762699500-1762699500@politicaljar.com
SUMMARY:The President departs Palm Beach\, Florida\, en route Washington\, D.C.
DESCRIPTION:Out-of-Town Travel Pool
URL:https://politicaljar.com/event/the-president-departs-palm-beach-florida-en-route-washington-d-c/
LOCATION:Mar-a-Lago
CATEGORIES:Presidents Schedule
END:VEVENT
BEGIN:VEVENT
DTSTART;TZID=America/New_York:20251109T173500
DTEND;TZID=America/New_York:20251109T173500
DTSTAMP:20260419T052828
CREATED:20251108T031406Z
LAST-MODIFIED:20251109T221401Z
UID:32743-1762709700-1762709700@politicaljar.com
SUMMARY:The President attends The Commanders Football Game
DESCRIPTION:
URL:https://politicaljar.com/event/the-president-attends-the-commanders-football-game/
LOCATION:Northwest Stadium\, Hyattsville\, MD\, United States
CATEGORIES:Presidents Schedule
END:VEVENT
BEGIN:VEVENT
DTSTART;TZID=America/New_York:20251109T190000
DTEND;TZID=America/New_York:20251109T190000
DTSTAMP:20260419T052828
CREATED:20251108T031407Z
LAST-MODIFIED:20251110T000040Z
UID:32744-1762714800-1762714800@politicaljar.com
SUMMARY:In-Town Pool Call Time
DESCRIPTION:In-Town Pool
URL:https://politicaljar.com/event/in-town-pool-call-time-232/
LOCATION:The White House
CATEGORIES:Presidents Schedule
END:VEVENT
BEGIN:VEVENT
DTSTART;TZID=America/New_York:20251109T194500
DTEND;TZID=America/New_York:20251109T194500
DTSTAMP:20260419T052828
CREATED:20251108T031417Z
LAST-MODIFIED:20251110T002914Z
UID:32745-1762717500-1762717500@politicaljar.com
SUMMARY:The President arrives The White House
DESCRIPTION:Open Press
URL:https://politicaljar.com/event/the-president-arrives-the-white-house-63/
LOCATION:The White House
CATEGORIES:Presidents Schedule
END:VEVENT
END:VCALENDAR