BEGIN:VCALENDAR
VERSION:2.0
PRODID:-//Political Jar - ECPv6.15.20//NONSGML v1.0//EN
CALSCALE:GREGORIAN
METHOD:PUBLISH
X-WR-CALNAME:Political Jar
X-ORIGINAL-URL:https://politicaljar.com
X-WR-CALDESC:Events for Political Jar
REFRESH-INTERVAL;VALUE=DURATION:PT1H
X-Robots-Tag:noindex
X-PUBLISHED-TTL:PT1H
BEGIN:VTIMEZONE
TZID:America/New_York
BEGIN:DAYLIGHT
TZOFFSETFROM:-0500
TZOFFSETTO:-0400
TZNAME:EDT
DTSTART:20240310T070000
END:DAYLIGHT
BEGIN:STANDARD
TZOFFSETFROM:-0400
TZOFFSETTO:-0500
TZNAME:EST
DTSTART:20241103T060000
END:STANDARD
BEGIN:DAYLIGHT
TZOFFSETFROM:-0500
TZOFFSETTO:-0400
TZNAME:EDT
DTSTART:20250309T070000
END:DAYLIGHT
BEGIN:STANDARD
TZOFFSETFROM:-0400
TZOFFSETTO:-0500
TZNAME:EST
DTSTART:20251102T060000
END:STANDARD
BEGIN:DAYLIGHT
TZOFFSETFROM:-0500
TZOFFSETTO:-0400
TZNAME:EDT
DTSTART:20260308T070000
END:DAYLIGHT
BEGIN:STANDARD
TZOFFSETFROM:-0400
TZOFFSETTO:-0500
TZNAME:EST
DTSTART:20261101T060000
END:STANDARD
END:VTIMEZONE
BEGIN:VTIMEZONE
TZID:UTC
BEGIN:STANDARD
TZOFFSETFROM:+0000
TZOFFSETTO:+0000
TZNAME:UTC
DTSTART:20240101T000000
END:STANDARD
END:VTIMEZONE
BEGIN:VTIMEZONE
TZID:America/Chicago
BEGIN:DAYLIGHT
TZOFFSETFROM:-0600
TZOFFSETTO:-0500
TZNAME:CDT
DTSTART:20240310T080000
END:DAYLIGHT
BEGIN:STANDARD
TZOFFSETFROM:-0500
TZOFFSETTO:-0600
TZNAME:CST
DTSTART:20241103T070000
END:STANDARD
BEGIN:DAYLIGHT
TZOFFSETFROM:-0600
TZOFFSETTO:-0500
TZNAME:CDT
DTSTART:20250309T080000
END:DAYLIGHT
BEGIN:STANDARD
TZOFFSETFROM:-0500
TZOFFSETTO:-0600
TZNAME:CST
DTSTART:20251102T070000
END:STANDARD
BEGIN:DAYLIGHT
TZOFFSETFROM:-0600
TZOFFSETTO:-0500
TZNAME:CDT
DTSTART:20260308T080000
END:DAYLIGHT
BEGIN:STANDARD
TZOFFSETFROM:-0500
TZOFFSETTO:-0600
TZNAME:CST
DTSTART:20261101T070000
END:STANDARD
END:VTIMEZONE
BEGIN:VEVENT
DTSTART;TZID=America/New_York:20251104T090000
DTEND;TZID=America/New_York:20251104T090000
DTSTAMP:20260419T070928
CREATED:20251104T005902Z
LAST-MODIFIED:20251104T135914Z
UID:32499-1762246800-1762246800@politicaljar.com
SUMMARY:In-Town Pool Call Time
DESCRIPTION:
URL:https://politicaljar.com/event/in-town-pool-call-time-228/
LOCATION:The White House
END:VEVENT
BEGIN:VEVENT
DTSTART;TZID=UTC:20251104T100000
DTEND;TZID=UTC:20251104T100000
DTSTAMP:20260419T070928
CREATED:20250125T191751Z
LAST-MODIFIED:20250222T090132Z
UID:6264-1762250400-1762250400@politicaljar.com
SUMMARY:Job Openings and Labor Turnover Survey
DESCRIPTION:
URL:https://politicaljar.com/event/job-openings-and-labor-turnover-survey-10/
LOCATION:Washington\, DC
CATEGORIES:BLS,IMPORTANT
END:VEVENT
BEGIN:VEVENT
DTSTART;TZID=America/New_York:20251104T130000
DTEND;TZID=America/New_York:20251104T130000
DTSTAMP:20260419T070928
CREATED:20251104T005902Z
LAST-MODIFIED:20251104T175906Z
UID:32500-1762261200-1762261200@politicaljar.com
SUMMARY:Press Briefing by the White House Press Secretary Karoline Leavitt
DESCRIPTION:On Camera
URL:https://politicaljar.com/event/press-briefing-by-the-white-house-press-secretary-karoline-leavitt-32/
LOCATION:James S. Brady Press Briefing Room
END:VEVENT
BEGIN:VEVENT
DTSTART;TZID=America/New_York:20251104T173000
DTEND;TZID=America/New_York:20251104T184500
DTSTAMP:20260419T070928
CREATED:20251030T192921Z
LAST-MODIFIED:20251030T192921Z
UID:32158-1762277400-1762281900@politicaljar.com
SUMMARY:Eastern Europe at a Crossroads: A Conversation with Mr. Landsbergis
DESCRIPTION:Join former Minister of Foreign Affairs of Lithuania\, Mr. Landsbergis\, and Davis Center Executive Director Solnick for a conversation.\n\n\nThe war in Ukraine is entering its fourth year. Despite enormous challenges\, Ukraine has not been defeated—developing new weapons\, strategies\, and resilience in the face of unrelenting attacks. At the same time\, Russia is escalating its reach – with drone operations extending deeper into Eastern Europe – raising urgent questions about the security of the region and the readiness and commitment of NATO allies. Some observers note unsettling parallels between Europe in 1939 and Europe in 2025. \nJoin former Minister of Foreign Affairs of Lithuania Gabrielius Landsbergis and Davis Center Executive Director Steven Solnick for a wide-ranging conversation about the looming threat from Russia\, the current state of NATO\, recent security breaches in the Baltic States\, Poland\, and Denmark\, and what these developments mean for the region’s future. Together\, they will explore whether Europe is being inexorably drawn toward a broader global conflict—or whether there is still a path to avoid it.
URL:https://politicaljar.com/event/eastern-europe-at-a-crossroads-a-conversation-with-mr-landsbergis/
LOCATION:S010 (Tsai)\, CGIS South Building\, 1730 Cambridge Street\, Cambridge\, MA\, 02138\, United States
ATTACH;FMTTYPE=image/jpeg:https://politicaljar.com/wp-content/uploads/2025/10/ef9762a8bbdd1fc474aa322e8f46d6c5.jpg
END:VEVENT
BEGIN:VEVENT
DTSTART;TZID=America/Chicago:20251104T173000
DTEND;TZID=America/Chicago:20251104T193000
DTSTAMP:20260419T070928
CREATED:20250720T215901Z
LAST-MODIFIED:20251026T215853Z
UID:25684-1762277400-1762284600@politicaljar.com
SUMMARY:Joni Sue Lane Lecture Series: A Conversation with Dr. France Cordova
DESCRIPTION:Join us for a conversation regarding funding trends and policy shifts — and what it means for the future of research and innovation.\n\n\nScience in the U.S. is at a pivotal moment. With major federal agencies facing steep budget cuts\, researchers across the country are grappling with shrinking resources\, stalled projects\, and growing uncertainty. \nAt the inaugural installment of the Joni Sue Lane Lecture Series on Women in Science and Technology\, Dr. France Córdova\, president of the Science Philanthropy Alliance and former director of the US National Science Foundation (NSF)\, will give a keynote lecture on science\, science funding\, and the importance of fundamental research as well as her journey as a physicist. This lecture will take a closer look at where things stand — from funding trends to policy shifts — and what it all means for the future of research and innovation. \nThe Joni Sue Lane Lecture Series aims to recognize and amplify the vital contributions of women in science\, technology\, engineering and mathematics. It’s named in honor Joni Lane\, a talented systems programmer\, who worked at the Federal Aviation Agency and Rice University in the early days of computing. The Joni Sue Lane Lecture Series\, funded by the Lane Family Endowment\, is a part of the Baker Institute Civic Scientist Lecture Series\, sponsored by Dr. Virginia Clark\, with additional support from Benjamin and Winifer Cheng\, Rice University’s George R. Brown School of Engineering and Weiss School of Natural Sciences. \nThis event is free and open to the public.
URL:https://politicaljar.com/event/joni-sue-lane-lecture-series-a-conversation-with-dr-france-cordova/
LOCATION:Rice University’s Baker Institute for Public Policy\, 6100 Main Street\, Houston\, TX\, 77005\, United States
ATTACH;FMTTYPE=image/jpeg:https://politicaljar.com/wp-content/uploads/2025/10/286bebc2950c85bb0502b87956c1241e.jpg
END:VEVENT
BEGIN:VEVENT
DTSTART;TZID=America/Chicago:20251104T180000
DTEND;TZID=America/Chicago:20251104T193000
DTSTAMP:20260419T070928
CREATED:20250720T215907Z
LAST-MODIFIED:20251026T215854Z
UID:25686-1762279200-1762284600@politicaljar.com
SUMMARY:Livestream—Joni Sue Lane Lecture Series: Discussion with Dr. France Cordova
DESCRIPTION:Join us for a conversation regarding funding trends and policy shifts — and what it means for the future of research and innovation.\n\n\nScience in the U.S. is at a pivotal moment. With major federal agencies facing steep budget cuts\, researchers across the country are grappling with shrinking resources\, stalled projects\, and growing uncertainty. \nAt the inaugural installment of the Joni Sue Lane Lecture Series on Women in Science and Technology\, Dr. France Córdova\, president of the Science Philanthropy Alliance and former director of the US National Science Foundation (NSF)\, will give a keynote lecture on science\, science funding\, and the importance of fundamental research as well as her journey as a physicist. This lecture will take a closer look at where things stand — from funding trends to policy shifts — and what it all means for the future of research and innovation. \nThe Joni Sue Lane Lecture Series aims to recognize and amplify the vital contributions of women in science\, technology\, engineering and mathematics. It’s named in honor Joni Lane\, a talented systems programmer\, who worked at the Federal Aviation Agency and Rice University in the early days of computing. The Joni Sue Lane Lecture Series\, funded by the Lane Family Endowment\, is a part of the Baker Institute Civic Scientist Lecture Series\, sponsored by Dr. Virginia Clark\, with additional support from Benjamin and Winifer Cheng\, Rice University’s George R. Brown School of Engineering and Weiss School of Natural Sciences. \nThis event is free and open to the public.
URL:https://politicaljar.com/event/livestream-joni-sue-lane-lecture-series-discussion-with-dr-france-cordova/
ATTACH;FMTTYPE=image/jpeg:https://politicaljar.com/wp-content/uploads/2025/10/3631d3b41ae9e38107ab7c3cdb99770d.jpg
END:VEVENT
END:VCALENDAR