BEGIN:VCALENDAR
VERSION:2.0
PRODID:-//Political Jar - ECPv6.15.20//NONSGML v1.0//EN
CALSCALE:GREGORIAN
METHOD:PUBLISH
X-ORIGINAL-URL:https://politicaljar.com
X-WR-CALDESC:Events for Political Jar
REFRESH-INTERVAL;VALUE=DURATION:PT1H
X-Robots-Tag:noindex
X-PUBLISHED-TTL:PT1H
BEGIN:VTIMEZONE
TZID:America/New_York
BEGIN:DAYLIGHT
TZOFFSETFROM:-0500
TZOFFSETTO:-0400
TZNAME:EDT
DTSTART:20240310T070000
END:DAYLIGHT
BEGIN:STANDARD
TZOFFSETFROM:-0400
TZOFFSETTO:-0500
TZNAME:EST
DTSTART:20241103T060000
END:STANDARD
BEGIN:DAYLIGHT
TZOFFSETFROM:-0500
TZOFFSETTO:-0400
TZNAME:EDT
DTSTART:20250309T070000
END:DAYLIGHT
BEGIN:STANDARD
TZOFFSETFROM:-0400
TZOFFSETTO:-0500
TZNAME:EST
DTSTART:20251102T060000
END:STANDARD
BEGIN:DAYLIGHT
TZOFFSETFROM:-0500
TZOFFSETTO:-0400
TZNAME:EDT
DTSTART:20260308T070000
END:DAYLIGHT
BEGIN:STANDARD
TZOFFSETFROM:-0400
TZOFFSETTO:-0500
TZNAME:EST
DTSTART:20261101T060000
END:STANDARD
END:VTIMEZONE
BEGIN:VTIMEZONE
TZID:UTC
BEGIN:STANDARD
TZOFFSETFROM:+0000
TZOFFSETTO:+0000
TZNAME:UTC
DTSTART:20240101T000000
END:STANDARD
END:VTIMEZONE
BEGIN:VTIMEZONE
TZID:America/Chicago
BEGIN:DAYLIGHT
TZOFFSETFROM:-0600
TZOFFSETTO:-0500
TZNAME:CDT
DTSTART:20240310T080000
END:DAYLIGHT
BEGIN:STANDARD
TZOFFSETFROM:-0500
TZOFFSETTO:-0600
TZNAME:CST
DTSTART:20241103T070000
END:STANDARD
BEGIN:DAYLIGHT
TZOFFSETFROM:-0600
TZOFFSETTO:-0500
TZNAME:CDT
DTSTART:20250309T080000
END:DAYLIGHT
BEGIN:STANDARD
TZOFFSETFROM:-0500
TZOFFSETTO:-0600
TZNAME:CST
DTSTART:20251102T070000
END:STANDARD
BEGIN:DAYLIGHT
TZOFFSETFROM:-0600
TZOFFSETTO:-0500
TZNAME:CDT
DTSTART:20260308T080000
END:DAYLIGHT
BEGIN:STANDARD
TZOFFSETFROM:-0500
TZOFFSETTO:-0600
TZNAME:CST
DTSTART:20261101T070000
END:STANDARD
END:VTIMEZONE
BEGIN:VEVENT
DTSTART;TZID=America/New_York:20251021T090000
DTEND;TZID=America/New_York:20251021T090000
DTSTAMP:20260420T125102
CREATED:20251021T024400Z
LAST-MODIFIED:20251021T125900Z
UID:31530-1761037200-1761037200@politicaljar.com
SUMMARY:In-Town Pool Call Time
DESCRIPTION:In-Town Pool
URL:https://politicaljar.com/event/in-town-pool-call-time-222/
LOCATION:The White House
END:VEVENT
BEGIN:VEVENT
DTSTART;TZID=UTC:20251021T100000
DTEND;TZID=UTC:20251021T100000
DTSTAMP:20260420T125102
CREATED:20250125T185949Z
LAST-MODIFIED:20250222T090128Z
UID:6256-1761040800-1761040800@politicaljar.com
SUMMARY:State Employment and Unemployment (Monthly)
DESCRIPTION:
URL:https://politicaljar.com/event/state-employment-and-unemployment-monthly-10/
LOCATION:Washington\, DC
CATEGORIES:BLS,IMPORTANT
END:VEVENT
BEGIN:VEVENT
DTSTART;TZID=UTC:20251021T100000
DTEND;TZID=UTC:20251021T100000
DTSTAMP:20260420T125102
CREATED:20250125T185950Z
LAST-MODIFIED:20250222T090128Z
UID:6257-1761040800-1761040800@politicaljar.com
SUMMARY:Usual Weekly Earnings of Wage and Salary Workers
DESCRIPTION:
URL:https://politicaljar.com/event/usual-weekly-earnings-of-wage-and-salary-workers-3/
LOCATION:Washington\, DC
CATEGORIES:BLS,IMPORTANT
END:VEVENT
BEGIN:VEVENT
DTSTART;TZID=America/New_York:20251021T110000
DTEND;TZID=America/New_York:20251021T110000
DTSTAMP:20260420T125102
CREATED:20251021T024401Z
LAST-MODIFIED:20251021T145901Z
UID:31531-1761044400-1761044400@politicaljar.com
SUMMARY:The President participates in the Richard Nixon Architect of Peace Award Ceremony
DESCRIPTION:Closed Press
URL:https://politicaljar.com/event/the-president-participates-in-the-richard-nixon-architect-of-peace-award-ceremony/
LOCATION:Oval Office
END:VEVENT
BEGIN:VEVENT
DTSTART;TZID=America/New_York:20251021T120000
DTEND;TZID=America/New_York:20251021T120000
DTSTAMP:20260420T125102
CREATED:20251021T024402Z
LAST-MODIFIED:20251021T154402Z
UID:31532-1761048000-1761048000@politicaljar.com
SUMMARY:The President hosts a Rose Garden Club Lunch
DESCRIPTION:White House Press Pool
URL:https://politicaljar.com/event/the-president-hosts-a-rose-garden-club-lunch/
LOCATION:Rose Garden
END:VEVENT
BEGIN:VEVENT
DTSTART;TZID=America/New_York:20251021T123000
DTEND;TZID=America/New_York:20251021T140000
DTSTAMP:20260420T125102
CREATED:20250813T184554Z
LAST-MODIFIED:20251020T212851Z
UID:27129-1761049800-1761055200@politicaljar.com
SUMMARY:Sand\, Snow\, and Stardust: The Military Origins About Extreme Environments
DESCRIPTION:Sand\, Snow\, and Stardust explores how the US military generated a new understanding of these environments and attempted to master them.
URL:https://politicaljar.com/event/sand-snow-and-stardust-the-military-origins-about-extreme-environments/
LOCATION:Riverside Room\, 121 Bay State Road\, Boston\, MA\, 02215\, United States
ATTACH;FMTTYPE=image/jpeg:https://politicaljar.com/wp-content/uploads/2025/08/ea1bc4290dec594130ed8eda2b2cefbd.jpg
END:VEVENT
BEGIN:VEVENT
DTSTART;TZID=America/New_York:20251021T160000
DTEND;TZID=America/New_York:20251021T160000
DTSTAMP:20260420T125102
CREATED:20251021T024402Z
LAST-MODIFIED:20251021T195910Z
UID:31533-1761062400-1761062400@politicaljar.com
SUMMARY:The President participates in a Diwali Celebration
DESCRIPTION:White House Press Pool
URL:https://politicaljar.com/event/the-president-participates-in-a-diwali-celebration/
LOCATION:Oval Office
END:VEVENT
BEGIN:VEVENT
DTSTART;TZID=America/Chicago:20251021T173000
DTEND;TZID=America/Chicago:20251021T190000
DTSTAMP:20260420T125102
CREATED:20250928T220037Z
LAST-MODIFIED:20251019T215852Z
UID:29966-1761067800-1761073200@politicaljar.com
SUMMARY:Shell Distinguished Lecture Series: Jack Lew on the US Budget & Debt
DESCRIPTION:Join us for a discussion on the US budget\, debt\, and and policies shaping the future\n\n\nThe Baker Institute for Public Policy welcomes the Honorable Jack Lew\, former U.S. Treasury secretary and ambassador to Israel\, for a Shell Distinguished Lecture on the future of America’s fiscal policy. \nDrawing on decades of service at the highest levels of government — including his leadership as director of the Office of Management and Budget under Presidents Bill Clinton and Barack Obama — Lew will examine the U.S. budget\, the national debt\, and the pivotal role of OMB in shaping the nation’s fiscal future. His insights come at a critical moment\, as debates over federal spending\, deficits and economic priorities remain central to the nation’s outlook. \nIn conversation with Ambassador David Satterfield\, Lew will reflect on lessons from his career in public service\, share perspectives on fiscal and foreign policy\, and discuss the challenges of American leadership in a rapidly shifting global landscape. \nThis event is free and open to the public.
URL:https://politicaljar.com/event/shell-distinguished-lecture-series-jack-lew-on-the-us-budget-debt/
LOCATION:Rice University’s Baker Institute for Public Policy\, 6100 Main Street\, Houston\, TX\, 77005\, United States
ATTACH;FMTTYPE=image/jpeg:https://politicaljar.com/wp-content/uploads/2025/09/03d5b3a134e30606a6e853b67f77ef6f.jpg
END:VEVENT
BEGIN:VEVENT
DTSTART;TZID=America/Chicago:20251021T180000
DTEND;TZID=America/Chicago:20251021T190000
DTSTAMP:20260420T125102
CREATED:20250928T220039Z
LAST-MODIFIED:20251019T215852Z
UID:29968-1761069600-1761073200@politicaljar.com
SUMMARY:Livestream—Shell Distinguished Lecture Series: Jack Lew on the US Budget
DESCRIPTION:Join us virtually for a discussion on the US budget\, debt\, and policies shaping the future\n\n\nThe Baker Institute for Public Policy welcomes the Honorable Jack Lew\, former U.S. Treasury secretary and ambassador to Israel\, for a Shell Distinguished Lecture on the future of America’s fiscal policy. \nDrawing on decades of service at the highest levels of government — including his leadership as director of the Office of Management and Budget under Presidents Bill Clinton and Barack Obama — Lew will examine the U.S. budget\, the national debt\, and the pivotal role of OMB in shaping the nation’s fiscal future. His insights come at a critical moment\, as debates over federal spending\, deficits and economic priorities remain central to the nation’s outlook. \nIn conversation with Ambassador David Satterfield\, Lew will reflect on lessons from his career in public service\, share perspectives on fiscal and foreign policy\, and discuss the challenges of American leadership in a rapidly shifting global landscape. \nThis event is free and open to the public.
URL:https://politicaljar.com/event/livestream-shell-distinguished-lecture-series-jack-lew-on-the-us-budget/
ATTACH;FMTTYPE=image/jpeg:https://politicaljar.com/wp-content/uploads/2025/09/3c24d0089c41f4cac1dfa391a914f24e.jpg
END:VEVENT
BEGIN:VEVENT
DTSTART;TZID=America/New_York:20251021T190000
DTEND;TZID=America/New_York:20251021T190000
DTSTAMP:20260420T125102
CREATED:20251021T024403Z
LAST-MODIFIED:20251021T225904Z
UID:31534-1761073200-1761073200@politicaljar.com
SUMMARY:The President hosts a Rose Garden Club Dinner
DESCRIPTION:Closed Press
URL:https://politicaljar.com/event/the-president-hosts-a-rose-garden-club-dinner-2/
LOCATION:Rose Garden
CATEGORIES:Presidents Schedule
END:VEVENT
END:VCALENDAR