BEGIN:VCALENDAR
VERSION:2.0
PRODID:-//Political Jar - ECPv6.15.20//NONSGML v1.0//EN
CALSCALE:GREGORIAN
METHOD:PUBLISH
X-ORIGINAL-URL:https://politicaljar.com
X-WR-CALDESC:Events for Political Jar
REFRESH-INTERVAL;VALUE=DURATION:PT1H
X-Robots-Tag:noindex
X-PUBLISHED-TTL:PT1H
BEGIN:VTIMEZONE
TZID:America/New_York
BEGIN:DAYLIGHT
TZOFFSETFROM:-0500
TZOFFSETTO:-0400
TZNAME:EDT
DTSTART:20240310T070000
END:DAYLIGHT
BEGIN:STANDARD
TZOFFSETFROM:-0400
TZOFFSETTO:-0500
TZNAME:EST
DTSTART:20241103T060000
END:STANDARD
BEGIN:DAYLIGHT
TZOFFSETFROM:-0500
TZOFFSETTO:-0400
TZNAME:EDT
DTSTART:20250309T070000
END:DAYLIGHT
BEGIN:STANDARD
TZOFFSETFROM:-0400
TZOFFSETTO:-0500
TZNAME:EST
DTSTART:20251102T060000
END:STANDARD
BEGIN:DAYLIGHT
TZOFFSETFROM:-0500
TZOFFSETTO:-0400
TZNAME:EDT
DTSTART:20260308T070000
END:DAYLIGHT
BEGIN:STANDARD
TZOFFSETFROM:-0400
TZOFFSETTO:-0500
TZNAME:EST
DTSTART:20261101T060000
END:STANDARD
END:VTIMEZONE
BEGIN:VTIMEZONE
TZID:America/Chicago
BEGIN:DAYLIGHT
TZOFFSETFROM:-0600
TZOFFSETTO:-0500
TZNAME:CDT
DTSTART:20240310T080000
END:DAYLIGHT
BEGIN:STANDARD
TZOFFSETFROM:-0500
TZOFFSETTO:-0600
TZNAME:CST
DTSTART:20241103T070000
END:STANDARD
BEGIN:DAYLIGHT
TZOFFSETFROM:-0600
TZOFFSETTO:-0500
TZNAME:CDT
DTSTART:20250309T080000
END:DAYLIGHT
BEGIN:STANDARD
TZOFFSETFROM:-0500
TZOFFSETTO:-0600
TZNAME:CST
DTSTART:20251102T070000
END:STANDARD
BEGIN:DAYLIGHT
TZOFFSETFROM:-0600
TZOFFSETTO:-0500
TZNAME:CDT
DTSTART:20260308T080000
END:DAYLIGHT
BEGIN:STANDARD
TZOFFSETFROM:-0500
TZOFFSETTO:-0600
TZNAME:CST
DTSTART:20261101T070000
END:STANDARD
END:VTIMEZONE
BEGIN:VEVENT
DTSTART;TZID=America/New_York:20251020T090000
DTEND;TZID=America/New_York:20251020T090000
DTSTAMP:20260420T055359
CREATED:20251020T015904Z
LAST-MODIFIED:20251020T124400Z
UID:31431-1760950800-1760950800@politicaljar.com
SUMMARY:In-Town Pool Call Time
DESCRIPTION:In-Town Pool
URL:https://politicaljar.com/event/in-town-pool-call-time-221/
END:VEVENT
BEGIN:VEVENT
DTSTART;TZID=America/New_York:20251020T110000
DTEND;TZID=America/New_York:20251020T110000
DTSTAMP:20260420T055359
CREATED:20251020T015905Z
LAST-MODIFIED:20251020T145914Z
UID:31432-1760958000-1760958000@politicaljar.com
SUMMARY:The President greets the Prime Minister of the Commonwealth of Australia
DESCRIPTION:Open Press
URL:https://politicaljar.com/event/the-president-greets-the-prime-minister-of-the-commonwealth-of-australia/
LOCATION:Stakeout Location
END:VEVENT
BEGIN:VEVENT
DTSTART;TZID=America/New_York:20251020T111500
DTEND;TZID=America/New_York:20251020T111500
DTSTAMP:20260420T055359
CREATED:20251020T015906Z
LAST-MODIFIED:20251020T145915Z
UID:31433-1760958900-1760958900@politicaljar.com
SUMMARY:The President participates in a Bilateral Meeting with the Prime Minister of the Commonwealth of Australia
DESCRIPTION:White House Press Pool
URL:https://politicaljar.com/event/the-president-participates-in-a-bilateral-meeting-with-the-prime-minister-of-the-commonwealth-of-australia/
LOCATION:Oval Office
END:VEVENT
BEGIN:VEVENT
DTSTART;TZID=America/New_York:20251020T114500
DTEND;TZID=America/New_York:20251020T114500
DTSTAMP:20260420T055359
CREATED:20251020T015906Z
LAST-MODIFIED:20251020T152915Z
UID:31434-1760960700-1760960700@politicaljar.com
SUMMARY:The President participates in a Bilateral Lunch with the Prime Minister of the Commonwealth of Australia
DESCRIPTION:Closed Press
URL:https://politicaljar.com/event/the-president-participates-in-a-bilateral-lunch-with-the-prime-minister-of-the-commonwealth-of-australia/
LOCATION:Cabinet Room
END:VEVENT
BEGIN:VEVENT
DTSTART;TZID=America/Chicago:20251020T120000
DTEND;TZID=America/Chicago:20251020T140000
DTSTAMP:20260420T055359
CREATED:20251012T215857Z
LAST-MODIFIED:20251019T215851Z
UID:30928-1760961600-1760968800@politicaljar.com
SUMMARY:Texas Policy Forum
DESCRIPTION:This event is open to state legislators and legislative staff\, state government officials\, and Rice University alumni\, at the Texas Capitol.\n\n\nRice University’s Baker Institute for Public Policy invites Texas state legislators and their staff members to a special lunchtime policy briefing at the Texas State Capitol on Monday\, Oct. 20\, from noon to 2:00 pm. \nHear from Baker Institute Director David M. Satterfield and meet experts in public finance\, health\, technology\, security\, and more. This is a unique opportunity to meet our Rice-based scholars in Austin and explore their evidence-based\, nonpartisan research on a broad range of Texas policy issues. \nThe Texas Policy Forum will address some of the state’s most pressing policy challenges\, including budget and tax reform\, school-based health and education outcomes\, the economic impact of research and innovation\, cross-border and trade dynamics\, and the growing influence of housing\, food access\, and infrastructure on community health. \nProgram Highlights: \n\nOpen lunch for state lawmakers and their staffers.\nRemarks by Director David M. Satterfield and other institute experts.\nMeet-and-greet session with institute experts and staff.\n\nThis event is open to state legislators and legislative staff\, state government officials\, and Rice University alumni. Registration is required. \nFor any questions\, email us at bipprsvp@rice.edu.
URL:https://politicaljar.com/event/texas-policy-forum/
LOCATION:1100 Congress Ave. room e1 004\, 1100 Congress Avenue\, #room e1 004\, Austin\, TX\, 78701\, United States
ATTACH;FMTTYPE=image/jpeg:https://politicaljar.com/wp-content/uploads/2025/10/feb2a1181e677dae7cb9a639ad92fcf2.jpg
END:VEVENT
BEGIN:VEVENT
DTSTART;TZID=America/New_York:20251020T160000
DTEND;TZID=America/New_York:20251020T160000
DTSTAMP:20260420T055359
CREATED:20251020T015907Z
LAST-MODIFIED:20251020T195926Z
UID:31435-1760976000-1760976000@politicaljar.com
SUMMARY:The President participates in a visit with the LSU and LSU Shreveport Baseball Champions
DESCRIPTION:Pre-Credentialed Media
URL:https://politicaljar.com/event/the-president-participates-in-a-visit-with-the-lsu-and-lsu-shreveport-baseball-champions/
LOCATION:East Room
END:VEVENT
END:VCALENDAR