BEGIN:VCALENDAR
VERSION:2.0
PRODID:-//Political Jar - ECPv6.15.20//NONSGML v1.0//EN
CALSCALE:GREGORIAN
METHOD:PUBLISH
X-WR-CALNAME:Political Jar
X-ORIGINAL-URL:https://politicaljar.com
X-WR-CALDESC:Events for Political Jar
REFRESH-INTERVAL;VALUE=DURATION:PT1H
X-Robots-Tag:noindex
X-PUBLISHED-TTL:PT1H
BEGIN:VTIMEZONE
TZID:America/New_York
BEGIN:DAYLIGHT
TZOFFSETFROM:-0500
TZOFFSETTO:-0400
TZNAME:EDT
DTSTART:20240310T070000
END:DAYLIGHT
BEGIN:STANDARD
TZOFFSETFROM:-0400
TZOFFSETTO:-0500
TZNAME:EST
DTSTART:20241103T060000
END:STANDARD
BEGIN:DAYLIGHT
TZOFFSETFROM:-0500
TZOFFSETTO:-0400
TZNAME:EDT
DTSTART:20250309T070000
END:DAYLIGHT
BEGIN:STANDARD
TZOFFSETFROM:-0400
TZOFFSETTO:-0500
TZNAME:EST
DTSTART:20251102T060000
END:STANDARD
BEGIN:DAYLIGHT
TZOFFSETFROM:-0500
TZOFFSETTO:-0400
TZNAME:EDT
DTSTART:20260308T070000
END:DAYLIGHT
BEGIN:STANDARD
TZOFFSETFROM:-0400
TZOFFSETTO:-0500
TZNAME:EST
DTSTART:20261101T060000
END:STANDARD
END:VTIMEZONE
BEGIN:VTIMEZONE
TZID:America/Los_Angeles
BEGIN:DAYLIGHT
TZOFFSETFROM:-0800
TZOFFSETTO:-0700
TZNAME:PDT
DTSTART:20240310T100000
END:DAYLIGHT
BEGIN:STANDARD
TZOFFSETFROM:-0700
TZOFFSETTO:-0800
TZNAME:PST
DTSTART:20241103T090000
END:STANDARD
BEGIN:DAYLIGHT
TZOFFSETFROM:-0800
TZOFFSETTO:-0700
TZNAME:PDT
DTSTART:20250309T100000
END:DAYLIGHT
BEGIN:STANDARD
TZOFFSETFROM:-0700
TZOFFSETTO:-0800
TZNAME:PST
DTSTART:20251102T090000
END:STANDARD
BEGIN:DAYLIGHT
TZOFFSETFROM:-0800
TZOFFSETTO:-0700
TZNAME:PDT
DTSTART:20260308T100000
END:DAYLIGHT
BEGIN:STANDARD
TZOFFSETFROM:-0700
TZOFFSETTO:-0800
TZNAME:PST
DTSTART:20261101T090000
END:STANDARD
END:VTIMEZONE
BEGIN:VEVENT
DTSTART;TZID=America/New_York:20251019T071500
DTEND;TZID=America/New_York:20251019T071500
DTSTAMP:20260420T103848
CREATED:20251018T011356Z
LAST-MODIFIED:20251019T111359Z
UID:31317-1760858100-1760858100@politicaljar.com
SUMMARY:Out-of-Town Travel Pool Call Time
DESCRIPTION:Out-of-Town Travel Pool
URL:https://politicaljar.com/event/out-of-town-travel-pool-call-time-65/
LOCATION:Mar-a-Lago
CATEGORIES:Presidents Schedule
END:VEVENT
BEGIN:VEVENT
DTSTART;TZID=America/Los_Angeles:20251019T080000
DTEND;TZID=America/Los_Angeles:20251019T120000
DTSTAMP:20260420T103848
CREATED:20250127T025135Z
LAST-MODIFIED:20250929T041525Z
UID:6688-1760860800-1760875200@politicaljar.com
SUMMARY:Camp Congress for Youth San Diego 2025
DESCRIPTION:It’s all civics & fun. Girls and boys study government\, run for office\, vote and convene a mock session of Congress to pass a bill.\n\n\nCamp Congress for Girls San Diego 2025 is a leadership program that introduces girls to U.S. politics. Camp begins with a lesson on the structure of our political system. Each girl will choose to run for a seat in the US House of Representatives\, the US Senate or for the presidency. She will create her own campaign with a platform\, campaign finance plan\, and film a political ad. All campers will register to vote and then vote in an election. Once elected to Congress and sworn in\, the newly installed members of Congress will learn how to introduce a bill\, debate the merits of the bill\, lobby fellow legislators\, collaborate with the Executive branch and finally vote on the proposed bill. Camp will culminate with a ceremonial signing of the bill by our Ms. President. All participants will receive Certificate of Completion. Girl Scouts earn a badge for participation. \nFor additional information contact us at +1 866-277-2123 extension 1\, via email at info@girlsinpolitics.com or visit our website at www.girlsinpolitics.com. Ticketing options for girls ages 8-11 and 12-17. Please no solicitation emails or calls. We do not book speakers\, book vendors or recruit volunteers for events. \nFrequently Asked Questions \nIs this event a drop-off? All camps are drop-off unless parent participation is indicated. Parents may wait at the venue for the duration of the camp in any of the lounge or seating area throughout the hotel. The meeting room space capacity can only accommodate students and staff. \nIs the registration fee refundable? The registration fee is non-refundable unless the organizer cancels the session. If a participant is unable to attend a session a credit will be placed on file that may be used at any time for a future program. The credit does not expire. \nIs this a partisan program or supported by a political party? No\, the Girls in Politics Initiative is an independent organization that is self-funded through the fees generated from hosting sessions. The curriculum is civic education. \nIs financial assistance available? Due to rising costs associated with hosting events\, there is no financial assistance available for this event and there is no promo code for this event. \nWho are the instructors? Our Lead Instructors are women that currently or have previously worked in government or electoral politics. Our support staff are current or former licensed teachers. All instructors and support staff undergo background screening. All instructors and support staff are also in compliance with any local ordinances or state/provincial regulations applicable to those working with children.
URL:https://politicaljar.com/event/camp-congress-for-girls-youth-san-diego-2025/
LOCATION:2592 Laning Rd\, 2592 Laning Road\, San Diego\, CA\, 92106\, United States
ATTACH;FMTTYPE=image/jpeg:https://politicaljar.com/wp-content/uploads/2025/01/598ebed348deb1c703827bfd361fc26a.jpg
END:VEVENT
BEGIN:VEVENT
DTSTART;TZID=America/Los_Angeles:20251019T080000
DTEND;TZID=America/Los_Angeles:20251019T120000
DTSTAMP:20260420T103848
CREATED:20250127T025208Z
LAST-MODIFIED:20251013T041502Z
UID:6701-1760860800-1760875200@politicaljar.com
SUMMARY:Camp Congress for Youth Sacramento 2025
DESCRIPTION:It’s all civics & fun. Girls and boys study government\, run for office\, vote and convene a mock session of Congress to pass a bill.\n\n\nCamp Congress for Youth Sacramento 2025 is a leadership program that introduces girls and boys to the United States political system. Camp begins with a lesson on the structure of our political system. Each student will choose to run for a seat in the US House of Representatives\, the US Senate or for the presidency. Students will create a campaign with a platform\, campaign finance plan\, and film a political ad. All campers will register to vote and then vote in an election. Once elected to Congress and sworn in\, the newly installed members of Congress will learn how to introduce a bill\, debate the merits of the bill\, lobby fellow legislators\, collaborate with the Executive branch and finally vote on the proposed bill. Camp will culminate with a ceremonial signing of the bill by our President. All participants will receive Certificate of Completion. \nFor additional information contact us at +1 866-277-2123 extension 1\, via email at info@girlsinpolitics.com or visit our website at www.girlsinpolitics.com. Ticketing options for girls ages 8-11 and 12-17. Please no solicitation emails or calls. We do not book speakers\, book vendors or recruit volunteers for events. \nFrequently Asked Questions \nIs this event a drop-off? All camps are drop-off unless parent participation is indicated. Parents may wait at the venue for the duration of the camp in any of the lounge or seating area throughout the hotel. The meeting room space capacity can only accommodate students and staff. \nIs the registration fee refundable? The registration fee is non-refundable unless the organizer cancels the session. If a participant is unable to attend a session a credit will be placed on file that may be used at any time for a future program. The credit does not expire. \nIs this a partisan program or supported by a political party? No\, the Girls in Politics Initiative is an independent organization that is self-funded through the fees generated from hosting sessions. The curriculum is civic education. \nIs financial assistance available? Due to rising costs associated with hosting events\, there is no financial assistance available for this event and there is no promo code for this event. \nWho are the instructors? Our Lead Instructors are women that currently or have previously worked in government or electoral politics. Our support staff are current or former licensed teachers. All instructors and support staff undergo background screening. All instructors and support staff are also in compliance with any local ordinances or state/provincial regulations applicable to those working with children.
URL:https://politicaljar.com/event/camp-congress-for-youth-sacramento-2025/
LOCATION:2101 River Plaza Dr\, 2101 River Plaza Drive\, Sacramento\, CA\, 95833\, United States
ATTACH;FMTTYPE=image/jpeg:https://politicaljar.com/wp-content/uploads/2025/01/eacd1296704e3c3edfd59daddd90b00d.jpg
END:VEVENT
BEGIN:VEVENT
DTSTART;TZID=America/Los_Angeles:20251019T130000
DTEND;TZID=America/Los_Angeles:20251019T170000
DTSTAMP:20260420T103848
CREATED:20250825T041559Z
LAST-MODIFIED:20251013T041522Z
UID:27808-1760878800-1760893200@politicaljar.com
SUMMARY:Camp Congress for Girls Sacramento 2025
DESCRIPTION:It’s all fun & civics at Camp Congress for Girls Sacramento 2025. Young leaders study government\, run for office & pass a bill.\n\n\nCamp Congress for Girls Sacramento 2025 is a leadership program that introduces girls to U.S. politics. Camp begins with a lesson on the structure of our political system. Each girl will choose to run for a seat in the US House of Representatives\, the US Senate or for the presidency. She will create her own campaign with a platform\, campaign finance plan\, and film a political ad. All campers will register to vote and then vote in an election. Once elected to Congress and sworn in\, the newly installed members of Congress will learn how to introduce a bill\, debate the merits of the bill\, lobby fellow legislators\, collaborate with the Executive branch and finally vote on the proposed bill. Camp will culminate with a ceremonial signing of the bill by our Ms. President. All participants will receive Certificate of Completion. \nFor additional information contact us at +1 866-277-2123 extension 1\, via email at info@girlsinpolitics.com or visit our website at www.girlsinpolitics.com. Ticketing options for girls ages 8-11 and 12-17. Please no solicitation emails or calls. We do not book speakers\, book vendors or recruit volunteers for events. \nFrequently Asked Questions \nIs this event a drop-off? All camps are drop-off unless parent participation is indicated. Parents may wait at the venue for the duration of the camp in any of the lounge or seating area throughout the hotel. The meeting room space capacity can only accommodate students and staff. \nIs the registration fee refundable? The registration fee is non-refundable unless the organizer cancels the session. If a participant is unable to attend a session a credit will be placed on file that may be used at any time for a future program. The credit does not expire. \nIs this a partisan program or supported by a political party? No\, the Girls in Politics Initiative is an independent organization that is self-funded through the fees generated from hosting sessions. The curriculum is civic education. \nIs financial assistance available? Due to rising costs associated with hosting events\, there is no financial assistance available for this event and there is no promo code for this event. \nWho are the instructors? Our Lead Instructors are women that currently or have previously worked in government or electoral politics. Our support staffers are current or former licensed teachers. All instructors and support staff undergo background screening. All instructors and support staff are also in compliance with any local ordinances or state/provincial regulations applicable to those working with children.
URL:https://politicaljar.com/event/camp-congress-for-girls-sacramento-2025/
LOCATION:2101 River Plaza Dr\, 2101 River Plaza Drive\, Sacramento\, CA\, 95833\, United States
ATTACH;FMTTYPE=image/jpeg:https://politicaljar.com/wp-content/uploads/2025/08/b5ce21589e0eb86e65dcba7f320824fd.jpg
END:VEVENT
BEGIN:VEVENT
DTSTART;TZID=America/New_York:20251019T172500
DTEND;TZID=America/New_York:20251019T172500
DTSTAMP:20260420T103848
CREATED:20251018T011357Z
LAST-MODIFIED:20251019T205901Z
UID:31318-1760894700-1760894700@politicaljar.com
SUMMARY:The President departs Palm Beach\, Florida en route The White House
DESCRIPTION:Out-of-Town Travel Pool
URL:https://politicaljar.com/event/the-president-departs-palm-beach-florida-en-route-the-white-house/
LOCATION:Mar-a-Lago
CATEGORIES:Presidents Schedule
END:VEVENT
BEGIN:VEVENT
DTSTART;TZID=America/New_York:20251019T190000
DTEND;TZID=America/New_York:20251019T190000
DTSTAMP:20260420T103848
CREATED:20251018T011358Z
LAST-MODIFIED:20251019T224415Z
UID:31319-1760900400-1760900400@politicaljar.com
SUMMARY:In-Town Pool Call Time
DESCRIPTION:In-Town Pool
URL:https://politicaljar.com/event/in-town-pool-call-time-220/
LOCATION:The White House
CATEGORIES:Presidents Schedule
END:VEVENT
BEGIN:VEVENT
DTSTART;TZID=America/New_York:20251019T195000
DTEND;TZID=America/New_York:20251019T195000
DTSTAMP:20260420T103848
CREATED:20251018T011358Z
LAST-MODIFIED:20251019T232903Z
UID:31320-1760903400-1760903400@politicaljar.com
SUMMARY:The President arrives The White House
DESCRIPTION:Open Press
URL:https://politicaljar.com/event/the-president-arrives-the-white-house-59/
LOCATION:The White House
CATEGORIES:Presidents Schedule
END:VEVENT
END:VCALENDAR