BEGIN:VCALENDAR
VERSION:2.0
PRODID:-//Political Jar - ECPv6.15.20//NONSGML v1.0//EN
CALSCALE:GREGORIAN
METHOD:PUBLISH
X-ORIGINAL-URL:https://politicaljar.com
X-WR-CALDESC:Events for Political Jar
REFRESH-INTERVAL;VALUE=DURATION:PT1H
X-Robots-Tag:noindex
X-PUBLISHED-TTL:PT1H
BEGIN:VTIMEZONE
TZID:UTC
BEGIN:STANDARD
TZOFFSETFROM:+0000
TZOFFSETTO:+0000
TZNAME:UTC
DTSTART:20240101T000000
END:STANDARD
END:VTIMEZONE
BEGIN:VTIMEZONE
TZID:America/New_York
BEGIN:DAYLIGHT
TZOFFSETFROM:-0500
TZOFFSETTO:-0400
TZNAME:EDT
DTSTART:20240310T070000
END:DAYLIGHT
BEGIN:STANDARD
TZOFFSETFROM:-0400
TZOFFSETTO:-0500
TZNAME:EST
DTSTART:20241103T060000
END:STANDARD
BEGIN:DAYLIGHT
TZOFFSETFROM:-0500
TZOFFSETTO:-0400
TZNAME:EDT
DTSTART:20250309T070000
END:DAYLIGHT
BEGIN:STANDARD
TZOFFSETFROM:-0400
TZOFFSETTO:-0500
TZNAME:EST
DTSTART:20251102T060000
END:STANDARD
BEGIN:DAYLIGHT
TZOFFSETFROM:-0500
TZOFFSETTO:-0400
TZNAME:EDT
DTSTART:20260308T070000
END:DAYLIGHT
BEGIN:STANDARD
TZOFFSETFROM:-0400
TZOFFSETTO:-0500
TZNAME:EST
DTSTART:20261101T060000
END:STANDARD
END:VTIMEZONE
BEGIN:VEVENT
DTSTART;TZID=UTC:20251016T083000
DTEND;TZID=UTC:20251016T083000
DTSTAMP:20260419T232822
CREATED:20250125T185947Z
LAST-MODIFIED:20250222T090126Z
UID:6254-1760603400-1760603400@politicaljar.com
SUMMARY:Producer Price Index
DESCRIPTION:
URL:https://politicaljar.com/event/producer-price-index-9/
LOCATION:Washington\, DC
CATEGORIES:BLS,IMPORTANT
END:VEVENT
BEGIN:VEVENT
DTSTART;TZID=America/New_York:20251016T090000
DTEND;TZID=America/New_York:20251016T090000
DTSTAMP:20260419T232822
CREATED:20251016T020019Z
LAST-MODIFIED:20251016T124412Z
UID:31198-1760605200-1760605200@politicaljar.com
SUMMARY:In-Town Pool Call Time
DESCRIPTION:In-Town Pool
URL:https://politicaljar.com/event/in-town-pool-call-time-218/
LOCATION:The White House
END:VEVENT
BEGIN:VEVENT
DTSTART;TZID=America/New_York:20251016T110000
DTEND;TZID=America/New_York:20251016T110000
DTSTAMP:20260419T232822
CREATED:20251016T020020Z
LAST-MODIFIED:20251016T145908Z
UID:31199-1760612400-1760612400@politicaljar.com
SUMMARY:The President receives his Intelligence Briefing
DESCRIPTION:Closed Press
URL:https://politicaljar.com/event/the-president-receives-his-intelligence-briefing-31/
LOCATION:Oval Office
END:VEVENT
BEGIN:VEVENT
DTSTART;TZID=America/New_York:20251016T150000
DTEND;TZID=America/New_York:20251016T150000
DTSTAMP:20260419T232822
CREATED:20251016T020021Z
LAST-MODIFIED:20251016T185907Z
UID:31200-1760626800-1760626800@politicaljar.com
SUMMARY:The President makes an Announcement
DESCRIPTION:White House Press Pool
URL:https://politicaljar.com/event/the-president-makes-an-announcement-6/
LOCATION:Oval Office
END:VEVENT
BEGIN:VEVENT
DTSTART;TZID=America/New_York:20251016T163000
DTEND;TZID=America/New_York:20251016T180000
DTSTAMP:20260419T232822
CREATED:20250928T224431Z
LAST-MODIFIED:20251012T224401Z
UID:29978-1760632200-1760637600@politicaljar.com
SUMMARY:Tech and Well-Being: Issues of Policy & Practice
DESCRIPTION:Exploring the promises and perils of data-driven systems\n\n\nHow do emerging technologies influence our sense of well-being? From predictive analytics in social services to the role of social media in youth mental health\, this event explores both the promises and perils of data-driven systems. Featuring experts in AI\, homelessness policy\, and digital sociology\, we’ll discuss how technology is reshaping care\, community\, and democracy. \nSpeakers: Dennis Culhane\, PhD\, Shana Kleiner\, LMS\, Isabel Algrant\, and Ken Miles. Moderated by Anthony Shaw\, MPM\, EdM \n——– \nSpeaker Biographies:Dennis P. Culhane\, PhD \n\nProfessor\nDana and Andrew Stone Chair in Social Policy\nCo-Principal Investigator\, Actionable Intelligence for Social Policy (AISP)Dennis P. Culhane is a social science researcher with primary expertise in the area of homelessness and assisted housing policy. His work has contributed to efforts to address the housing and support needs of people experiencing housing emergencies and long-term homelessness.\n\nMost recently\, Culhane’s research has focused on using linked administrative data to gain a better understanding about the service utilization patterns of vulnerable populations\, including youth exiting foster care and/or juvenile justice\, as well as the individuals aged 55 and older who are experiencing homelessness. \nDr. Culhane’s research also focuses on homelessness among veterans. From July 2009 – June 2018 he served as Director of Research at the National Center on Homelessness Among Veterans\, an initiative of the U.S. Department of Veterans Affairs. \nDr. Culhane also co-directs Actionable Intelligence for Social Policy (AISP)\, an initiative that promotes the development\, use\, and innovation of integrated data systems by states and localities for policy analysis and systems reform. \n \nShana Kleiner\, LMSW \n\nManager\, Center for Responsible Innovation & Technology\nAssistant Director\, SAFELab & Penn Center for Inclusive Innovation & Technology\n\nShana Kleiner received her Master’s in Social Work from Columbia University and her Bachelor’s in Social Work from Skidmore College. She currently serves as Manager of the Center for Responsible Innovation & Technology and as Assistant Director for both SAFELab and the Penn Center for Inclusive Innovation & Technology. Previously\, she worked as a policy analyst for a nonprofit providing legal services for survivors of domestic and sexual violence\, where she developed expertise in qualitative research methods and knowledge translation. \nIn her current role\, she researches digital expressions of grief and theoretical approaches to analyzing digital communication and language. Her research interests include online identity performance\, particularly in relation to resilience and coping strategies. At SAFELab\, she supervises graduate students\, organizes lab activities\, and conducts creative outreach alongside her research. Shana was also a fellow at the MDOCS Storytellers’ Institute\, where she collaborated with artists\, writers\, and filmmakers on projects centered on co-creation. \nHer personal interests include film\, vintage shopping\, and swimming. \nIsabel Algrant \n\nAssistant Director of Training and Technical Assistance at Actionable Intelligence for Social Policy (AISP)\n\nIsabel is the Assistant Director of Training and Technical Assistance at Actionable Intelligence for Social Policy (AISP). She works with the Director of Training and Technical Assistance to create sustainable data governance\, centering community voice\, especially for those most marginalized. Before joining AISP\, Isabel taught 8th grade Math and Science at the Dwight-Englewood School. She has served as an intern at the Philadelphia City Council and hosts the “Why Are My Students Acting Like Children?” podcast. She has a Masters in Social Policy and Data Analysis from SP2 at the University of Pennsylvania\, a BA in Government and Theater from Wesleyan University. She is a lover of theater and all things art. \nKen Miles \n\nExecutive Director\, Penn Center for Inclusiuve Innovation & Technology (PCIIT)\n\nKen Miles is the Executive Director of the Penn Center for Inclusive Innovation & Technology (PCIIT) at SP2. PCIIT is an activation hub connecting local communities\, practitioners\, and technologists to advance care-centered models of innovation. The Center translates research into practice\, expands access and builds partnerships\, and advances responsible AI practices and emerging technologies to bridge community-rooted innovation with opportunities far beyond. \nKen Miles is a strategist\, producer\, and network builder\, actively fostering critical connections among people\, spaces\, and ideas. With over a decade of experience in both public and private sectors\, Ken leads initiatives that drive positive outcomes through the development of stakeholder relationships\, community engagement\, and creative activations. \nBefore joining the Penn Center for Inclusive Innovation & Technology\, Ken served as a Strategy Director for a digital agency with a focus on narrative change. As the Program Leader for West Harlem Development Corporation’s summer enrichment program\, he administered academic and financial support annually with over one hundred community teens. Additionally\, he held the position of Director of Strategic Partnerships at a health equity startup founded by a member of President Obama’s Fitness Sports & Nutrition Advisory Council. Ken began his career at NBC Universal\, where he contributed to the production of Emmy-nominated digital Olympics content. \nAs an Entrepreneur-in-Residence at Civic Hall\, Ken launched an initiative aimed at bolstering marketing support for Black-owned businesses in Harlem. His entrepreneurial ventures expanded to partnerships designed to center equity\, community\, and culture. This includes his involvement in regional voter engagement efforts through Pharrell Williams’ music festival and his role as an associate producer for Ben & Jerry’s “Into The Mix” season one podcast\, where he elevated stories of joy and justice. Ken currently serves as a judge through MIT Solve for the Truist Foundation’s Inspire Awards\, driving positive impact for small businesses. \nKen holds a BA in Political Science from Vassar College\, where he later served on their Board of Trustees. He is a Columbia University A’Lelia Bundles Community Scholar\, and has been a longstanding Harlem community board member. \nAnthony Shaw\, MPM\, EdM \n\nStudent\, PhD in Social Welfare\nGloria Twine Chisum Fellow\n\nAnthony Shaw\, EdM\, MPM\, is a doctoral student in Social Welfare at the University of Pennsylvania’s School of Social Policy and Practice. Shaw’s research sits at the intersection of Policy\, Technology\, and Race\, exploring the relationships between structural racism\, the under-representation of Black developers in AI design\, and the portrayal of Blackness in the digital world. His work examines how representations and user experiences reinforce anti-Blackness and perpetuate the oppression of Black communities. His academic trajectory and research agenda have been shaped by his lived experiences growing up in North Philadelphia\, where he witnessed firsthand the impact of disinvestment\, poverty\, and violence on marginalized communities.Specifically\, Shaw’s work critically examines how Black males engage with AI and social media\, how these engagements shape their behaviors\, self-perceptions\, and mental wellness\, and the broader implications for social behavioral theory. By following this population\, Shaw seeks to analyze the consequences of past policy decisions and their impact on the lived experiences of marginalized communities. One core question that anchors his scholarship is\, “How do AI and social media shape and perpetuate narratives of violence\, construct racialized identities\, and reinforce systemic exclusion?” His broader research interests include algorithmic governance\, digital ethics\, and the evolving relationship between AI\, policy-making\, and structural inequality. Through his work\, he seeks to uncover the systemic barriers that perpetuate racial and economic inequities while highlighting the potential for AI to be leveraged in service of social justice.His work highlights how the underrepresentation of Black developers in AI design results in algorithmic biases that reinforce racial stereotypes and contribute to the marginalization of Black communities. By examining the intersection of AI\, racial bias\, and technological exclusion\, Shaw aims to bridge the gap between online interactions and real-world violence\, ultimately contributing to AI-driven policy interventions that foster community resilience and equitable technology development. \nShaw holds a BA in Political Science from Temple University\, a Master’s in School Leadership & Development from Harvard University’s Graduate School in Education\, and a Master’s in Policy Management from Georgetown University’s McCourt School of Public Policy.
URL:https://politicaljar.com/event/tech-and-well-being-issues-of-policy-practice/
LOCATION:Perelman Center for Political Science and Economics\, 133 South 36th Street\, Suite 335\, Philadelphia\, PA\, 19104\, United States
ATTACH;FMTTYPE=image/jpeg:https://politicaljar.com/wp-content/uploads/2025/10/a48061653375c9073ad80cd8d59cf884.jpg
END:VEVENT
BEGIN:VEVENT
DTSTART;TZID=America/New_York:20251016T163000
DTEND;TZID=America/New_York:20251016T180000
DTSTAMP:20260419T232822
CREATED:20250930T192909Z
LAST-MODIFIED:20250930T192909Z
UID:30125-1760632200-1760637600@politicaljar.com
SUMMARY:Innovation Across Borders: Technology\, Culture\, Policy\, + Inclusive Futures
DESCRIPTION:From Kyoto to the Caucasus: Transferring Inclusive Innovation from Japanese Subcultures to Georgia and Beyond\n\n\nInnovation today is at a crossroads: while AI and emerging technologies promise transformation\, innovation ecosystems often reinforce exclusion and technoableism. Japan offers a living laboratory for inclusive innovation. This research at Kyoto Institute of Technology introduces “strategic drifting”. and an adaptive design framework that integrates co-design\, cultural values\, and environmental sustainability to foster inclusive entrepreneurship. Fieldwork in Okinawa demonstrates how participatory innovation -from coral restoration led by individuals with cognitive differences to software co-design by neurodiverse teams – creates multidimensional value: economic\, social\, cultural\, and ecological. Anchored in Japanese philosophies such as ikigai and minimalism\, these insights reveal how culture and inclusion co-create systemic impact. The study further explores the transfer of these practices to Georgia\, Eastern Europe\, and Central Asia\, outlining strategies for inclusive innovation funds\, ecosystem mapping\, and culturally resonant policy frameworks. This work invites policymakers\, researchers\, and practitioners to reconceptualize innovation not merely as technological progress but as a lever for social belonging\, equity\, and sustainable value creation.
URL:https://politicaljar.com/event/innovation-across-borders-technology-culture-policy-inclusive-futures/
LOCATION:CGIS South\, 1730 Cambridge Street\, Cambridge\, MA\, 02138\, United States
ATTACH;FMTTYPE=image/jpeg:https://politicaljar.com/wp-content/uploads/2025/09/74847364309fb6990ebd150ae88cf67c.jpg
END:VEVENT
END:VCALENDAR