BEGIN:VCALENDAR
VERSION:2.0
PRODID:-//Political Jar - ECPv6.15.20//NONSGML v1.0//EN
CALSCALE:GREGORIAN
METHOD:PUBLISH
X-WR-CALNAME:Political Jar
X-ORIGINAL-URL:https://politicaljar.com
X-WR-CALDESC:Events for Political Jar
REFRESH-INTERVAL;VALUE=DURATION:PT1H
X-Robots-Tag:noindex
X-PUBLISHED-TTL:PT1H
BEGIN:VTIMEZONE
TZID:America/Chicago
BEGIN:DAYLIGHT
TZOFFSETFROM:-0600
TZOFFSETTO:-0500
TZNAME:CDT
DTSTART:20240310T080000
END:DAYLIGHT
BEGIN:STANDARD
TZOFFSETFROM:-0500
TZOFFSETTO:-0600
TZNAME:CST
DTSTART:20241103T070000
END:STANDARD
BEGIN:DAYLIGHT
TZOFFSETFROM:-0600
TZOFFSETTO:-0500
TZNAME:CDT
DTSTART:20250309T080000
END:DAYLIGHT
BEGIN:STANDARD
TZOFFSETFROM:-0500
TZOFFSETTO:-0600
TZNAME:CST
DTSTART:20251102T070000
END:STANDARD
BEGIN:DAYLIGHT
TZOFFSETFROM:-0600
TZOFFSETTO:-0500
TZNAME:CDT
DTSTART:20260308T080000
END:DAYLIGHT
BEGIN:STANDARD
TZOFFSETFROM:-0500
TZOFFSETTO:-0600
TZNAME:CST
DTSTART:20261101T070000
END:STANDARD
END:VTIMEZONE
BEGIN:VTIMEZONE
TZID:UTC
BEGIN:STANDARD
TZOFFSETFROM:+0000
TZOFFSETTO:+0000
TZNAME:UTC
DTSTART:20240101T000000
END:STANDARD
END:VTIMEZONE
BEGIN:VTIMEZONE
TZID:America/New_York
BEGIN:DAYLIGHT
TZOFFSETFROM:-0500
TZOFFSETTO:-0400
TZNAME:EDT
DTSTART:20240310T070000
END:DAYLIGHT
BEGIN:STANDARD
TZOFFSETFROM:-0400
TZOFFSETTO:-0500
TZNAME:EST
DTSTART:20241103T060000
END:STANDARD
BEGIN:DAYLIGHT
TZOFFSETFROM:-0500
TZOFFSETTO:-0400
TZNAME:EDT
DTSTART:20250309T070000
END:DAYLIGHT
BEGIN:STANDARD
TZOFFSETFROM:-0400
TZOFFSETTO:-0500
TZNAME:EST
DTSTART:20251102T060000
END:STANDARD
BEGIN:DAYLIGHT
TZOFFSETFROM:-0500
TZOFFSETTO:-0400
TZNAME:EDT
DTSTART:20260308T070000
END:DAYLIGHT
BEGIN:STANDARD
TZOFFSETFROM:-0400
TZOFFSETTO:-0500
TZNAME:EST
DTSTART:20261101T060000
END:STANDARD
END:VTIMEZONE
BEGIN:VTIMEZONE
TZID:America/Denver
BEGIN:DAYLIGHT
TZOFFSETFROM:-0700
TZOFFSETTO:-0600
TZNAME:MDT
DTSTART:20240310T090000
END:DAYLIGHT
BEGIN:STANDARD
TZOFFSETFROM:-0600
TZOFFSETTO:-0700
TZNAME:MST
DTSTART:20241103T080000
END:STANDARD
BEGIN:DAYLIGHT
TZOFFSETFROM:-0700
TZOFFSETTO:-0600
TZNAME:MDT
DTSTART:20250309T090000
END:DAYLIGHT
BEGIN:STANDARD
TZOFFSETFROM:-0600
TZOFFSETTO:-0700
TZNAME:MST
DTSTART:20251102T080000
END:STANDARD
BEGIN:DAYLIGHT
TZOFFSETFROM:-0700
TZOFFSETTO:-0600
TZNAME:MDT
DTSTART:20260308T090000
END:DAYLIGHT
BEGIN:STANDARD
TZOFFSETFROM:-0600
TZOFFSETTO:-0700
TZNAME:MST
DTSTART:20261101T080000
END:STANDARD
END:VTIMEZONE
BEGIN:VEVENT
DTSTART;TZID=America/Chicago:20251015T080000
DTEND;TZID=America/Chicago:20251015T120000
DTSTAMP:20260420T024446
CREATED:20250914T215921Z
LAST-MODIFIED:20251012T215856Z
UID:29033-1760515200-1760529600@politicaljar.com
SUMMARY:COP30 in the Amazon: A Strategic Dialogue for Climate Action
DESCRIPTION:Join us for a discussion about outcomes of past COP meetings and to identify key challenges and opportunities for the upcoming COP30.\n\n\nThe Baker Institute’s Center for Energy Studies\, the Brazilian Petroleum Institute\, and the Brazil-Texas Chamber of Commerce invite you to a hybrid event on the upcoming COP30 climate meeting in Belém\, Brazil. This landmark event\, marking the first COP in the Amazon and the first in the Western Hemisphere in over a decade\, presents an opportunity to delve into critical topics and strategies for advancing climate action and sustainability leadership in Brazil and the Americas. \nThe conversation aims to: \n\nReview outcomes of past COP meetings and identify key challenges and opportunities for the upcoming COP30.\nAddress critical topics relevant to stakeholders.\nProvide insights from experts in the energy\, mining and petrochemical sectors.\n\nThis event is free and open to the public and is being held fully through Zoom. Register here to attend. \nFollow @CES_Baker_Inst on X to join the conversation online with #BakerEnergy.
URL:https://politicaljar.com/event/cop30-in-the-amazon-a-strategic-dialogue-for-climate-action/
LOCATION:Rice University’s Baker Institute for Public Policy\, 6100 Main Street\, Houston\, TX\, 77005\, United States
ATTACH;FMTTYPE=image/jpeg:https://politicaljar.com/wp-content/uploads/2025/09/42e82681aa08b14de5479630eb6a9935.jpg
END:VEVENT
BEGIN:VEVENT
DTSTART;TZID=UTC:20251015T083000
DTEND;TZID=UTC:20251015T083000
DTSTAMP:20260420T024446
CREATED:20250125T185945Z
LAST-MODIFIED:20250222T090125Z
UID:6252-1760517000-1760517000@politicaljar.com
SUMMARY:Real Earnings
DESCRIPTION:
URL:https://politicaljar.com/event/real-earnings-9/
LOCATION:Washington\, DC
CATEGORIES:BLS,IMPORTANT
END:VEVENT
BEGIN:VEVENT
DTSTART;TZID=UTC:20251015T083000
DTEND;TZID=UTC:20251015T083000
DTSTAMP:20260420T024446
CREATED:20250125T185946Z
LAST-MODIFIED:20250222T090125Z
UID:6253-1760517000-1760517000@politicaljar.com
SUMMARY:Consumer Price Index
DESCRIPTION:
URL:https://politicaljar.com/event/consumer-price-index-9/
LOCATION:Washington\, DC
CATEGORIES:BLS,IMPORTANT
END:VEVENT
BEGIN:VEVENT
DTSTART;TZID=America/New_York:20251015T090000
DTEND;TZID=America/New_York:20251015T090000
DTSTAMP:20260420T024446
CREATED:20251015T022901Z
LAST-MODIFIED:20251015T124403Z
UID:31142-1760518800-1760518800@politicaljar.com
SUMMARY:In-Town Pool Call Time
DESCRIPTION:In-Town Pool
URL:https://politicaljar.com/event/in-town-pool-call-time-217/
END:VEVENT
BEGIN:VEVENT
DTSTART;TZID=America/New_York:20251015T150000
DTEND;TZID=America/New_York:20251015T150000
DTSTAMP:20260420T024446
CREATED:20251015T022902Z
LAST-MODIFIED:20251015T185901Z
UID:31143-1760540400-1760540400@politicaljar.com
SUMMARY:The President participates in a Press Conference with the Director of the Federal Bureau of Investigation
DESCRIPTION:White House Press Pool
URL:https://politicaljar.com/event/the-president-participates-in-a-press-conference-with-the-director-of-the-federal-bureau-of-investigation/
LOCATION:Oval Office
END:VEVENT
BEGIN:VEVENT
DTSTART;TZID=America/New_York:20251015T163000
DTEND;TZID=America/New_York:20251015T180000
DTSTAMP:20260420T024446
CREATED:20250831T191358Z
LAST-MODIFIED:20250930T192909Z
UID:28171-1760545800-1760551200@politicaljar.com
SUMMARY:Reconfiguring Diaspora: Jews and Polish Solidarność in the 1980s
DESCRIPTION:This talk by the Oxford historian Katherine Lebow explores not only how Polish Jews shaped Solidarity\, but how Solidarity shaped Polish Jews\n\n\nThe fact that Jews and those of Jewish descent played an outsized role in the democratic opposition in Poland in the 1980s\, including the Solidarity (Solidarność) movement\, has been little acknowledged or studied. This talk explores not only how Polish Jews shaped Solidarity\, but how Solidarity shaped Polish Jews. Solidarity served as a space for the reinvention of Jewish identities and a crucial vector of relations with the global Jewish diaspora. Yet these relations were marked by tension and competing visions of diaspora\, culminating in the controversies surrounding the 40th anniversary commemorations of the Warsaw Ghetto Uprising in 1983. The talk concludes by asking what the story of Solidarity and its Jewish supporters might tell us about broader reconfigurations of global Jewish politics in the 1980s.
URL:https://politicaljar.com/event/reconfiguring-diaspora-jews-and-polish-solidarnosc-in-the-1980s/
LOCATION:Center for Government and International Studies South Building\, 1730 Cambridge Street\, s354\, Cambridge\, MA\, 02138\, United States
ATTACH;FMTTYPE=image/jpeg:https://politicaljar.com/wp-content/uploads/2025/08/88b50c7f5ea91a3962c51fcd40e13878.jpg
END:VEVENT
BEGIN:VEVENT
DTSTART;TZID=America/New_York:20251015T170000
DTEND;TZID=America/New_York:20251015T183000
DTSTAMP:20260420T024446
CREATED:20251001T202901Z
LAST-MODIFIED:20251015T205851Z
UID:30196-1760547600-1760553000@politicaljar.com
SUMMARY:Women\, Power\, and Justice: An Evening With Nadia Murad
DESCRIPTION:Please join us for a talk by Nobel Peace Prize Laureate\, Nadia Murad.\n\n\nThis event is open to the BU Community. We welcome all students\, faculty\, staff\, and alumni. \n \nNadia Murad is a Nobel Peace Prize Laureate\, human rights activist\, and survivor of the Yazidi genocide. In 2014\, she was taken captive by the Islamic State (ISIS) during its genocidal campaign against the Yazidi people in Iraq. After enduring horrific abuse\, she escaped captivity and has since become a leading advocate for survivors of genocide and sexual violence. \n \nThrough her courageous storytelling and tireless activism\, Nadia has brought international attention to the plight of Yazidis and other communities affected by conflict-related sexual violence. She partnered with international human rights lawyer Amal Clooney to seek justice for ISIS’s crimes and founded Nadia’s Initiative\, a nonprofit organization focused on rebuilding communities in crisis and supporting survivors of sexual violence. \n \nNadia is the author of the New York Times bestselling memoir The Last Girl: My Story of Captivity\, and My Fight Against the Islamic State. She has addressed the United Nations\, national governments\, and international organizations\, calling for justice\, accountability\, and comprehensive support for survivors. Awarded the Nobel Peace Prize for her unwavering commitment to ending sexual violence in conflict\, Nadia continues to amplify the voices of survivors and advocate for policies that uphold human dignity\, peace\, and security. \n \nContent advisory: This event may include discussions of sexual and gender-based violence\, torture\, enslavement\, human trafficking\, and mass atrocities.
URL:https://politicaljar.com/event/women-power-and-justice-an-evening-with-nadia-murad/
LOCATION:Alfred L. Morse Auditorium\, 602 Commonwealth Avenue\, Boston\, MA\, 02215\, United States
END:VEVENT
BEGIN:VEVENT
DTSTART;TZID=America/Denver:20251015T190000
DTEND;TZID=America/Denver:20251015T200000
DTSTAMP:20260420T024446
CREATED:20250126T210156Z
LAST-MODIFIED:20250126T210156Z
UID:6471-1760554800-1760558400@politicaljar.com
SUMMARY:Pandemic Political Education Book Club
DESCRIPTION:Read books to learn lessons from HIV/AIDS Activism and Disability Justice.
URL:https://politicaljar.com/event/pandemic-political-education-book-club-9/
LOCATION:Under the Umbrella Bookstore and Cafe\, 511 West 200 South\, #Suite 120\, Salt Lake City\, UT\, 84101\, United States
ATTACH;FMTTYPE=image/jpeg:https://politicaljar.com/wp-content/uploads/2025/01/93cc9a7c223a05fb70f55dd2650a0b90.jpg
END:VEVENT
BEGIN:VEVENT
DTSTART;TZID=America/New_York:20251015T193000
DTEND;TZID=America/New_York:20251015T193000
DTSTAMP:20260420T024446
CREATED:20251015T022903Z
LAST-MODIFIED:20251015T232917Z
UID:31144-1760556600-1760556600@politicaljar.com
SUMMARY:The President hosts a Ballroom Dinner
DESCRIPTION:White House Press Pool
URL:https://politicaljar.com/event/the-president-hosts-a-ballroom-dinner/
LOCATION:East Room
CATEGORIES:Presidents Schedule
END:VEVENT
END:VCALENDAR