BEGIN:VCALENDAR
VERSION:2.0
PRODID:-//Political Jar - ECPv6.15.20//NONSGML v1.0//EN
CALSCALE:GREGORIAN
METHOD:PUBLISH
X-ORIGINAL-URL:https://politicaljar.com
X-WR-CALDESC:Events for Political Jar
REFRESH-INTERVAL;VALUE=DURATION:PT1H
X-Robots-Tag:noindex
X-PUBLISHED-TTL:PT1H
BEGIN:VTIMEZONE
TZID:America/New_York
BEGIN:DAYLIGHT
TZOFFSETFROM:-0500
TZOFFSETTO:-0400
TZNAME:EDT
DTSTART:20240310T070000
END:DAYLIGHT
BEGIN:STANDARD
TZOFFSETFROM:-0400
TZOFFSETTO:-0500
TZNAME:EST
DTSTART:20241103T060000
END:STANDARD
BEGIN:DAYLIGHT
TZOFFSETFROM:-0500
TZOFFSETTO:-0400
TZNAME:EDT
DTSTART:20250309T070000
END:DAYLIGHT
BEGIN:STANDARD
TZOFFSETFROM:-0400
TZOFFSETTO:-0500
TZNAME:EST
DTSTART:20251102T060000
END:STANDARD
BEGIN:DAYLIGHT
TZOFFSETFROM:-0500
TZOFFSETTO:-0400
TZNAME:EDT
DTSTART:20260308T070000
END:DAYLIGHT
BEGIN:STANDARD
TZOFFSETFROM:-0400
TZOFFSETTO:-0500
TZNAME:EST
DTSTART:20261101T060000
END:STANDARD
END:VTIMEZONE
BEGIN:VEVENT
DTSTART;TZID=America/New_York:20251014T000500
DTEND;TZID=America/New_York:20251014T000500
DTSTAMP:20260419T215121
CREATED:20251013T031334Z
LAST-MODIFIED:20251014T034409Z
UID:30952-1760400300-1760400300@politicaljar.com
SUMMARY:The President arrives The White House
DESCRIPTION:Open Press
URL:https://politicaljar.com/event/the-president-arrives-the-white-house-57/
LOCATION:The White House
CATEGORIES:Presidents Schedule
END:VEVENT
BEGIN:VEVENT
DTSTART;TZID=America/New_York:20251014T025000
DTEND;TZID=America/New_York:20251014T025000
DTSTAMP:20260419T215121
CREATED:20251014T002913Z
LAST-MODIFIED:20251014T064402Z
UID:31078-1760410200-1760410200@politicaljar.com
SUMMARY:The President arrives The White House
DESCRIPTION:Open Press
URL:https://politicaljar.com/event/the-president-arrives-the-white-house-58/
LOCATION:South Lawn
END:VEVENT
BEGIN:VEVENT
DTSTART;TZID=America/New_York:20251014T090000
DTEND;TZID=America/New_York:20251014T090000
DTSTAMP:20260419T215121
CREATED:20251014T002913Z
LAST-MODIFIED:20251014T124402Z
UID:31079-1760432400-1760432400@politicaljar.com
SUMMARY:In-Town Pool Call Time
DESCRIPTION:In-Town Pool
URL:https://politicaljar.com/event/in-town-pool-call-time-216/
LOCATION:The White House
END:VEVENT
BEGIN:VEVENT
DTSTART;TZID=America/New_York:20251014T130000
DTEND;TZID=America/New_York:20251014T130000
DTSTAMP:20260419T215121
CREATED:20251014T002914Z
LAST-MODIFIED:20251014T164413Z
UID:31081-1760446800-1760446800@politicaljar.com
SUMMARY:The President greets the President of the Argentine Republic
DESCRIPTION:Open Press
URL:https://politicaljar.com/event/the-president-greets-the-president-of-the-argentine-republic/
LOCATION:Stakeout Location
END:VEVENT
BEGIN:VEVENT
DTSTART;TZID=America/New_York:20251014T131500
DTEND;TZID=America/New_York:20251014T131500
DTSTAMP:20260419T215121
CREATED:20251014T002919Z
LAST-MODIFIED:20251014T164414Z
UID:31082-1760447700-1760447700@politicaljar.com
SUMMARY:The President participates in a Bilateral Lunch with the President of the Argentine Republic
DESCRIPTION:Closed Press
URL:https://politicaljar.com/event/the-president-participates-in-a-bilateral-lunch-with-the-president-of-the-argentine-republic/
LOCATION:Cabinet Room
END:VEVENT
BEGIN:VEVENT
DTSTART;TZID=America/New_York:20251014T160000
DTEND;TZID=America/New_York:20251014T160000
DTSTAMP:20260419T215121
CREATED:20251014T002921Z
LAST-MODIFIED:20251014T195924Z
UID:31083-1760457600-1760457600@politicaljar.com
SUMMARY:The President participates in a Medal of Freedom Ceremony for Charlie Kirk
DESCRIPTION:
URL:https://politicaljar.com/event/the-president-participates-in-a-medal-of-freedom-ceremony-for-charlie-kirk/
LOCATION:East Room
END:VEVENT
END:VCALENDAR