BEGIN:VCALENDAR
VERSION:2.0
PRODID:-//Political Jar - ECPv6.15.20//NONSGML v1.0//EN
CALSCALE:GREGORIAN
METHOD:PUBLISH
X-ORIGINAL-URL:https://politicaljar.com
X-WR-CALDESC:Events for Political Jar
REFRESH-INTERVAL;VALUE=DURATION:PT1H
X-Robots-Tag:noindex
X-PUBLISHED-TTL:PT1H
BEGIN:VTIMEZONE
TZID:America/New_York
BEGIN:DAYLIGHT
TZOFFSETFROM:-0500
TZOFFSETTO:-0400
TZNAME:EDT
DTSTART:20240310T070000
END:DAYLIGHT
BEGIN:STANDARD
TZOFFSETFROM:-0400
TZOFFSETTO:-0500
TZNAME:EST
DTSTART:20241103T060000
END:STANDARD
BEGIN:DAYLIGHT
TZOFFSETFROM:-0500
TZOFFSETTO:-0400
TZNAME:EDT
DTSTART:20250309T070000
END:DAYLIGHT
BEGIN:STANDARD
TZOFFSETFROM:-0400
TZOFFSETTO:-0500
TZNAME:EST
DTSTART:20251102T060000
END:STANDARD
BEGIN:DAYLIGHT
TZOFFSETFROM:-0500
TZOFFSETTO:-0400
TZNAME:EDT
DTSTART:20260308T070000
END:DAYLIGHT
BEGIN:STANDARD
TZOFFSETFROM:-0400
TZOFFSETTO:-0500
TZNAME:EST
DTSTART:20261101T060000
END:STANDARD
END:VTIMEZONE
BEGIN:VEVENT
DTSTART;TZID=America/New_York:20250926T084500
DTEND;TZID=America/New_York:20250926T084500
DTSTAMP:20260420T183033
CREATED:20250926T012914Z
LAST-MODIFIED:20250926T122917Z
UID:29802-1758876300-1758876300@politicaljar.com
SUMMARY:Out-of-Town Travel Pool Call Time
DESCRIPTION:Out-of-Town Travel Pool
URL:https://politicaljar.com/event/out-of-town-travel-pool-call-time-60/
LOCATION:Joint Base Andrews
END:VEVENT
BEGIN:VEVENT
DTSTART;TZID=America/New_York:20250926T095000
DTEND;TZID=America/New_York:20250926T095000
DTSTAMP:20260420T183033
CREATED:20250926T012916Z
LAST-MODIFIED:20250926T132905Z
UID:29803-1758880200-1758880200@politicaljar.com
SUMMARY:The President departs the White House en route Bethpage\, New York
DESCRIPTION:Open Press
URL:https://politicaljar.com/event/the-president-departs-the-white-house-en-route-bethpage-new-york/
LOCATION:South Lawn
END:VEVENT
BEGIN:VEVENT
DTSTART;TZID=America/New_York:20250926T111000
DTEND;TZID=America/New_York:20250926T111000
DTSTAMP:20260420T183033
CREATED:20250926T012916Z
LAST-MODIFIED:20250926T145910Z
UID:29805-1758885000-1758885000@politicaljar.com
SUMMARY:The President arrives Bethpage\, New York
DESCRIPTION:Pre-Credentialed Media
URL:https://politicaljar.com/event/the-president-arrives-bethpage-new-york/
LOCATION:The Bethpage Black Course\, Farmingdale\, NY\, United States
END:VEVENT
BEGIN:VEVENT
DTSTART;TZID=America/New_York:20250926T120000
DTEND;TZID=America/New_York:20250926T120000
DTSTAMP:20260420T183033
CREATED:20250926T012917Z
LAST-MODIFIED:20250926T160002Z
UID:29807-1758888000-1758888000@politicaljar.com
SUMMARY:The President attends the Ryder Cup
DESCRIPTION:Out-of-Town Travel Pool
URL:https://politicaljar.com/event/the-president-attends-the-ryder-cup/
LOCATION:The Bethpage Black Course\, Farmingdale\, NY\, United States
END:VEVENT
BEGIN:VEVENT
DTSTART;TZID=America/New_York:20250926T153000
DTEND;TZID=America/New_York:20250926T153000
DTSTAMP:20260420T183033
CREATED:20250926T012918Z
LAST-MODIFIED:20250926T192915Z
UID:29808-1758900600-1758900600@politicaljar.com
SUMMARY:The President departs Bethpage\, New York\, en route the White House
DESCRIPTION:Out-of-Town Travel Pool
URL:https://politicaljar.com/event/the-president-departs-bethpage-new-york-en-route-the-white-house/
LOCATION:The Bethpage Black Course\, Farmingdale\, NY\, United States
END:VEVENT
BEGIN:VEVENT
DTSTART;TZID=America/New_York:20250926T165500
DTEND;TZID=America/New_York:20250926T165500
DTSTAMP:20260420T183033
CREATED:20250926T012929Z
LAST-MODIFIED:20250926T202959Z
UID:29809-1758905700-1758905700@politicaljar.com
SUMMARY:The President arrives The White House
DESCRIPTION:Open Press
URL:https://politicaljar.com/event/the-president-arrives-the-white-house-54/
LOCATION:South Lawn
END:VEVENT
END:VCALENDAR