BEGIN:VCALENDAR
VERSION:2.0
PRODID:-//Political Jar - ECPv6.15.20//NONSGML v1.0//EN
CALSCALE:GREGORIAN
METHOD:PUBLISH
X-ORIGINAL-URL:https://politicaljar.com
X-WR-CALDESC:Events for Political Jar
REFRESH-INTERVAL;VALUE=DURATION:PT1H
X-Robots-Tag:noindex
X-PUBLISHED-TTL:PT1H
BEGIN:VTIMEZONE
TZID:America/New_York
BEGIN:DAYLIGHT
TZOFFSETFROM:-0500
TZOFFSETTO:-0400
TZNAME:EDT
DTSTART:20240310T070000
END:DAYLIGHT
BEGIN:STANDARD
TZOFFSETFROM:-0400
TZOFFSETTO:-0500
TZNAME:EST
DTSTART:20241103T060000
END:STANDARD
BEGIN:DAYLIGHT
TZOFFSETFROM:-0500
TZOFFSETTO:-0400
TZNAME:EDT
DTSTART:20250309T070000
END:DAYLIGHT
BEGIN:STANDARD
TZOFFSETFROM:-0400
TZOFFSETTO:-0500
TZNAME:EST
DTSTART:20251102T060000
END:STANDARD
BEGIN:DAYLIGHT
TZOFFSETFROM:-0500
TZOFFSETTO:-0400
TZNAME:EDT
DTSTART:20260308T070000
END:DAYLIGHT
BEGIN:STANDARD
TZOFFSETFROM:-0400
TZOFFSETTO:-0500
TZNAME:EST
DTSTART:20261101T060000
END:STANDARD
END:VTIMEZONE
BEGIN:VTIMEZONE
TZID:UTC
BEGIN:STANDARD
TZOFFSETFROM:+0000
TZOFFSETTO:+0000
TZNAME:UTC
DTSTART:20240101T000000
END:STANDARD
END:VTIMEZONE
BEGIN:VEVENT
DTSTART;TZID=America/New_York:20250919T090000
DTEND;TZID=America/New_York:20250919T090000
DTSTAMP:20260420T050619
CREATED:20250919T021429Z
LAST-MODIFIED:20250919T124418Z
UID:29354-1758272400-1758272400@politicaljar.com
SUMMARY:In- Town Pool Call Time
DESCRIPTION:
URL:https://politicaljar.com/event/in-town-pool-call-time-192/
LOCATION:The White House
END:VEVENT
BEGIN:VEVENT
DTSTART;TZID=UTC:20250919T100000
DTEND;TZID=UTC:20250919T100000
DTSTAMP:20260420T050619
CREATED:20250125T185937Z
LAST-MODIFIED:20250222T090117Z
UID:6245-1758276000-1758276000@politicaljar.com
SUMMARY:State Employment and Unemployment (Monthly)
DESCRIPTION:
URL:https://politicaljar.com/event/state-employment-and-unemployment-monthly-9/
LOCATION:Washington\, DC
CATEGORIES:BLS,IMPORTANT
END:VEVENT
BEGIN:VEVENT
DTSTART;TZID=America/New_York:20250919T110000
DTEND;TZID=America/New_York:20250919T110000
DTSTAMP:20260420T050619
CREATED:20250919T021429Z
LAST-MODIFIED:20250919T144405Z
UID:29355-1758279600-1758279600@politicaljar.com
SUMMARY:The President receives his Intelligence Briefing
DESCRIPTION:Closed Press
URL:https://politicaljar.com/event/the-president-receives-his-intelligence-briefing-27/
LOCATION:The White House
END:VEVENT
BEGIN:VEVENT
DTSTART;TZID=America/New_York:20250919T130000
DTEND;TZID=America/New_York:20250919T160000
DTSTAMP:20260420T050619
CREATED:20250914T224348Z
LAST-MODIFIED:20250914T224348Z
UID:29043-1758286800-1758297600@politicaljar.com
SUMMARY:Revisiting Language Politics
DESCRIPTION:Historical Perspectives and Current Trends in India
URL:https://politicaljar.com/event/revisiting-language-politics/
LOCATION:Perelman Center for Political Science and Economics\, 133 South 36th Street\, Suite 335\, Philadelphia\, PA\, 19104\, United States
ATTACH;FMTTYPE=image/jpeg:https://politicaljar.com/wp-content/uploads/2025/09/69179a324cbacfd7416805bddca816c2.jpg
END:VEVENT
BEGIN:VEVENT
DTSTART;TZID=America/New_York:20250919T150000
DTEND;TZID=America/New_York:20250919T150000
DTSTAMP:20260420T050619
CREATED:20250919T021430Z
LAST-MODIFIED:20250919T184424Z
UID:29356-1758294000-1758294000@politicaljar.com
SUMMARY:The President signs Executive Orders
DESCRIPTION:Closed Press
URL:https://politicaljar.com/event/the-president-signs-executive-orders-43/
LOCATION:Oval Office
END:VEVENT
END:VCALENDAR