BEGIN:VCALENDAR
VERSION:2.0
PRODID:-//Political Jar - ECPv6.15.20//NONSGML v1.0//EN
CALSCALE:GREGORIAN
METHOD:PUBLISH
X-WR-CALNAME:Political Jar
X-ORIGINAL-URL:https://politicaljar.com
X-WR-CALDESC:Events for Political Jar
REFRESH-INTERVAL;VALUE=DURATION:PT1H
X-Robots-Tag:noindex
X-PUBLISHED-TTL:PT1H
BEGIN:VTIMEZONE
TZID:America/New_York
BEGIN:DAYLIGHT
TZOFFSETFROM:-0500
TZOFFSETTO:-0400
TZNAME:EDT
DTSTART:20240310T070000
END:DAYLIGHT
BEGIN:STANDARD
TZOFFSETFROM:-0400
TZOFFSETTO:-0500
TZNAME:EST
DTSTART:20241103T060000
END:STANDARD
BEGIN:DAYLIGHT
TZOFFSETFROM:-0500
TZOFFSETTO:-0400
TZNAME:EDT
DTSTART:20250309T070000
END:DAYLIGHT
BEGIN:STANDARD
TZOFFSETFROM:-0400
TZOFFSETTO:-0500
TZNAME:EST
DTSTART:20251102T060000
END:STANDARD
BEGIN:DAYLIGHT
TZOFFSETFROM:-0500
TZOFFSETTO:-0400
TZNAME:EDT
DTSTART:20260308T070000
END:DAYLIGHT
BEGIN:STANDARD
TZOFFSETFROM:-0400
TZOFFSETTO:-0500
TZNAME:EST
DTSTART:20261101T060000
END:STANDARD
END:VTIMEZONE
BEGIN:VTIMEZONE
TZID:UTC
BEGIN:STANDARD
TZOFFSETFROM:+0000
TZOFFSETTO:+0000
TZNAME:UTC
DTSTART:20240101T000000
END:STANDARD
END:VTIMEZONE
BEGIN:VTIMEZONE
TZID:America/Denver
BEGIN:DAYLIGHT
TZOFFSETFROM:-0700
TZOFFSETTO:-0600
TZNAME:MDT
DTSTART:20240310T090000
END:DAYLIGHT
BEGIN:STANDARD
TZOFFSETFROM:-0600
TZOFFSETTO:-0700
TZNAME:MST
DTSTART:20241103T080000
END:STANDARD
BEGIN:DAYLIGHT
TZOFFSETFROM:-0700
TZOFFSETTO:-0600
TZNAME:MDT
DTSTART:20250309T090000
END:DAYLIGHT
BEGIN:STANDARD
TZOFFSETFROM:-0600
TZOFFSETTO:-0700
TZNAME:MST
DTSTART:20251102T080000
END:STANDARD
BEGIN:DAYLIGHT
TZOFFSETFROM:-0700
TZOFFSETTO:-0600
TZNAME:MDT
DTSTART:20260308T090000
END:DAYLIGHT
BEGIN:STANDARD
TZOFFSETFROM:-0600
TZOFFSETTO:-0700
TZNAME:MST
DTSTART:20261101T080000
END:STANDARD
END:VTIMEZONE
BEGIN:VEVENT
DTSTART;TZID=America/New_York:20250917T033000
DTEND;TZID=America/New_York:20250917T033000
DTSTAMP:20260422T123903
CREATED:20250916T142904Z
LAST-MODIFIED:20250916T142904Z
UID:29163-1758079800-1758079800@politicaljar.com
SUMMARY:Out-of-Town Travel Pool Call Time
DESCRIPTION:Out-of-Town Travel Pool
URL:https://politicaljar.com/event/out-of-town-travel-pool-call-time-53/
LOCATION:Winfield House\, London\, United Kingdom
END:VEVENT
BEGIN:VEVENT
DTSTART;TZID=America/New_York:20250917T033000
DTEND;TZID=America/New_York:20250917T033000
DTSTAMP:20260422T123903
CREATED:20250916T142905Z
LAST-MODIFIED:20250916T192856Z
UID:29164-1758079800-1758079800@politicaljar.com
SUMMARY:Out-of-Town Travel Pool Call Time
DESCRIPTION:Out-of-Town Travel Pool
URL:https://politicaljar.com/event/out-of-town-travel-pool-call-time-54/
END:VEVENT
BEGIN:VEVENT
DTSTART;TZID=America/New_York:20250917T072000
DTEND;TZID=America/New_York:20250917T072000
DTSTAMP:20260422T123903
CREATED:20250916T142906Z
LAST-MODIFIED:20250916T145901Z
UID:29166-1758093600-1758093600@politicaljar.com
SUMMARY:The President and The First Lady participate in a Windsor Castle Arrival Ceremony
DESCRIPTION:Out-of-Town Travel Pool
URL:https://politicaljar.com/event/the-president-and-the-first-lady-participate-in-a-windsor-castle-arrival-ceremony/
LOCATION:Windsor Castle\, Berkshire\, England\, United Kingdom
END:VEVENT
BEGIN:VEVENT
DTSTART;TZID=America/New_York:20250917T072000
DTEND;TZID=America/New_York:20250917T072000
DTSTAMP:20260422T123903
CREATED:20250916T142906Z
LAST-MODIFIED:20250917T015856Z
UID:29167-1758093600-1758093600@politicaljar.com
SUMMARY:The President and The First Lady participate in a Windsor Castle Arrival Ceremony
DESCRIPTION:Out-of-Town Travel Pool
URL:https://politicaljar.com/event/the-president-and-the-first-lady-participate-in-a-windsor-castle-arrival-ceremony-2/
END:VEVENT
BEGIN:VEVENT
DTSTART;TZID=America/New_York:20250917T080500
DTEND;TZID=America/New_York:20250917T080500
DTSTAMP:20260422T123903
CREATED:20250916T142910Z
LAST-MODIFIED:20250916T145901Z
UID:29169-1758096300-1758096300@politicaljar.com
SUMMARY:The President and The First Lady participate in a Private Luncheon
DESCRIPTION:Closed Press
URL:https://politicaljar.com/event/the-president-and-the-first-lady-participate-in-a-private-luncheon/
LOCATION:Windsor Castle\, Berkshire\, England\, United Kingdom
END:VEVENT
BEGIN:VEVENT
DTSTART;TZID=America/New_York:20250917T080500
DTEND;TZID=America/New_York:20250917T080500
DTSTAMP:20260422T123903
CREATED:20250916T142911Z
LAST-MODIFIED:20250917T015857Z
UID:29170-1758096300-1758096300@politicaljar.com
SUMMARY:The President and The First Lady participate in a Private Luncheon
DESCRIPTION:Closed Press
URL:https://politicaljar.com/event/the-president-and-the-first-lady-participate-in-a-private-luncheon-2/
END:VEVENT
BEGIN:VEVENT
DTSTART;TZID=UTC:20250917T100000
DTEND;TZID=UTC:20250917T100000
DTSTAMP:20260422T123903
CREATED:20250125T185936Z
LAST-MODIFIED:20250222T090116Z
UID:6244-1758103200-1758103200@politicaljar.com
SUMMARY:State Job Openings and Labor Turnover
DESCRIPTION:
URL:https://politicaljar.com/event/state-job-openings-and-labor-turnover-8/
LOCATION:Washington\, DC
CATEGORIES:BLS,IMPORTANT
END:VEVENT
BEGIN:VEVENT
DTSTART;TZID=America/New_York:20250917T100000
DTEND;TZID=America/New_York:20250917T100000
DTSTAMP:20260422T123903
CREATED:20250916T142912Z
LAST-MODIFIED:20250916T183033Z
UID:29171-1758103200-1758103200@politicaljar.com
SUMMARY:The President and The First Lady participate in a St. George's Chapel Visit and Wealth Laying at the Tomb of Queen Elizabeth II
DESCRIPTION:Out-of-Town Travel Pool
URL:https://politicaljar.com/event/the-president-and-the-first-lady-participate-in-a-st-georges-chapel-visit-and-wealth-laying-at-the-tomb-of-queen-elizabeth-ii/
LOCATION:Windsor Castle\, Berkshire\, England\, United Kingdom
END:VEVENT
BEGIN:VEVENT
DTSTART;TZID=America/New_York:20250917T100000
DTEND;TZID=America/New_York:20250917T100000
DTSTAMP:20260422T123903
CREATED:20250916T142912Z
LAST-MODIFIED:20250917T125903Z
UID:29172-1758103200-1758103200@politicaljar.com
SUMMARY:The President and The First Lady participate in a St. George's Chapel Visit and Wealth Laying at the Tomb of Queen Elizabeth II
DESCRIPTION:Out-of-Town Travel Pool
URL:https://politicaljar.com/event/the-president-and-the-first-lady-participate-in-a-st-georges-chapel-visit-and-wealth-laying-at-the-tomb-of-queen-elizabeth-ii-2/
END:VEVENT
BEGIN:VEVENT
DTSTART;TZID=America/New_York:20250917T112500
DTEND;TZID=America/New_York:20250917T112500
DTSTAMP:20260422T123903
CREATED:20250916T142913Z
LAST-MODIFIED:20250916T183034Z
UID:29173-1758108300-1758108300@politicaljar.com
SUMMARY:The President and The First Lady participate in a Beating Retreat Musical Performance
DESCRIPTION:Out-of-Town Travel Pool
URL:https://politicaljar.com/event/the-president-and-the-first-lady-participate-in-a-beating-retreat-musical-performance/
LOCATION:Windsor Castle\, Berkshire\, England\, United Kingdom
END:VEVENT
BEGIN:VEVENT
DTSTART;TZID=America/New_York:20250917T112500
DTEND;TZID=America/New_York:20250917T112500
DTSTAMP:20260422T123904
CREATED:20250916T142918Z
LAST-MODIFIED:20250917T145909Z
UID:29174-1758108300-1758108300@politicaljar.com
SUMMARY:The President and The First Lady participate in a Beating Retreat Musical Performance
DESCRIPTION:Out-of-Town Travel Pool
URL:https://politicaljar.com/event/the-president-and-the-first-lady-participate-in-a-beating-retreat-musical-performance-2/
END:VEVENT
BEGIN:VEVENT
DTSTART;TZID=America/New_York:20250917T153000
DTEND;TZID=America/New_York:20250917T153000
DTSTAMP:20260422T123904
CREATED:20250916T142919Z
LAST-MODIFIED:20250917T192909Z
UID:29175-1758123000-1758123000@politicaljar.com
SUMMARY:The President and The First Lady participate in a State Banquet
DESCRIPTION:
URL:https://politicaljar.com/event/the-president-and-the-first-lady-participate-in-a-state-banquet/
LOCATION:Windsor Castle\, Berkshire\, England\, United Kingdom
END:VEVENT
BEGIN:VEVENT
DTSTART;TZID=America/New_York:20250917T153000
DTEND;TZID=America/New_York:20250917T153000
DTSTAMP:20260422T123904
CREATED:20250916T142920Z
LAST-MODIFIED:20250917T152904Z
UID:29176-1758123000-1758123000@politicaljar.com
SUMMARY:The President and The First Lady participate in a State Banquet
DESCRIPTION:
URL:https://politicaljar.com/event/the-president-and-the-first-lady-participate-in-a-state-banquet-2/
END:VEVENT
BEGIN:VEVENT
DTSTART;TZID=America/New_York:20250917T171500
DTEND;TZID=America/New_York:20250917T171500
DTSTAMP:20260422T123904
CREATED:20250916T055859Z
LAST-MODIFIED:20250917T211401Z
UID:29143-1758129300-1758129300@politicaljar.com
SUMMARY:The President and The First Lady participate in a Post-Dinner Program
DESCRIPTION:Out-of-Town Travel Pool
URL:https://politicaljar.com/event/the-president-and-the-first-lady-participate-in-a-post-dinner-program/
LOCATION:Windsor Castle\, Berkshire\, England\, United Kingdom
END:VEVENT
BEGIN:VEVENT
DTSTART;TZID=America/New_York:20250917T171500
DTEND;TZID=America/New_York:20250917T171500
DTSTAMP:20260422T123904
CREATED:20250916T142921Z
LAST-MODIFIED:20250917T152906Z
UID:29177-1758129300-1758129300@politicaljar.com
SUMMARY:The President and The First Lady participate in a Post-Dinner Program
DESCRIPTION:Out-of-Town Travel Pool
URL:https://politicaljar.com/event/the-president-and-the-first-lady-participate-in-a-post-dinner-program-2/
CATEGORIES:Presidents Schedule
END:VEVENT
BEGIN:VEVENT
DTSTART;TZID=America/Denver:20250917T190000
DTEND;TZID=America/Denver:20250917T200000
DTSTAMP:20260422T123904
CREATED:20250126T210155Z
LAST-MODIFIED:20250126T210155Z
UID:6470-1758135600-1758139200@politicaljar.com
SUMMARY:Pandemic Political Education Book Club
DESCRIPTION:Read books to learn lessons from HIV/AIDS Activism and Disability Justice.
URL:https://politicaljar.com/event/pandemic-political-education-book-club-8/
LOCATION:Under the Umbrella Bookstore and Cafe\, 511 West 200 South\, #Suite 120\, Salt Lake City\, UT\, 84101\, United States
ATTACH;FMTTYPE=image/jpeg:https://politicaljar.com/wp-content/uploads/2025/01/93cc9a7c223a05fb70f55dd2650a0b90.jpg
END:VEVENT
END:VCALENDAR