BEGIN:VCALENDAR
VERSION:2.0
PRODID:-//Political Jar - ECPv6.15.20//NONSGML v1.0//EN
CALSCALE:GREGORIAN
METHOD:PUBLISH
X-WR-CALNAME:Political Jar
X-ORIGINAL-URL:https://politicaljar.com
X-WR-CALDESC:Events for Political Jar
REFRESH-INTERVAL;VALUE=DURATION:PT1H
X-Robots-Tag:noindex
X-PUBLISHED-TTL:PT1H
BEGIN:VTIMEZONE
TZID:America/New_York
BEGIN:DAYLIGHT
TZOFFSETFROM:-0500
TZOFFSETTO:-0400
TZNAME:EDT
DTSTART:20240310T070000
END:DAYLIGHT
BEGIN:STANDARD
TZOFFSETFROM:-0400
TZOFFSETTO:-0500
TZNAME:EST
DTSTART:20241103T060000
END:STANDARD
BEGIN:DAYLIGHT
TZOFFSETFROM:-0500
TZOFFSETTO:-0400
TZNAME:EDT
DTSTART:20250309T070000
END:DAYLIGHT
BEGIN:STANDARD
TZOFFSETFROM:-0400
TZOFFSETTO:-0500
TZNAME:EST
DTSTART:20251102T060000
END:STANDARD
BEGIN:DAYLIGHT
TZOFFSETFROM:-0500
TZOFFSETTO:-0400
TZNAME:EDT
DTSTART:20260308T070000
END:DAYLIGHT
BEGIN:STANDARD
TZOFFSETFROM:-0400
TZOFFSETTO:-0500
TZNAME:EST
DTSTART:20261101T060000
END:STANDARD
END:VTIMEZONE
BEGIN:VTIMEZONE
TZID:Australia/Melbourne
BEGIN:STANDARD
TZOFFSETFROM:+1100
TZOFFSETTO:+1000
TZNAME:AEST
DTSTART:20240406T160000
END:STANDARD
BEGIN:DAYLIGHT
TZOFFSETFROM:+1000
TZOFFSETTO:+1100
TZNAME:AEDT
DTSTART:20241005T160000
END:DAYLIGHT
BEGIN:STANDARD
TZOFFSETFROM:+1100
TZOFFSETTO:+1000
TZNAME:AEST
DTSTART:20250405T160000
END:STANDARD
BEGIN:DAYLIGHT
TZOFFSETFROM:+1000
TZOFFSETTO:+1100
TZNAME:AEDT
DTSTART:20251004T160000
END:DAYLIGHT
BEGIN:STANDARD
TZOFFSETFROM:+1100
TZOFFSETTO:+1000
TZNAME:AEST
DTSTART:20260404T160000
END:STANDARD
BEGIN:DAYLIGHT
TZOFFSETFROM:+1000
TZOFFSETTO:+1100
TZNAME:AEDT
DTSTART:20261003T160000
END:DAYLIGHT
END:VTIMEZONE
BEGIN:VEVENT
DTSTART;TZID=America/New_York:20250531T073000
DTEND;TZID=America/New_York:20250531T073000
DTSTAMP:20260425T150704
CREATED:20250531T021409Z
LAST-MODIFIED:20250531T111402Z
UID:21669-1748676600-1748676600@politicaljar.com
SUMMARY:In-Town Pool Call Time
DESCRIPTION:In-Town Pool
URL:https://politicaljar.com/event/in-town-pool-call-time-91/
END:VEVENT
BEGIN:VEVENT
DTSTART;TZID=Australia/Melbourne:20250531T080000
DTEND;TZID=Australia/Melbourne:20250531T120000
DTSTAMP:20260425T150704
CREATED:20250519T032948Z
LAST-MODIFIED:20250526T032915Z
UID:20836-1748678400-1748692800@politicaljar.com
SUMMARY:Camp Parliament for Girls Melbourne 2025
DESCRIPTION:Young leaders study Australia’s parliament\, stand for office\, vote and convene a session of Parliament to pass a bill.\n\n\nCamp Parliament for Girls Melbourne 2025 introduces girls to Australia’s parliamentary system of government. Camp Parliament for Girls begins with a lesson the structure and history of the Australian’s government. The lesson goes on to review the eligibility requirements to stand for office and a review of political parties with students for their own parties. Students will learn about the structure of elections and the women that made history serving in government. Each student will stand for office\, create a campaign platform\, vote in a virtual election\, and form a government to pass a bill. Each student will serve as a MP.For additional information contact us at +1 866-277-2123 extension 1\, via email at info@girlsinpolitics.com or visit our website at www.girlsinpolitics.com. Ticketing options for girls ages 8-11 and 12-17. Please no solicitation emails or calls. We do not book speakers\, book vendors or recruit volunteers for events. \nFrequently Asked Questions \nIs this event a drop-off? All camps are drop-off unless parent participation is indicated. Parents may wait at the venue for the duration of the camp in any of the lounge or seating area throughout the hotel. The meeting room space capacity can only accommodate students and staff. \nIs the registration fee refundable? The registration fee is non-refundable unless the organizer cancels the session. If a participant is unable to attend a session a credit will be placed on file that may be used at any time for a future program. The credit does not expire. \nIs this a partisan program or supported by a political party? No\, the Girls in Politics Initiative is an independent organization that is self-funded through the fees generated from hosting sessions. The curriculum is civic education. \nIs financial assistance available? Due to rising costs associated with hosting events\, there is no financial assistance available for this event and there is no promo code for this event. \nWho are the instructors? Our Lead Instructors are women that currently or have previously worked in government or electoral politics. Our support staff are current or former licensed teachers. All instructors and support staff undergo background screening. All instructors and support staff are also in compliance with any local ordinances or state/provincial regulations applicable to those working with children.
URL:https://politicaljar.com/event/camp-parliament-for-girls-melbourne-2025/
LOCATION:120 Collins St\, 120 Collins Street\, Melbourne\, VIC\, 3000\, Australia
ATTACH;FMTTYPE=image/jpeg:https://politicaljar.com/wp-content/uploads/2025/05/3ac5203ece3a1cde254c72af3acddb3f.jpg
END:VEVENT
END:VCALENDAR