BEGIN:VCALENDAR
VERSION:2.0
PRODID:-//Political Jar - ECPv6.15.20//NONSGML v1.0//EN
CALSCALE:GREGORIAN
METHOD:PUBLISH
X-ORIGINAL-URL:https://politicaljar.com
X-WR-CALDESC:Events for Political Jar
REFRESH-INTERVAL;VALUE=DURATION:PT1H
X-Robots-Tag:noindex
X-PUBLISHED-TTL:PT1H
BEGIN:VTIMEZONE
TZID:America/New_York
BEGIN:DAYLIGHT
TZOFFSETFROM:-0500
TZOFFSETTO:-0400
TZNAME:EDT
DTSTART:20240310T070000
END:DAYLIGHT
BEGIN:STANDARD
TZOFFSETFROM:-0400
TZOFFSETTO:-0500
TZNAME:EST
DTSTART:20241103T060000
END:STANDARD
BEGIN:DAYLIGHT
TZOFFSETFROM:-0500
TZOFFSETTO:-0400
TZNAME:EDT
DTSTART:20250309T070000
END:DAYLIGHT
BEGIN:STANDARD
TZOFFSETFROM:-0400
TZOFFSETTO:-0500
TZNAME:EST
DTSTART:20251102T060000
END:STANDARD
BEGIN:DAYLIGHT
TZOFFSETFROM:-0500
TZOFFSETTO:-0400
TZNAME:EDT
DTSTART:20260308T070000
END:DAYLIGHT
BEGIN:STANDARD
TZOFFSETFROM:-0400
TZOFFSETTO:-0500
TZNAME:EST
DTSTART:20261101T060000
END:STANDARD
END:VTIMEZONE
BEGIN:VEVENT
DTSTART;TZID=America/New_York:20250530T090000
DTEND;TZID=America/New_York:20250530T090000
DTSTAMP:20260425T150723
CREATED:20250530T015905Z
LAST-MODIFIED:20250530T125913Z
UID:21584-1748595600-1748595600@politicaljar.com
SUMMARY:In-Town Pool Call Time
DESCRIPTION:In-Town Pool
URL:https://politicaljar.com/event/in-town-pool-call-time-90/
LOCATION:The White House
CATEGORIES:Presidents Schedule
END:VEVENT
BEGIN:VEVENT
DTSTART;TZID=America/New_York:20250530T133000
DTEND;TZID=America/New_York:20250530T133000
DTSTAMP:20260425T150723
CREATED:20250530T015906Z
LAST-MODIFIED:20250530T172909Z
UID:21585-1748611800-1748611800@politicaljar.com
SUMMARY:The President participates in a Press Conference with Elon Musk
DESCRIPTION:White House Press Pool
URL:https://politicaljar.com/event/the-president-participates-in-a-press-conference-with-elon-musk/
LOCATION:Oval Office
CATEGORIES:Presidents Schedule
END:VEVENT
BEGIN:VEVENT
DTSTART;TZID=America/New_York:20250530T140500
DTEND;TZID=America/New_York:20250530T140500
DTSTAMP:20260425T150723
CREATED:20250530T015907Z
LAST-MODIFIED:20250530T175905Z
UID:21586-1748613900-1748613900@politicaljar.com
SUMMARY:Out-of-Town Pool Call Time
DESCRIPTION:Out-of-Town Pool
URL:https://politicaljar.com/event/out-of-town-pool-call-time-23/
LOCATION:Joint Base Andrews
CATEGORIES:Presidents Schedule
END:VEVENT
BEGIN:VEVENT
DTSTART;TZID=America/New_York:20250530T152500
DTEND;TZID=America/New_York:20250530T152500
DTSTAMP:20260425T150723
CREATED:20250530T015908Z
LAST-MODIFIED:20250530T185909Z
UID:21587-1748618700-1748618700@politicaljar.com
SUMMARY:The President departs The White House en route Joint Base Andrews
DESCRIPTION:Open Press
URL:https://politicaljar.com/event/the-president-departs-the-white-house-en-route-joint-base-andrews-13/
LOCATION:South Lawn
CATEGORIES:Presidents Schedule
END:VEVENT
BEGIN:VEVENT
DTSTART;TZID=America/New_York:20250530T153500
DTEND;TZID=America/New_York:20250530T153500
DTSTAMP:20260425T150723
CREATED:20250530T015909Z
LAST-MODIFIED:20250530T192906Z
UID:21588-1748619300-1748619300@politicaljar.com
SUMMARY:The President arrives Joint Base Andrews
DESCRIPTION:Out-of-Town Travel Pool
URL:https://politicaljar.com/event/the-president-arrives-joint-base-andrews-28/
LOCATION:Joint Base Andrews
CATEGORIES:Presidents Schedule
END:VEVENT
BEGIN:VEVENT
DTSTART;TZID=America/New_York:20250530T154500
DTEND;TZID=America/New_York:20250530T154500
DTSTAMP:20260425T150723
CREATED:20250530T015916Z
LAST-MODIFIED:20250530T192907Z
UID:21589-1748619900-1748619900@politicaljar.com
SUMMARY:The President departs Joint Base Andrews en route Allegheny County Airport
DESCRIPTION:Out-of-Town Travel Pool
URL:https://politicaljar.com/event/the-president-departs-joint-base-andrews-en-route-allegheny-county-airport/
LOCATION:Joint Base Andrews
CATEGORIES:Presidents Schedule
END:VEVENT
BEGIN:VEVENT
DTSTART;TZID=America/New_York:20250530T163500
DTEND;TZID=America/New_York:20250530T163500
DTSTAMP:20260425T150723
CREATED:20250530T015917Z
LAST-MODIFIED:20250530T195915Z
UID:21590-1748622900-1748622900@politicaljar.com
SUMMARY:The President arrives Allegheny County Airport
DESCRIPTION:Pre-Credentialed Media
URL:https://politicaljar.com/event/the-president-arrives-allegheny-county-airport/
LOCATION:Allegheny County Airport\, 2201 Pennsylvania Furnace Rd\, Pennsylvania Furnace\, PA\, United States
CATEGORIES:Presidents Schedule
END:VEVENT
BEGIN:VEVENT
DTSTART;TZID=America/New_York:20250530T164500
DTEND;TZID=America/New_York:20250530T164500
DTSTAMP:20260425T150723
CREATED:20250530T015918Z
LAST-MODIFIED:20250530T204402Z
UID:21591-1748623500-1748623500@politicaljar.com
SUMMARY:The President departs Allegheny County Airport en route U.S. Steel Corporation - Irvin Works
DESCRIPTION:Pre-Credentialed Media
URL:https://politicaljar.com/event/the-president-departs-allegheny-county-airport-en-route-u-s-steel-corporation-irvin-works/
LOCATION:Allegheny County Airport\, 2201 Pennsylvania Furnace Rd\, Pennsylvania Furnace\, PA\, United States
CATEGORIES:Presidents Schedule
END:VEVENT
BEGIN:VEVENT
DTSTART;TZID=America/New_York:20250530T165000
DTEND;TZID=America/New_York:20250530T165000
DTSTAMP:20260425T150723
CREATED:20250530T015919Z
LAST-MODIFIED:20250530T204403Z
UID:21592-1748623800-1748623800@politicaljar.com
SUMMARY:The President arrives U.S. Steel Corporation - Irvin Works
DESCRIPTION:Out-of-Town Travel Pool
URL:https://politicaljar.com/event/the-president-arrives-u-s-steel-corporation-irvin-works/
LOCATION:US Steel Corporation – Irvin Works\, West Mifflin\, PA\, United States
CATEGORIES:Presidents Schedule
END:VEVENT
BEGIN:VEVENT
DTSTART;TZID=America/New_York:20250530T170000
DTEND;TZID=America/New_York:20250530T170000
DTSTAMP:20260425T150723
CREATED:20250530T015919Z
LAST-MODIFIED:20250530T204404Z
UID:21593-1748624400-1748624400@politicaljar.com
SUMMARY:The President delivers remarks on U.S. Steel Deal
DESCRIPTION:Pre-Credentialed Media
URL:https://politicaljar.com/event/the-president-delivers-remarks-on-u-s-steel-deal/
LOCATION:US Steel Corporation – Irvin Works\, West Mifflin\, PA\, United States
CATEGORIES:Presidents Schedule
END:VEVENT
BEGIN:VEVENT
DTSTART;TZID=America/New_York:20250530T183500
DTEND;TZID=America/New_York:20250530T183500
DTSTAMP:20260425T150723
CREATED:20250530T015924Z
LAST-MODIFIED:20250530T221401Z
UID:21594-1748630100-1748630100@politicaljar.com
SUMMARY:The President departs U.S. Steel Corporation - Irvin Works en route Alleghany County Airport
DESCRIPTION:Out-of-Town Travel Pool
URL:https://politicaljar.com/event/the-president-departs-u-s-steel-corporation-irvin-works-en-route-alleghany-county-airport/
LOCATION:US Steel Corporation – Irvin Works\, West Mifflin\, PA\, United States
CATEGORIES:Presidents Schedule
END:VEVENT
BEGIN:VEVENT
DTSTART;TZID=America/New_York:20250530T184000
DTEND;TZID=America/New_York:20250530T184000
DTSTAMP:20260425T150723
CREATED:20250530T015925Z
LAST-MODIFIED:20250530T221402Z
UID:21595-1748630400-1748630400@politicaljar.com
SUMMARY:The President arrives Allegheny County Airport
DESCRIPTION:Out-of-Town Travel Pool
URL:https://politicaljar.com/event/the-president-arrives-allegheny-county-airport-2/
LOCATION:Allegheny County Airport\, 2201 Pennsylvania Furnace Rd\, Pennsylvania Furnace\, PA\, United States
CATEGORIES:Presidents Schedule
END:VEVENT
BEGIN:VEVENT
DTSTART;TZID=America/New_York:20250530T185000
DTEND;TZID=America/New_York:20250530T185000
DTSTAMP:20260425T150723
CREATED:20250530T015926Z
LAST-MODIFIED:20250530T224402Z
UID:21596-1748631000-1748631000@politicaljar.com
SUMMARY:The President departs Allegheny County Airport en route Joint Base Andrews
DESCRIPTION:Out-of-Town Travel Pool
URL:https://politicaljar.com/event/the-president-departs-allegheny-county-airport-en-route-joint-base-andrews/
LOCATION:Allegheny County Airport\, 2201 Pennsylvania Furnace Rd\, Pennsylvania Furnace\, PA\, United States
CATEGORIES:Presidents Schedule
END:VEVENT
BEGIN:VEVENT
DTSTART;TZID=America/New_York:20250530T193500
DTEND;TZID=America/New_York:20250530T193500
DTSTAMP:20260425T150723
CREATED:20250530T015927Z
LAST-MODIFIED:20250530T232859Z
UID:21597-1748633700-1748633700@politicaljar.com
SUMMARY:The President arrives Joint Base Andrews
DESCRIPTION:Out-of-Town Travel Pool
URL:https://politicaljar.com/event/the-president-arrives-joint-base-andrews-29/
LOCATION:Joint Base Andrews
CATEGORIES:Presidents Schedule
END:VEVENT
BEGIN:VEVENT
DTSTART;TZID=America/New_York:20250530T194500
DTEND;TZID=America/New_York:20250530T194500
DTSTAMP:20260425T150723
CREATED:20250530T015927Z
LAST-MODIFIED:20250530T232900Z
UID:21598-1748634300-1748634300@politicaljar.com
SUMMARY:The President departs Joint Base Andrews en route The White House
DESCRIPTION:Out-of-Town Travel Pool
URL:https://politicaljar.com/event/the-president-departs-joint-base-andrews-en-route-the-white-house-14/
LOCATION:Joint Base Andrews
CATEGORIES:Presidents Schedule
END:VEVENT
BEGIN:VEVENT
DTSTART;TZID=America/New_York:20250530T195500
DTEND;TZID=America/New_York:20250530T195500
DTSTAMP:20260425T150723
CREATED:20250530T015934Z
LAST-MODIFIED:20250530T232901Z
UID:21599-1748634900-1748634900@politicaljar.com
SUMMARY:The President arrives The White House
DESCRIPTION:Open Press
URL:https://politicaljar.com/event/the-president-arrives-the-white-house-25/
LOCATION:South Lawn
CATEGORIES:Presidents Schedule
END:VEVENT
END:VCALENDAR