BEGIN:VCALENDAR
VERSION:2.0
PRODID:-//Political Jar - ECPv6.15.20//NONSGML v1.0//EN
CALSCALE:GREGORIAN
METHOD:PUBLISH
X-WR-CALNAME:Political Jar
X-ORIGINAL-URL:https://politicaljar.com
X-WR-CALDESC:Events for Political Jar
REFRESH-INTERVAL;VALUE=DURATION:PT1H
X-Robots-Tag:noindex
X-PUBLISHED-TTL:PT1H
BEGIN:VTIMEZONE
TZID:America/New_York
BEGIN:DAYLIGHT
TZOFFSETFROM:-0500
TZOFFSETTO:-0400
TZNAME:EDT
DTSTART:20240310T070000
END:DAYLIGHT
BEGIN:STANDARD
TZOFFSETFROM:-0400
TZOFFSETTO:-0500
TZNAME:EST
DTSTART:20241103T060000
END:STANDARD
BEGIN:DAYLIGHT
TZOFFSETFROM:-0500
TZOFFSETTO:-0400
TZNAME:EDT
DTSTART:20250309T070000
END:DAYLIGHT
BEGIN:STANDARD
TZOFFSETFROM:-0400
TZOFFSETTO:-0500
TZNAME:EST
DTSTART:20251102T060000
END:STANDARD
BEGIN:DAYLIGHT
TZOFFSETFROM:-0500
TZOFFSETTO:-0400
TZNAME:EDT
DTSTART:20260308T070000
END:DAYLIGHT
BEGIN:STANDARD
TZOFFSETFROM:-0400
TZOFFSETTO:-0500
TZNAME:EST
DTSTART:20261101T060000
END:STANDARD
END:VTIMEZONE
BEGIN:VTIMEZONE
TZID:America/Chicago
BEGIN:DAYLIGHT
TZOFFSETFROM:-0600
TZOFFSETTO:-0500
TZNAME:CDT
DTSTART:20240310T080000
END:DAYLIGHT
BEGIN:STANDARD
TZOFFSETFROM:-0500
TZOFFSETTO:-0600
TZNAME:CST
DTSTART:20241103T070000
END:STANDARD
BEGIN:DAYLIGHT
TZOFFSETFROM:-0600
TZOFFSETTO:-0500
TZNAME:CDT
DTSTART:20250309T080000
END:DAYLIGHT
BEGIN:STANDARD
TZOFFSETFROM:-0500
TZOFFSETTO:-0600
TZNAME:CST
DTSTART:20251102T070000
END:STANDARD
BEGIN:DAYLIGHT
TZOFFSETFROM:-0600
TZOFFSETTO:-0500
TZNAME:CDT
DTSTART:20260308T080000
END:DAYLIGHT
BEGIN:STANDARD
TZOFFSETFROM:-0500
TZOFFSETTO:-0600
TZNAME:CST
DTSTART:20261101T070000
END:STANDARD
END:VTIMEZONE
BEGIN:VEVENT
DTSTART;TZID=America/New_York:20250529T090000
DTEND;TZID=America/New_York:20250529T090000
DTSTAMP:20260425T150610
CREATED:20250529T014410Z
LAST-MODIFIED:20250529T125907Z
UID:21523-1748509200-1748509200@politicaljar.com
SUMMARY:In-Town Pool Call Time
DESCRIPTION:In-Town Pool
URL:https://politicaljar.com/event/in-town-pool-call-time-89/
CATEGORIES:Presidents Schedule
END:VEVENT
BEGIN:VEVENT
DTSTART;TZID=America/New_York:20250529T110000
DTEND;TZID=America/New_York:20250529T110000
DTSTAMP:20260425T150610
CREATED:20250529T014411Z
LAST-MODIFIED:20250529T145903Z
UID:21524-1748516400-1748516400@politicaljar.com
SUMMARY:The President receives his Intelligence Briefing
DESCRIPTION:Closed Press
URL:https://politicaljar.com/event/the-president-receives-his-intelligence-briefing-11/
LOCATION:Oval Office
CATEGORIES:Presidents Schedule
END:VEVENT
BEGIN:VEVENT
DTSTART;TZID=America/Chicago:20250529T113000
DTEND;TZID=America/Chicago:20250529T133000
DTSTAMP:20260425T150610
CREATED:20250525T215914Z
LAST-MODIFIED:20250525T215914Z
UID:21317-1748518200-1748525400@politicaljar.com
SUMMARY:The State of Houston: A Conversation with Mayor John Whitmire
DESCRIPTION:Join us for a chat with Mayor John Whitmire about the state of Houston in 2025\n\n\nPhoto by Houston Chronicle / Hearst Newspapers via Getty Images \nHouston Mayor John Whitmire will join Baker Institute fellow and former Harris County Judge Ed Emmett for a wide-ranging conversation on the current state of the city and the strategic vision shaping his administration. As Houston navigates a complex urban landscape marked by evolving public safety demands\, aging infrastructure\, economic shifts\, and increasing fiscal pressures\, Mayor Whitmire will reflect on his administration’s early initiatives and outline key priorities for the future.  \n \nThis dialogue will explore both the challenges and opportunities facing Houston at a pivotal time in its development. With decades of combined leadership in local and state government\, Whitmire and Emmett will offer informed perspectives on governance\, intergovernmental collaboration\, and the policy decisions that will influence the city’s trajectory in the coming decade. \n \nThis Director’s Office event is free and open to the public; pre-registration is required.  Lunch will be served.
URL:https://politicaljar.com/event/the-state-of-houston-a-conversation-with-mayor-john-whitmire/
LOCATION:Rice University’s Baker Institute for Public Policy\, 6100 Main Street\, Houston\, TX\, 77005\, United States
ATTACH;FMTTYPE=image/jpeg:https://politicaljar.com/wp-content/uploads/2025/05/41c65f044db515afa170820d1fdac218.jpg
END:VEVENT
BEGIN:VEVENT
DTSTART;TZID=America/Chicago:20250529T120000
DTEND;TZID=America/Chicago:20250529T133000
DTSTAMP:20260425T150611
CREATED:20250525T215920Z
LAST-MODIFIED:20250525T215920Z
UID:21319-1748520000-1748525400@politicaljar.com
SUMMARY:Livestream—The State of Houston: A Conversation with Mayor John Whitmire
DESCRIPTION:Join us for a livestream with Mayor John Whitmire about the current state of Houston\n\n\nPhoto by Houston Chronicle / Hearst Newspapers via Getty Images \nHouston Mayor John Whitmire will join Baker Institute fellow and former Harris County Judge Ed Emmett for a wide-ranging conversation on the current state of the city and the strategic vision shaping his administration. As Houston navigates a complex urban landscape marked by evolving public safety demands\, aging infrastructure\, economic shifts\, and increasing fiscal pressures\, Mayor Whitmire will reflect on his administration’s early initiatives and outline key priorities for the future.  \n \nThis dialogue will explore both the challenges and opportunities facing Houston at a pivotal time in its development. With decades of combined leadership in local and state government\, Whitmire and Emmett will offer informed perspectives on governance\, intergovernmental collaboration\, and the policy decisions that will influence the city’s trajectory in the coming decade.
URL:https://politicaljar.com/event/livestream-the-state-of-houston-a-conversation-with-mayor-john-whitmire/
ATTACH;FMTTYPE=image/jpeg:https://politicaljar.com/wp-content/uploads/2025/05/f93092018cbf9fced481287607981d5c.jpg
END:VEVENT
BEGIN:VEVENT
DTSTART;TZID=America/New_York:20250529T123000
DTEND;TZID=America/New_York:20250529T123000
DTSTAMP:20260425T150611
CREATED:20250529T014412Z
LAST-MODIFIED:20250529T161406Z
UID:21525-1748521800-1748521800@politicaljar.com
SUMMARY:The President has lunch with the Vice President
DESCRIPTION:Closed Press
URL:https://politicaljar.com/event/the-president-has-lunch-with-the-vice-president-3/
LOCATION:Private Dining Room
CATEGORIES:Presidents Schedule
END:VEVENT
BEGIN:VEVENT
DTSTART;TZID=America/New_York:20250529T130000
DTEND;TZID=America/New_York:20250529T130000
DTSTAMP:20260425T150611
CREATED:20250529T014413Z
LAST-MODIFIED:20250529T164423Z
UID:21526-1748523600-1748523600@politicaljar.com
SUMMARY:Press Briefing by the White House Press Secretary Karoline Leavitt
DESCRIPTION:On Camera
URL:https://politicaljar.com/event/press-briefing-by-the-white-house-press-secretary-karoline-leavitt-11/
LOCATION:James S. Brady Press Briefing Room
CATEGORIES:Presidents Schedule
END:VEVENT
BEGIN:VEVENT
DTSTART;TZID=America/New_York:20250529T170000
DTEND;TZID=America/New_York:20250529T170000
DTSTAMP:20260425T150611
CREATED:20250529T014414Z
LAST-MODIFIED:20250529T204410Z
UID:21527-1748538000-1748538000@politicaljar.com
SUMMARY:The President participates in a Swearing-In Ceremony for the Chief of Protocol of The United States
DESCRIPTION:Closed Press
URL:https://politicaljar.com/event/the-president-participates-in-a-swearing-in-ceremony-for-the-chief-of-protocol-of-the-united-states/
LOCATION:Oval Office
CATEGORIES:Presidents Schedule
END:VEVENT
END:VCALENDAR