BEGIN:VCALENDAR
VERSION:2.0
PRODID:-//Political Jar - ECPv6.15.20//NONSGML v1.0//EN
CALSCALE:GREGORIAN
METHOD:PUBLISH
X-ORIGINAL-URL:https://politicaljar.com
X-WR-CALDESC:Events for Political Jar
REFRESH-INTERVAL;VALUE=DURATION:PT1H
X-Robots-Tag:noindex
X-PUBLISHED-TTL:PT1H
BEGIN:VTIMEZONE
TZID:America/New_York
BEGIN:DAYLIGHT
TZOFFSETFROM:-0500
TZOFFSETTO:-0400
TZNAME:EDT
DTSTART:20240310T070000
END:DAYLIGHT
BEGIN:STANDARD
TZOFFSETFROM:-0400
TZOFFSETTO:-0500
TZNAME:EST
DTSTART:20241103T060000
END:STANDARD
BEGIN:DAYLIGHT
TZOFFSETFROM:-0500
TZOFFSETTO:-0400
TZNAME:EDT
DTSTART:20250309T070000
END:DAYLIGHT
BEGIN:STANDARD
TZOFFSETFROM:-0400
TZOFFSETTO:-0500
TZNAME:EST
DTSTART:20251102T060000
END:STANDARD
BEGIN:DAYLIGHT
TZOFFSETFROM:-0500
TZOFFSETTO:-0400
TZNAME:EDT
DTSTART:20260308T070000
END:DAYLIGHT
BEGIN:STANDARD
TZOFFSETFROM:-0400
TZOFFSETTO:-0500
TZNAME:EST
DTSTART:20261101T060000
END:STANDARD
END:VTIMEZONE
BEGIN:VTIMEZONE
TZID:America/Chicago
BEGIN:DAYLIGHT
TZOFFSETFROM:-0600
TZOFFSETTO:-0500
TZNAME:CDT
DTSTART:20240310T080000
END:DAYLIGHT
BEGIN:STANDARD
TZOFFSETFROM:-0500
TZOFFSETTO:-0600
TZNAME:CST
DTSTART:20241103T070000
END:STANDARD
BEGIN:DAYLIGHT
TZOFFSETFROM:-0600
TZOFFSETTO:-0500
TZNAME:CDT
DTSTART:20250309T080000
END:DAYLIGHT
BEGIN:STANDARD
TZOFFSETFROM:-0500
TZOFFSETTO:-0600
TZNAME:CST
DTSTART:20251102T070000
END:STANDARD
BEGIN:DAYLIGHT
TZOFFSETFROM:-0600
TZOFFSETTO:-0500
TZNAME:CDT
DTSTART:20260308T080000
END:DAYLIGHT
BEGIN:STANDARD
TZOFFSETFROM:-0500
TZOFFSETTO:-0600
TZNAME:CST
DTSTART:20261101T070000
END:STANDARD
END:VTIMEZONE
BEGIN:VEVENT
DTSTART;TZID=America/New_York:20250527T090000
DTEND;TZID=America/New_York:20250527T090000
DTSTAMP:20260425T150833
CREATED:20250527T014407Z
LAST-MODIFIED:20250527T125903Z
UID:21419-1748336400-1748336400@politicaljar.com
SUMMARY:In-Town Pool Call Time
DESCRIPTION:In-Town Pool
URL:https://politicaljar.com/event/in-town-pool-call-time-87/
LOCATION:The White House
CATEGORIES:Presidents Schedule
END:VEVENT
BEGIN:VEVENT
DTSTART;TZID=America/Chicago:20250527T170000
DTEND;TZID=America/Chicago:20250527T183000
DTSTAMP:20260425T150833
CREATED:20250518T215857Z
LAST-MODIFIED:20250525T215913Z
UID:20807-1748365200-1748370600@politicaljar.com
SUMMARY:Church-State Separation and the Supreme Court: Upcoming Cases
DESCRIPTION:Join us for an armchair dialogue with David  Leebron\, president and CEO of Texas 2036\, & David Satterfield\, director of the Baker Institute.\n\n\nA discussion of the three cases is now pending decision before the Supreme Court whose outcomes will shape significantly the interpretation in law of the First Amendment’s Establishment and Free Exercise clauses. The cases (Catholic Charities\, Mahmoud\, and Oklahoma Statewide Charter School Board) deal with critical public policy issues ranging from criteria for determining the tax status of religious charities; the right of parents to be receive notice and opt-out options for classroom materials they deem inappropriate on religious grounds; and the establishment of state-funded religious charter schools. \nDavid Leebron\, distinguished legal scholar\, dean of Columbia Law School\, seventh president of Rice University (2004-2022)\, and current president and CEO of Texas 2036\, will discuss with Baker Institute Director David Satterfield the evolution of Supreme Court thinking over the past 30 years on First Amendment Establishment and Free Exercise issues\, and the implications for church-state separation and government entanglement with religion. \nFollow @BakerInstitute on X to join the conversation online with #BakerLive.
URL:https://politicaljar.com/event/the-presidents-and-the-doctrine-of-separation-of-church-and-state/
LOCATION:Rice University’s Baker Institute for Public Policy\, 6100 Main Street\, Houston\, TX\, 77005\, United States
ATTACH;FMTTYPE=image/jpeg:https://politicaljar.com/wp-content/uploads/2025/05/31d3bd9389016b929a9ed68bc3dbb5f2.jpg
END:VEVENT
BEGIN:VEVENT
DTSTART;TZID=America/Chicago:20250527T173000
DTEND;TZID=America/Chicago:20250527T183000
DTSTAMP:20260425T150833
CREATED:20250518T215859Z
LAST-MODIFIED:20250525T215914Z
UID:20809-1748367000-1748370600@politicaljar.com
SUMMARY:Livestream — Church-State Separation and the Supreme Court: Upcoming Cases
DESCRIPTION:Join us for an armchair dialogue with David  Leebron\, president and CEO of Texas 2036\, & David Satterfield\, director of the Baker Institute.\n\n\nA discussion of the three cases is now pending decision before the Supreme Court whose outcomes will shape significantly the interpretation in law of the First Amendment’s Establishment and Free Exercise clauses. The cases (Catholic Charities\, Mahmoud\, and Oklahoma Statewide Charter School Board) deal with critical public policy issues ranging from criteria for determining the tax status of religious charities; the right of parents to be receive notice and opt-out options for classroom materials they deem inappropriate on religious grounds; and the establishment of state-funded religious charter schools. \nDavid Leebron\, distinguished legal scholar\, dean of Columbia Law School\, seventh president of Rice University (2004-2022)\, and current president and CEO of Texas 2036\, will discuss with Baker Institute Director David Satterfield the evolution of Supreme Court thinking over the past 30 years on First Amendment Establishment and Free Exercise issues\, and the implications for church-state separation and government entanglement with religion. \nFollow @BakerInstitute on X to join the conversation online with #BakerLive.
URL:https://politicaljar.com/event/livestream-the-presidents-the-doctrine-of-separation-of-church-and-state/
ATTACH;FMTTYPE=image/jpeg:https://politicaljar.com/wp-content/uploads/2025/05/66fe610720edfaa30a3184830c56590a.jpg
END:VEVENT
END:VCALENDAR