BEGIN:VCALENDAR
VERSION:2.0
PRODID:-//Political Jar - ECPv6.15.20//NONSGML v1.0//EN
CALSCALE:GREGORIAN
METHOD:PUBLISH
X-WR-CALNAME:Political Jar
X-ORIGINAL-URL:https://politicaljar.com
X-WR-CALDESC:Events for Political Jar
REFRESH-INTERVAL;VALUE=DURATION:PT1H
X-Robots-Tag:noindex
X-PUBLISHED-TTL:PT1H
BEGIN:VTIMEZONE
TZID:America/New_York
BEGIN:DAYLIGHT
TZOFFSETFROM:-0500
TZOFFSETTO:-0400
TZNAME:EDT
DTSTART:20240310T070000
END:DAYLIGHT
BEGIN:STANDARD
TZOFFSETFROM:-0400
TZOFFSETTO:-0500
TZNAME:EST
DTSTART:20241103T060000
END:STANDARD
BEGIN:DAYLIGHT
TZOFFSETFROM:-0500
TZOFFSETTO:-0400
TZNAME:EDT
DTSTART:20250309T070000
END:DAYLIGHT
BEGIN:STANDARD
TZOFFSETFROM:-0400
TZOFFSETTO:-0500
TZNAME:EST
DTSTART:20251102T060000
END:STANDARD
BEGIN:DAYLIGHT
TZOFFSETFROM:-0500
TZOFFSETTO:-0400
TZNAME:EDT
DTSTART:20260308T070000
END:DAYLIGHT
BEGIN:STANDARD
TZOFFSETFROM:-0400
TZOFFSETTO:-0500
TZNAME:EST
DTSTART:20261101T060000
END:STANDARD
END:VTIMEZONE
BEGIN:VEVENT
DTSTART;TZID=America/New_York:20250525T143000
DTEND;TZID=America/New_York:20250525T143000
DTSTAMP:20260425T113712
CREATED:20250525T025903Z
LAST-MODIFIED:20250525T181358Z
UID:21258-1748183400-1748183400@politicaljar.com
SUMMARY:Out-of-Town Travel Pool Call Time
DESCRIPTION:Out-of-Town Travel Pool
URL:https://politicaljar.com/event/out-of-town-travel-pool-call-time-16/
LOCATION:Trump National Golf Club Bedminster
CATEGORIES:Presidents Schedule
END:VEVENT
BEGIN:VEVENT
DTSTART;TZID=America/New_York:20250525T170000
DTEND;TZID=America/New_York:20250525T170000
DTSTAMP:20260425T113712
CREATED:20250525T025904Z
LAST-MODIFIED:20250525T204405Z
UID:21259-1748192400-1748192400@politicaljar.com
SUMMARY:The President departs Trump National Golf Club Bedminster en route Morristown Municipal Airport
DESCRIPTION:Closed Press
URL:https://politicaljar.com/event/the-president-departs-trump-national-golf-club-bedminster-en-route-morristown-municipal-airport-3/
LOCATION:Trump National Golf Club Bedminster
CATEGORIES:Presidents Schedule
END:VEVENT
BEGIN:VEVENT
DTSTART;TZID=America/New_York:20250525T171000
DTEND;TZID=America/New_York:20250525T171000
DTSTAMP:20260425T113712
CREATED:20250525T025905Z
LAST-MODIFIED:20250525T204406Z
UID:21260-1748193000-1748193000@politicaljar.com
SUMMARY:The President arrives Morristown Municipal Airport
DESCRIPTION:Out-of-Town Travel Pool
URL:https://politicaljar.com/event/the-president-arrives-morristown-municipal-airport-6/
LOCATION:Morristown Municipal Airport
CATEGORIES:Presidents Schedule
END:VEVENT
BEGIN:VEVENT
DTSTART;TZID=America/New_York:20250525T172000
DTEND;TZID=America/New_York:20250525T172000
DTSTAMP:20260425T113712
CREATED:20250525T025906Z
LAST-MODIFIED:20250525T211400Z
UID:21261-1748193600-1748193600@politicaljar.com
SUMMARY:The President departs Morristown Municipal Airport en route Joint Base Andrews
DESCRIPTION:Out-of-Town Travel Pool
URL:https://politicaljar.com/event/the-president-departs-morristown-municipal-airport-en-route-joint-base-andrews/
LOCATION:Morristown Municipal Airport
CATEGORIES:Presidents Schedule
END:VEVENT
BEGIN:VEVENT
DTSTART;TZID=America/New_York:20250525T181000
DTEND;TZID=America/New_York:20250525T181000
DTSTAMP:20260425T113712
CREATED:20250525T025907Z
LAST-MODIFIED:20250525T214405Z
UID:21262-1748196600-1748196600@politicaljar.com
SUMMARY:The President arrives Joint Base Andrews
DESCRIPTION:Out-of-Town Travel Pool
URL:https://politicaljar.com/event/the-president-arrives-joint-base-andrews-27/
LOCATION:Joint Base Andrews
CATEGORIES:Presidents Schedule
END:VEVENT
BEGIN:VEVENT
DTSTART;TZID=America/New_York:20250525T182000
DTEND;TZID=America/New_York:20250525T182000
DTSTAMP:20260425T113712
CREATED:20250525T025911Z
LAST-MODIFIED:20250525T214406Z
UID:21263-1748197200-1748197200@politicaljar.com
SUMMARY:The President departs Joint Base Andrews en route The White House
DESCRIPTION:Out-of-Town Travel Pool
URL:https://politicaljar.com/event/the-president-departs-joint-base-andrews-en-route-the-white-house-13/
LOCATION:Joint Base Andrews
CATEGORIES:Presidents Schedule
END:VEVENT
BEGIN:VEVENT
DTSTART;TZID=America/New_York:20250525T183000
DTEND;TZID=America/New_York:20250525T183000
DTSTAMP:20260425T113712
CREATED:20250525T025912Z
LAST-MODIFIED:20250525T222904Z
UID:21264-1748197800-1748197800@politicaljar.com
SUMMARY:The President arrives The White House
DESCRIPTION:Open Press
URL:https://politicaljar.com/event/the-president-arrives-the-white-house-23/
LOCATION:South Lawn
CATEGORIES:Presidents Schedule
END:VEVENT
END:VCALENDAR