BEGIN:VCALENDAR
VERSION:2.0
PRODID:-//Political Jar - ECPv6.15.20//NONSGML v1.0//EN
CALSCALE:GREGORIAN
METHOD:PUBLISH
X-WR-CALNAME:Political Jar
X-ORIGINAL-URL:https://politicaljar.com
X-WR-CALDESC:Events for Political Jar
REFRESH-INTERVAL;VALUE=DURATION:PT1H
X-Robots-Tag:noindex
X-PUBLISHED-TTL:PT1H
BEGIN:VTIMEZONE
TZID:America/New_York
BEGIN:DAYLIGHT
TZOFFSETFROM:-0500
TZOFFSETTO:-0400
TZNAME:EDT
DTSTART:20240310T070000
END:DAYLIGHT
BEGIN:STANDARD
TZOFFSETFROM:-0400
TZOFFSETTO:-0500
TZNAME:EST
DTSTART:20241103T060000
END:STANDARD
BEGIN:DAYLIGHT
TZOFFSETFROM:-0500
TZOFFSETTO:-0400
TZNAME:EDT
DTSTART:20250309T070000
END:DAYLIGHT
BEGIN:STANDARD
TZOFFSETFROM:-0400
TZOFFSETTO:-0500
TZNAME:EST
DTSTART:20251102T060000
END:STANDARD
BEGIN:DAYLIGHT
TZOFFSETFROM:-0500
TZOFFSETTO:-0400
TZNAME:EDT
DTSTART:20260308T070000
END:DAYLIGHT
BEGIN:STANDARD
TZOFFSETFROM:-0400
TZOFFSETTO:-0500
TZNAME:EST
DTSTART:20261101T060000
END:STANDARD
END:VTIMEZONE
BEGIN:VEVENT
DTSTART;TZID=America/New_York:20250523T090000
DTEND;TZID=America/New_York:20250523T090000
DTSTAMP:20260425T150742
CREATED:20250523T023116Z
LAST-MODIFIED:20250523T125910Z
UID:21126-1747990800-1747990800@politicaljar.com
SUMMARY:In-Town Pool Call Time
DESCRIPTION:In-Town Pool
URL:https://politicaljar.com/event/in-town-pool-call-time-86/
LOCATION:The White House
CATEGORIES:Presidents Schedule
END:VEVENT
BEGIN:VEVENT
DTSTART;TZID=America/New_York:20250523T130000
DTEND;TZID=America/New_York:20250523T130000
DTSTAMP:20260425T150742
CREATED:20250523T023117Z
LAST-MODIFIED:20250523T164406Z
UID:21127-1748005200-1748005200@politicaljar.com
SUMMARY:The President signs Executive Orders
DESCRIPTION:Closed Press
URL:https://politicaljar.com/event/the-president-signs-executive-orders-27/
LOCATION:Oval Office
CATEGORIES:Presidents Schedule
END:VEVENT
BEGIN:VEVENT
DTSTART;TZID=America/New_York:20250523T132000
DTEND;TZID=America/New_York:20250523T132000
DTSTAMP:20260425T150742
CREATED:20250523T023118Z
LAST-MODIFIED:20250523T171410Z
UID:21128-1748006400-1748006400@politicaljar.com
SUMMARY:Out-of-Town Pool Call Time
DESCRIPTION:Out-of-Town Pool
URL:https://politicaljar.com/event/out-of-town-pool-call-time-22/
LOCATION:Joint Base Andrews
CATEGORIES:Presidents Schedule
END:VEVENT
BEGIN:VEVENT
DTSTART;TZID=America/New_York:20250523T150000
DTEND;TZID=America/New_York:20250523T150000
DTSTAMP:20260425T150742
CREATED:20250523T023119Z
LAST-MODIFIED:20250523T184404Z
UID:21129-1748012400-1748012400@politicaljar.com
SUMMARY:The President departs The White House en route Joint Base Andrews
DESCRIPTION:Open Press
URL:https://politicaljar.com/event/the-president-departs-the-white-house-en-route-joint-base-andrews-12/
LOCATION:South Lawn
CATEGORIES:Presidents Schedule
END:VEVENT
BEGIN:VEVENT
DTSTART;TZID=America/New_York:20250523T151000
DTEND;TZID=America/New_York:20250523T151000
DTSTAMP:20260425T150742
CREATED:20250523T023120Z
LAST-MODIFIED:20250523T184405Z
UID:21130-1748013000-1748013000@politicaljar.com
SUMMARY:The President arrives Joint Base Andrews
DESCRIPTION:Out-of-Town Travel Pool
URL:https://politicaljar.com/event/the-president-arrives-joint-base-andrews-26/
LOCATION:Joint Base Andrews
CATEGORIES:Presidents Schedule
END:VEVENT
BEGIN:VEVENT
DTSTART;TZID=America/New_York:20250523T152000
DTEND;TZID=America/New_York:20250523T152000
DTSTAMP:20260425T150742
CREATED:20250523T023130Z
LAST-MODIFIED:20250523T184406Z
UID:21131-1748013600-1748013600@politicaljar.com
SUMMARY:The President departs Joint Base Andrews en route Morristown Municipal Airport
DESCRIPTION:Out-of-Town Travel Pool
URL:https://politicaljar.com/event/the-president-departs-joint-base-andrews-en-route-morristown-municipal-airport-3/
LOCATION:Joint Base Andrews
CATEGORIES:Presidents Schedule
END:VEVENT
BEGIN:VEVENT
DTSTART;TZID=America/New_York:20250523T161000
DTEND;TZID=America/New_York:20250523T161000
DTSTAMP:20260425T150742
CREATED:20250523T023131Z
LAST-MODIFIED:20250523T195914Z
UID:21132-1748016600-1748016600@politicaljar.com
SUMMARY:The President arrives Morristown Municipal Airport
DESCRIPTION:Out-of-Town Travel Pool
URL:https://politicaljar.com/event/the-president-arrives-morristown-municipal-airport-5/
LOCATION:Morristown Municipal Airport
CATEGORIES:Presidents Schedule
END:VEVENT
BEGIN:VEVENT
DTSTART;TZID=America/New_York:20250523T162000
DTEND;TZID=America/New_York:20250523T162000
DTSTAMP:20260425T150742
CREATED:20250523T023133Z
LAST-MODIFIED:20250523T195915Z
UID:21133-1748017200-1748017200@politicaljar.com
SUMMARY:The President departs Morristown Municipal Airport en route Trump National Golf Club Bedminster
DESCRIPTION:Out-of-Town Travel Pool
URL:https://politicaljar.com/event/the-president-departs-morristown-municipal-airport-en-route-trump-national-golf-club-bedminster-3/
LOCATION:Morristown Municipal Airport
CATEGORIES:Presidents Schedule
END:VEVENT
BEGIN:VEVENT
DTSTART;TZID=America/New_York:20250523T163000
DTEND;TZID=America/New_York:20250523T163000
DTSTAMP:20260425T150742
CREATED:20250523T023134Z
LAST-MODIFIED:20250523T202924Z
UID:21134-1748017800-1748017800@politicaljar.com
SUMMARY:The President arrives Trump National Golf Club Bedminster
DESCRIPTION:Closed Press
URL:https://politicaljar.com/event/the-president-arrives-trump-national-golf-club-bedminster-3/
LOCATION:Trump National Golf Club Bedminster
CATEGORIES:Presidents Schedule
END:VEVENT
END:VCALENDAR