BEGIN:VCALENDAR
VERSION:2.0
PRODID:-//Political Jar - ECPv6.15.20//NONSGML v1.0//EN
CALSCALE:GREGORIAN
METHOD:PUBLISH
X-WR-CALNAME:Political Jar
X-ORIGINAL-URL:https://politicaljar.com
X-WR-CALDESC:Events for Political Jar
REFRESH-INTERVAL;VALUE=DURATION:PT1H
X-Robots-Tag:noindex
X-PUBLISHED-TTL:PT1H
BEGIN:VTIMEZONE
TZID:UTC
BEGIN:STANDARD
TZOFFSETFROM:+0000
TZOFFSETTO:+0000
TZNAME:UTC
DTSTART:20240101T000000
END:STANDARD
END:VTIMEZONE
BEGIN:VTIMEZONE
TZID:America/New_York
BEGIN:DAYLIGHT
TZOFFSETFROM:-0500
TZOFFSETTO:-0400
TZNAME:EDT
DTSTART:20240310T070000
END:DAYLIGHT
BEGIN:STANDARD
TZOFFSETFROM:-0400
TZOFFSETTO:-0500
TZNAME:EST
DTSTART:20241103T060000
END:STANDARD
BEGIN:DAYLIGHT
TZOFFSETFROM:-0500
TZOFFSETTO:-0400
TZNAME:EDT
DTSTART:20250309T070000
END:DAYLIGHT
BEGIN:STANDARD
TZOFFSETFROM:-0400
TZOFFSETTO:-0500
TZNAME:EST
DTSTART:20251102T060000
END:STANDARD
BEGIN:DAYLIGHT
TZOFFSETFROM:-0500
TZOFFSETTO:-0400
TZNAME:EDT
DTSTART:20260308T070000
END:DAYLIGHT
BEGIN:STANDARD
TZOFFSETFROM:-0400
TZOFFSETTO:-0500
TZNAME:EST
DTSTART:20261101T060000
END:STANDARD
END:VTIMEZONE
BEGIN:VEVENT
DTSTART;TZID=UTC:20250516T083000
DTEND;TZID=UTC:20250516T083000
DTSTAMP:20260425T105342
CREATED:20250125T185838Z
LAST-MODIFIED:20250222T090031Z
UID:6192-1747384200-1747384200@politicaljar.com
SUMMARY:U.S. Import and Export Price Indexes
DESCRIPTION:
URL:https://politicaljar.com/event/u-s-import-and-export-price-indexes-4/
LOCATION:Washington\, DC
CATEGORIES:BLS,IMPORTANT
END:VEVENT
BEGIN:VEVENT
DTSTART;TZID=America/New_York:20250516T090000
DTEND;TZID=America/New_York:20250516T090000
DTSTAMP:20260425T105342
CREATED:20250515T201416Z
LAST-MODIFIED:20250516T124401Z
UID:20606-1747386000-1747386000@politicaljar.com
SUMMARY:Out-of-Town Pool Call Time
DESCRIPTION:Out-of-Town Pool
URL:https://politicaljar.com/event/out-of-town-pool-call-time-21/
CATEGORIES:Presidents Schedule
END:VEVENT
BEGIN:VEVENT
DTSTART;TZID=America/New_York:20250516T101500
DTEND;TZID=America/New_York:20250516T101500
DTSTAMP:20260425T105342
CREATED:20250515T201417Z
LAST-MODIFIED:20250516T141415Z
UID:20607-1747390500-1747390500@politicaljar.com
SUMMARY:The President departs the Ritz Carlton Abu Dhabi en route Qasr Al Watan
DESCRIPTION:Out-of-Town Travel Pool
URL:https://politicaljar.com/event/the-president-departs-the-ritz-carlton-abu-dhabi-en-route-qasr-al-watan-2/
CATEGORIES:Presidents Schedule
END:VEVENT
BEGIN:VEVENT
DTSTART;TZID=America/New_York:20250516T104500
DTEND;TZID=America/New_York:20250516T104500
DTSTAMP:20260425T105342
CREATED:20250515T201418Z
LAST-MODIFIED:20250516T144422Z
UID:20608-1747392300-1747392300@politicaljar.com
SUMMARY:The President arrives Qasr Al Watan
DESCRIPTION:Out-of-Town Travel Pool
URL:https://politicaljar.com/event/the-president-arrives-qasr-al-watan-2/
CATEGORIES:Presidents Schedule
END:VEVENT
BEGIN:VEVENT
DTSTART;TZID=America/New_York:20250516T105000
DTEND;TZID=America/New_York:20250516T105000
DTSTAMP:20260425T105342
CREATED:20250515T201418Z
LAST-MODIFIED:20250516T144423Z
UID:20609-1747392600-1747392600@politicaljar.com
SUMMARY:The President participates in a US-UAE Business Council Breakfast Roundtable
DESCRIPTION:Out-of-Town Travel Pool
URL:https://politicaljar.com/event/the-president-participates-in-a-us-uae-business-council-breakfast-roundtable/
CATEGORIES:Presidents Schedule
END:VEVENT
BEGIN:VEVENT
DTSTART;TZID=America/New_York:20250516T120000
DTEND;TZID=America/New_York:20250516T120000
DTSTAMP:20260425T105342
CREATED:20250515T201419Z
LAST-MODIFIED:20250516T154408Z
UID:20610-1747396800-1747396800@politicaljar.com
SUMMARY:The President departs the Qasr Al Watan en route the Abrahamic Family House
DESCRIPTION:Out-of-Town Travel Pool
URL:https://politicaljar.com/event/the-president-departs-the-qasr-al-watan-en-route-the-abrahamic-family-house/
CATEGORIES:Presidents Schedule
END:VEVENT
BEGIN:VEVENT
DTSTART;TZID=America/New_York:20250516T122000
DTEND;TZID=America/New_York:20250516T122000
DTSTAMP:20260425T105342
CREATED:20250515T201430Z
LAST-MODIFIED:20250516T161414Z
UID:20611-1747398000-1747398000@politicaljar.com
SUMMARY:The President arrives the Abrahamic Family House
DESCRIPTION:Out-of-Town Travel Pool
URL:https://politicaljar.com/event/the-president-arrives-the-abrahamic-family-house/
CATEGORIES:Presidents Schedule
END:VEVENT
BEGIN:VEVENT
DTSTART;TZID=America/New_York:20250516T122500
DTEND;TZID=America/New_York:20250516T122500
DTSTAMP:20260425T105342
CREATED:20250515T201431Z
LAST-MODIFIED:20250516T161414Z
UID:20612-1747398300-1747398300@politicaljar.com
SUMMARY:The President tours the Abrahamic Family House
DESCRIPTION:Out-of-Town Travel Pool
URL:https://politicaljar.com/event/the-president-tours-the-abrahamic-family-house/
CATEGORIES:Presidents Schedule
END:VEVENT
BEGIN:VEVENT
DTSTART;TZID=America/New_York:20250516T131000
DTEND;TZID=America/New_York:20250516T131000
DTSTAMP:20260425T105342
CREATED:20250515T201432Z
LAST-MODIFIED:20250516T164418Z
UID:20613-1747401000-1747401000@politicaljar.com
SUMMARY:The President departs the Abrahamic Family House en route Abu Dhabi International Airport
DESCRIPTION:Out-of-Town Travel Pool
URL:https://politicaljar.com/event/the-president-departs-the-abrahamic-family-house-en-route-abu-dhabi-international-airport/
CATEGORIES:Presidents Schedule
END:VEVENT
BEGIN:VEVENT
DTSTART;TZID=America/New_York:20250516T133500
DTEND;TZID=America/New_York:20250516T133500
DTSTAMP:20260425T105342
CREATED:20250515T201433Z
LAST-MODIFIED:20250516T171400Z
UID:20614-1747402500-1747402500@politicaljar.com
SUMMARY:The President arrives Abu Dhabi International Airport
DESCRIPTION:Out-of-Town Travel Pool
URL:https://politicaljar.com/event/the-president-arrives-abu-dhabi-international-airport-2/
CATEGORIES:Presidents Schedule
END:VEVENT
BEGIN:VEVENT
DTSTART;TZID=America/New_York:20250516T134500
DTEND;TZID=America/New_York:20250516T134500
DTSTAMP:20260425T105342
CREATED:20250515T201433Z
LAST-MODIFIED:20250516T174403Z
UID:20615-1747403100-1747403100@politicaljar.com
SUMMARY:The President departs Abu Dhabi International Airport en route Royal Air Force Mildenhall
DESCRIPTION:Out-of-Town Travel Pool
URL:https://politicaljar.com/event/the-president-departs-abu-dhabi-international-airport-en-route-royal-air-force-mildenhall/
CATEGORIES:Presidents Schedule
END:VEVENT
BEGIN:VEVENT
DTSTART;TZID=America/New_York:20250516T141500
DTEND;TZID=America/New_York:20250516T141500
DTSTAMP:20260425T105342
CREATED:20250515T201439Z
LAST-MODIFIED:20250516T181408Z
UID:20616-1747404900-1747404900@politicaljar.com
SUMMARY:The President arrives Royal Air Force Mildenhall
DESCRIPTION:Out-of-Town Travel Pool
URL:https://politicaljar.com/event/the-president-arrives-royal-air-force-mildenhall-3/
CATEGORIES:Presidents Schedule
END:VEVENT
BEGIN:VEVENT
DTSTART;TZID=America/New_York:20250516T154500
DTEND;TZID=America/New_York:20250516T154500
DTSTAMP:20260425T105342
CREATED:20250515T201439Z
LAST-MODIFIED:20250516T191418Z
UID:20617-1747410300-1747410300@politicaljar.com
SUMMARY:The President departs Royal Air Force Mildenhall en route Joint Base Andrews
DESCRIPTION:Out-of-Town Travel Pool
URL:https://politicaljar.com/event/the-president-departs-royal-air-force-mildenhall-en-route-joint-base-andrews/
CATEGORIES:Presidents Schedule
END:VEVENT
BEGIN:VEVENT
DTSTART;TZID=America/New_York:20250516T210000
DTEND;TZID=America/New_York:20250516T210000
DTSTAMP:20260425T105342
CREATED:20250515T201440Z
LAST-MODIFIED:20250517T004359Z
UID:20618-1747429200-1747429200@politicaljar.com
SUMMARY:In-Town Pool Call Time
DESCRIPTION:In-Town Pool
URL:https://politicaljar.com/event/in-town-pool-call-time-79/
LOCATION:The White House
CATEGORIES:Presidents Schedule
END:VEVENT
BEGIN:VEVENT
DTSTART;TZID=America/New_York:20250516T222000
DTEND;TZID=America/New_York:20250516T222000
DTSTAMP:20260425T105342
CREATED:20250515T201441Z
LAST-MODIFIED:20250517T021413Z
UID:20619-1747434000-1747434000@politicaljar.com
SUMMARY:The President arrives Joint Base Andrews
DESCRIPTION:Out-of-Town Travel Pool
URL:https://politicaljar.com/event/the-president-arrives-joint-base-andrews-25/
LOCATION:Joint Base Andrews
CATEGORIES:Presidents Schedule
END:VEVENT
BEGIN:VEVENT
DTSTART;TZID=America/New_York:20250516T223000
DTEND;TZID=America/New_York:20250516T223000
DTSTAMP:20260425T105342
CREATED:20250515T201441Z
LAST-MODIFIED:20250517T021413Z
UID:20620-1747434600-1747434600@politicaljar.com
SUMMARY:The President departs Joint Base Andrews en route The White House
DESCRIPTION:Out-of-Town Travel Pool
URL:https://politicaljar.com/event/the-president-departs-joint-base-andrews-en-route-the-white-house-12/
LOCATION:Joint Base Andrews
CATEGORIES:Presidents Schedule
END:VEVENT
BEGIN:VEVENT
DTSTART;TZID=America/New_York:20250516T224000
DTEND;TZID=America/New_York:20250516T224000
DTSTAMP:20260425T105342
CREATED:20250515T201455Z
LAST-MODIFIED:20250517T021414Z
UID:20621-1747435200-1747435200@politicaljar.com
SUMMARY:The President arrives The White House
DESCRIPTION:Open Press
URL:https://politicaljar.com/event/the-president-arrives-the-white-house-20/
LOCATION:South Lawn
CATEGORIES:Presidents Schedule
END:VEVENT
END:VCALENDAR