BEGIN:VCALENDAR
VERSION:2.0
PRODID:-//Political Jar - ECPv6.15.20//NONSGML v1.0//EN
CALSCALE:GREGORIAN
METHOD:PUBLISH
X-ORIGINAL-URL:https://politicaljar.com
X-WR-CALDESC:Events for Political Jar
REFRESH-INTERVAL;VALUE=DURATION:PT1H
X-Robots-Tag:noindex
X-PUBLISHED-TTL:PT1H
BEGIN:VTIMEZONE
TZID:America/Los_Angeles
BEGIN:DAYLIGHT
TZOFFSETFROM:-0800
TZOFFSETTO:-0700
TZNAME:PDT
DTSTART:20240310T100000
END:DAYLIGHT
BEGIN:STANDARD
TZOFFSETFROM:-0700
TZOFFSETTO:-0800
TZNAME:PST
DTSTART:20241103T090000
END:STANDARD
BEGIN:DAYLIGHT
TZOFFSETFROM:-0800
TZOFFSETTO:-0700
TZNAME:PDT
DTSTART:20250309T100000
END:DAYLIGHT
BEGIN:STANDARD
TZOFFSETFROM:-0700
TZOFFSETTO:-0800
TZNAME:PST
DTSTART:20251102T090000
END:STANDARD
BEGIN:DAYLIGHT
TZOFFSETFROM:-0800
TZOFFSETTO:-0700
TZNAME:PDT
DTSTART:20260308T100000
END:DAYLIGHT
BEGIN:STANDARD
TZOFFSETFROM:-0700
TZOFFSETTO:-0800
TZNAME:PST
DTSTART:20261101T090000
END:STANDARD
END:VTIMEZONE
BEGIN:VTIMEZONE
TZID:UTC
BEGIN:STANDARD
TZOFFSETFROM:+0000
TZOFFSETTO:+0000
TZNAME:UTC
DTSTART:20240101T000000
END:STANDARD
END:VTIMEZONE
BEGIN:VTIMEZONE
TZID:America/New_York
BEGIN:DAYLIGHT
TZOFFSETFROM:-0500
TZOFFSETTO:-0400
TZNAME:EDT
DTSTART:20240310T070000
END:DAYLIGHT
BEGIN:STANDARD
TZOFFSETFROM:-0400
TZOFFSETTO:-0500
TZNAME:EST
DTSTART:20241103T060000
END:STANDARD
BEGIN:DAYLIGHT
TZOFFSETFROM:-0500
TZOFFSETTO:-0400
TZNAME:EDT
DTSTART:20250309T070000
END:DAYLIGHT
BEGIN:STANDARD
TZOFFSETFROM:-0400
TZOFFSETTO:-0500
TZNAME:EST
DTSTART:20251102T060000
END:STANDARD
BEGIN:DAYLIGHT
TZOFFSETFROM:-0500
TZOFFSETTO:-0400
TZNAME:EDT
DTSTART:20260308T070000
END:DAYLIGHT
BEGIN:STANDARD
TZOFFSETFROM:-0400
TZOFFSETTO:-0500
TZNAME:EST
DTSTART:20261101T060000
END:STANDARD
END:VTIMEZONE
BEGIN:VEVENT
DTSTART;TZID=America/Los_Angeles:20250510T080000
DTEND;TZID=America/Los_Angeles:20250511T120000
DTSTAMP:20260425T150838
CREATED:20250127T024958Z
LAST-MODIFIED:20250505T032928Z
UID:6642-1746864000-1746964800@politicaljar.com
SUMMARY:Camp Congress for Girls Los Angeles 2025
DESCRIPTION:It’s all fun & civics at Camp Congress for Girls Los Angeles 2025. Girls study government\, run for office & pass a bill.\n\n\nCamp Congress for Girls Los Angeles 2025 is a leadership program that introduces girls to United States politics. Camp begins with a lesson on the structure of our political system. Each girl will choose to run for a seat in the US House of Representatives\, the US Senate or for the presidency. She will create her own campaign with a platform\, campaign finance plan\, and film a political ad. All campers will register to vote and then vote in an election. Once elected to Congress and sworn in\, the newly installed members of Congress will learn how to introduce a bill\, debate the merits of the bill\, lobby fellow legislators\, collaborate with the Executive branch and finally vote on the proposed bill. Camp will culminate with a ceremonial signing of the bill by our Ms. President. All participants will receive Certificate of Completion. Participating Girl Scouts will earn a badge for completion of this session. \nFor additional information contact us at +1 866-277-2123 extension 1\, via email at info@girlsinpolitics.com or visit our website at www.girlsinpolitics.com. Ticketing options for students ages 8-11 and 12-17. Please no solicitation emails or calls. We do not book speakers\, book vendors or recruit volunteers for events. \nFrequently Asked Questions \nIs this event a drop-off? All camps are drop-off unless parent participation is indicated. Parents may wait at the venue for the duration of the camp in any of the lounge or seating area throughout the hotel. The meeting room space capacity can only accommodate students and staff. \nIs the registration fee refundable? The registration fee is non-refundable unless the organizer cancels the session. If a participant is unable to attend a session a credit will be placed on file that may be used at any time for a future program. The credit does not expire. \nIs this a partisan program or supported by a political party? No\, the Girls in Politics Initiative is an independent organization that is self-funded through the fees generated from hosting sessions. The curriculum is civic education. \nIs financial assistance available? Due to rising costs associated with hosting events\, there is no financial assistance available for this event and there is no promo code for this event. \nWho are the instructors? Our Lead Instructors are women that currently or have previously worked in government or electoral politics. Our support staff are current or former licensed teachers. All instructors and support staff undergo background screening. All instructors and support staff are also in compliance with any local ordinances or state/provincial regulations applicable to those working with children.
URL:https://politicaljar.com/event/camp-congress-for-girls-los-angeles-2025/
LOCATION:9620 Airport Blvd\, 9620 Airport Boulevard\, Los Angeles\, CA\, 90045\, United States
ATTACH;FMTTYPE=image/jpeg:https://politicaljar.com/wp-content/uploads/2025/01/ffe3be9b33566b790efcc891f9cc2b2f.jpg
END:VEVENT
BEGIN:VEVENT
DTSTART;TZID=UTC:20250511T000000
DTEND;TZID=UTC:20250511T235959
DTSTAMP:20260425T150838
CREATED:20250125T204052Z
LAST-MODIFIED:20250504T202859Z
UID:6368-1746921600-1747007999@politicaljar.com
SUMMARY:2025 Albania Parliamentary Election
DESCRIPTION:Parliamentary
URL:https://politicaljar.com/event/2025-albania-parliamentary-election/
LOCATION:Albania
END:VEVENT
BEGIN:VEVENT
DTSTART;TZID=America/Los_Angeles:20250511T080000
DTEND;TZID=America/Los_Angeles:20250511T120000
DTSTAMP:20260425T150838
CREATED:20250127T025002Z
LAST-MODIFIED:20250505T032928Z
UID:6645-1746950400-1746964800@politicaljar.com
SUMMARY:Camp Congress for Girls San Diego 2025
DESCRIPTION:It’s all fun & civics at Camp Congress for Girls San Diego 2025. Girls study government\, run for office & pass a bill.\n\n\nCamp Congress for Girls San Diego 2025 is a leadership program that introduces girls to U.S. politics. Camp begins with a lesson on the structure of our political system. Each girl will choose to run for a seat in the US House of Representatives\, the US Senate or for the presidency. She will create her own campaign with a platform\, campaign finance plan\, and film a political ad. All campers will register to vote and then vote in an election. Once elected to Congress and sworn in\, the newly installed members of Congress will learn how to introduce a bill\, debate the merits of the bill\, lobby fellow legislators\, collaborate with the Executive branch and finally vote on the proposed bill. Camp will culminate with a ceremonial signing of the bill by our Ms. President. All participants will receive Certificate of Completion. Girl Scouts qualify to earn a badge for participation; badge not provided.  \nFor additional information contact us at +1 866-277-2123 extension 1\, via email at info@girlsinpolitics.com or visit our website at www.girlsinpolitics.com. Ticketing options for girls ages 8-11 and 12-17. Please no solicitation emails or calls. We do not book speakers\, book vendors or recruit volunteers for events. \nFrequently Asked Questions \nIs this event a drop-off? All camps are drop-off unless parent participation is indicated. Parents may wait at the venue for the duration of the camp in any of the lounge or seating area throughout the hotel. The meeting room space capacity can only accommodate students and staff. \nIs the registration fee refundable? The registration fee is non-refundable unless the organizer cancels the session. If a participant is unable to attend a session a credit will be placed on file that may be used at any time for a future program. The credit does not expire. \nIs this a partisan program or supported by a political party? No\, the Girls in Politics Initiative is an independent organization that is self-funded through the fees generated from hosting sessions. The curriculum is civic education. \nIs financial assistance available? Due to rising costs associated with hosting events\, there is no financial assistance available for this event and there is no promo code for this event. \nWho are the instructors? Our Lead Instructors are women that currently or have previously worked in government or electoral politics. Our support staff are current or former licensed teachers. All instructors and support staff undergo background screening. All instructors and support staff are also in compliance with any local ordinances or state/provincial regulations applicable to those working with children.
URL:https://politicaljar.com/event/camp-congress-for-girls-san-diego-2025/
LOCATION:2592 Laning Rd\, 2592 Laning Road\, San Diego\, CA\, 92106\, United States
ATTACH;FMTTYPE=image/jpeg:https://politicaljar.com/wp-content/uploads/2025/01/650ac78117534036d9a57e9d2751cb49.jpg
END:VEVENT
BEGIN:VEVENT
DTSTART;TZID=America/New_York:20250511T100000
DTEND;TZID=America/New_York:20250511T100000
DTSTAMP:20260425T150838
CREATED:20250511T004413Z
LAST-MODIFIED:20250511T135911Z
UID:20179-1746957600-1746957600@politicaljar.com
SUMMARY:In-Town Pool Call Time
DESCRIPTION:In-Town Pool
URL:https://politicaljar.com/event/in-town-pool-call-time-77/
CATEGORIES:Presidents Schedule
END:VEVENT
END:VCALENDAR