BEGIN:VCALENDAR
VERSION:2.0
PRODID:-//Political Jar - ECPv6.15.20//NONSGML v1.0//EN
CALSCALE:GREGORIAN
METHOD:PUBLISH
X-ORIGINAL-URL:https://politicaljar.com
X-WR-CALDESC:Events for Political Jar
REFRESH-INTERVAL;VALUE=DURATION:PT1H
X-Robots-Tag:noindex
X-PUBLISHED-TTL:PT1H
BEGIN:VTIMEZONE
TZID:UTC
BEGIN:STANDARD
TZOFFSETFROM:+0000
TZOFFSETTO:+0000
TZNAME:UTC
DTSTART:20240101T000000
END:STANDARD
END:VTIMEZONE
BEGIN:VTIMEZONE
TZID:America/New_York
BEGIN:DAYLIGHT
TZOFFSETFROM:-0500
TZOFFSETTO:-0400
TZNAME:EDT
DTSTART:20240310T070000
END:DAYLIGHT
BEGIN:STANDARD
TZOFFSETFROM:-0400
TZOFFSETTO:-0500
TZNAME:EST
DTSTART:20241103T060000
END:STANDARD
BEGIN:DAYLIGHT
TZOFFSETFROM:-0500
TZOFFSETTO:-0400
TZNAME:EDT
DTSTART:20250309T070000
END:DAYLIGHT
BEGIN:STANDARD
TZOFFSETFROM:-0400
TZOFFSETTO:-0500
TZNAME:EST
DTSTART:20251102T060000
END:STANDARD
BEGIN:DAYLIGHT
TZOFFSETFROM:-0500
TZOFFSETTO:-0400
TZNAME:EDT
DTSTART:20260308T070000
END:DAYLIGHT
BEGIN:STANDARD
TZOFFSETFROM:-0400
TZOFFSETTO:-0500
TZNAME:EST
DTSTART:20261101T060000
END:STANDARD
END:VTIMEZONE
BEGIN:VEVENT
DTSTART;TZID=UTC:20250430T083000
DTEND;TZID=UTC:20250430T083000
DTSTAMP:20260425T093132
CREATED:20250125T185829Z
LAST-MODIFIED:20250222T090024Z
UID:6185-1746001800-1746001800@politicaljar.com
SUMMARY:Employment Cost Index
DESCRIPTION:
URL:https://politicaljar.com/event/employment-cost-index-2/
LOCATION:Washington\, DC
CATEGORIES:BLS,IMPORTANT
END:VEVENT
BEGIN:VEVENT
DTSTART;TZID=America/New_York:20250430T090000
DTEND;TZID=America/New_York:20250430T090000
DTSTAMP:20260425T093132
CREATED:20250430T024401Z
LAST-MODIFIED:20250430T124435Z
UID:19356-1746003600-1746003600@politicaljar.com
SUMMARY:In-Town Pool Call Time
DESCRIPTION:In-Town Pool
URL:https://politicaljar.com/event/in-town-pool-call-time-68/
CATEGORIES:Presidents Schedule
END:VEVENT
BEGIN:VEVENT
DTSTART;TZID=America/New_York:20250430T110000
DTEND;TZID=America/New_York:20250430T110000
DTSTAMP:20260425T093132
CREATED:20250430T024402Z
LAST-MODIFIED:20250430T145857Z
UID:19357-1746010800-1746010800@politicaljar.com
SUMMARY:The President participates in a Cabinet Meeting
DESCRIPTION:White House Press Pool
URL:https://politicaljar.com/event/the-president-participates-in-a-cabinet-meeting-3/
LOCATION:Cabinet Room
CATEGORIES:Presidents Schedule
END:VEVENT
BEGIN:VEVENT
DTSTART;TZID=America/New_York:20250430T140000
DTEND;TZID=America/New_York:20250430T140000
DTSTAMP:20260425T093132
CREATED:20250430T024403Z
LAST-MODIFIED:20250430T174416Z
UID:19358-1746021600-1746021600@politicaljar.com
SUMMARY:The President participates in a Swearing-In Ceremony for the Ambassador to the United Kingdom
DESCRIPTION:Closed Press
URL:https://politicaljar.com/event/the-president-participates-in-a-swearing-in-ceremony-for-the-ambassador-to-the-united-kingdom/
LOCATION:Oval Office
CATEGORIES:Presidents Schedule
END:VEVENT
BEGIN:VEVENT
DTSTART;TZID=America/New_York:20250430T160000
DTEND;TZID=America/New_York:20250430T160000
DTSTAMP:20260425T093132
CREATED:20250430T024404Z
LAST-MODIFIED:20250430T195914Z
UID:19360-1746028800-1746028800@politicaljar.com
SUMMARY:The President delivers Investing in America remarks
DESCRIPTION:White House Press Pool
URL:https://politicaljar.com/event/the-president-delivers-investing-in-america-remarks/
LOCATION:Cross Hall
CATEGORIES:Presidents Schedule
END:VEVENT
BEGIN:VEVENT
DTSTART;TZID=America/New_York:20250430T183000
DTEND;TZID=America/New_York:20250430T194500
DTSTAMP:20260425T093132
CREATED:20250304T025440Z
LAST-MODIFIED:20250304T025440Z
UID:13210-1746037800-1746042300@politicaljar.com
SUMMARY:Are We on the Brink of a New Economic Order?
DESCRIPTION:A Discussion Moderated by Felicia Wong\n\n\nTop leaders of both political parties are promoting economic and social policies that challenge key tenets of neoliberalism\, centering the welfare of workers over the power of corporations. Where do the parties overlap\, and what are the real prospects for change? As calls for tariffs\, support for unions by the younger generation\, and anger at corporate greed all play out\, what is the political path forward? And what are the roles of government\, community organizations\, and corporations? A panel of experts speaks to these issues. Moderated by Felicia Wong\, outgoing president and senior adviser at the Roosevelt Institute. \n \nPresented with the Stone Center on Socio-Economic Inequality.
URL:https://politicaljar.com/event/are-we-on-the-brink-of-a-new-economic-order/
LOCATION:Elebash Recital Hall\, The Graduate Center\, 365 5th Avenue\, New York\, NY\, 10016\, United States
ATTACH;FMTTYPE=image/jpeg:https://politicaljar.com/wp-content/uploads/2025/03/78f195bf8509b01cce8892666a72b717.jpg
END:VEVENT
BEGIN:VEVENT
DTSTART;TZID=America/New_York:20250430T200000
DTEND;TZID=America/New_York:20250430T200000
DTSTAMP:20260425T093132
CREATED:20250430T024405Z
LAST-MODIFIED:20250430T234420Z
UID:19361-1746043200-1746043200@politicaljar.com
SUMMARY:The President participates in a NewsNation Cuomo Townhall: The First 100 Days
DESCRIPTION:Closed Press
URL:https://politicaljar.com/event/the-president-participates-in-a-newsnation-cuomo-townhall-the-first-100-days/
LOCATION:Oval Office
CATEGORIES:Presidents Schedule
END:VEVENT
END:VCALENDAR