BEGIN:VCALENDAR
VERSION:2.0
PRODID:-//Political Jar - ECPv6.15.20//NONSGML v1.0//EN
CALSCALE:GREGORIAN
METHOD:PUBLISH
X-ORIGINAL-URL:https://politicaljar.com
X-WR-CALDESC:Events for Political Jar
REFRESH-INTERVAL;VALUE=DURATION:PT1H
X-Robots-Tag:noindex
X-PUBLISHED-TTL:PT1H
BEGIN:VTIMEZONE
TZID:America/New_York
BEGIN:DAYLIGHT
TZOFFSETFROM:-0500
TZOFFSETTO:-0400
TZNAME:EDT
DTSTART:20240310T070000
END:DAYLIGHT
BEGIN:STANDARD
TZOFFSETFROM:-0400
TZOFFSETTO:-0500
TZNAME:EST
DTSTART:20241103T060000
END:STANDARD
BEGIN:DAYLIGHT
TZOFFSETFROM:-0500
TZOFFSETTO:-0400
TZNAME:EDT
DTSTART:20250309T070000
END:DAYLIGHT
BEGIN:STANDARD
TZOFFSETFROM:-0400
TZOFFSETTO:-0500
TZNAME:EST
DTSTART:20251102T060000
END:STANDARD
BEGIN:DAYLIGHT
TZOFFSETFROM:-0500
TZOFFSETTO:-0400
TZNAME:EDT
DTSTART:20260308T070000
END:DAYLIGHT
BEGIN:STANDARD
TZOFFSETFROM:-0400
TZOFFSETTO:-0500
TZNAME:EST
DTSTART:20261101T060000
END:STANDARD
END:VTIMEZONE
BEGIN:VTIMEZONE
TZID:UTC
BEGIN:STANDARD
TZOFFSETFROM:+0000
TZOFFSETTO:+0000
TZNAME:UTC
DTSTART:20240101T000000
END:STANDARD
END:VTIMEZONE
BEGIN:VTIMEZONE
TZID:America/Denver
BEGIN:DAYLIGHT
TZOFFSETFROM:-0700
TZOFFSETTO:-0600
TZNAME:MDT
DTSTART:20240310T090000
END:DAYLIGHT
BEGIN:STANDARD
TZOFFSETFROM:-0600
TZOFFSETTO:-0700
TZNAME:MST
DTSTART:20241103T080000
END:STANDARD
BEGIN:DAYLIGHT
TZOFFSETFROM:-0700
TZOFFSETTO:-0600
TZNAME:MDT
DTSTART:20250309T090000
END:DAYLIGHT
BEGIN:STANDARD
TZOFFSETFROM:-0600
TZOFFSETTO:-0700
TZNAME:MST
DTSTART:20251102T080000
END:STANDARD
BEGIN:DAYLIGHT
TZOFFSETFROM:-0700
TZOFFSETTO:-0600
TZNAME:MDT
DTSTART:20260308T090000
END:DAYLIGHT
BEGIN:STANDARD
TZOFFSETFROM:-0600
TZOFFSETTO:-0700
TZNAME:MST
DTSTART:20261101T080000
END:STANDARD
END:VTIMEZONE
BEGIN:VEVENT
DTSTART;TZID=America/New_York:20250416T090000
DTEND;TZID=America/New_York:20250416T090000
DTSTAMP:20260425T061204
CREATED:20250416T024406Z
LAST-MODIFIED:20250416T125900Z
UID:18327-1744794000-1744794000@politicaljar.com
SUMMARY:In-Town Pool Call Time
DESCRIPTION:In-Town Pool
URL:https://politicaljar.com/event/in-town-pool-call-time-55/
CATEGORIES:Presidents Schedule
END:VEVENT
BEGIN:VEVENT
DTSTART;TZID=UTC:20250416T100000
DTEND;TZID=UTC:20250416T100000
DTSTAMP:20260425T061204
CREATED:20250125T185811Z
LAST-MODIFIED:20250222T090018Z
UID:6178-1744797600-1744797600@politicaljar.com
SUMMARY:State Job Openings and Labor Turnover
DESCRIPTION:
URL:https://politicaljar.com/event/state-job-openings-and-labor-turnover-3/
LOCATION:Washington\, DC
CATEGORIES:BLS,IMPORTANT
END:VEVENT
BEGIN:VEVENT
DTSTART;TZID=UTC:20250416T100000
DTEND;TZID=UTC:20250416T100000
DTSTAMP:20260425T061204
CREATED:20250125T185812Z
LAST-MODIFIED:20250222T090019Z
UID:6179-1744797600-1744797600@politicaljar.com
SUMMARY:Usual Weekly Earnings of Wage and Salary Workers
DESCRIPTION:
URL:https://politicaljar.com/event/usual-weekly-earnings-of-wage-and-salary-workers/
LOCATION:Washington\, DC
CATEGORIES:BLS,IMPORTANT
END:VEVENT
BEGIN:VEVENT
DTSTART;TZID=America/New_York:20250416T113000
DTEND;TZID=America/New_York:20250416T113000
DTSTAMP:20260425T061204
CREATED:20250416T024407Z
LAST-MODIFIED:20250416T152956Z
UID:18328-1744803000-1744803000@politicaljar.com
SUMMARY:The President receives his Intelligence Briefing
DESCRIPTION:Closed Press
URL:https://politicaljar.com/event/the-president-receives-his-intelligence-briefing-6/
LOCATION:Oval Office
CATEGORIES:Presidents Schedule
END:VEVENT
BEGIN:VEVENT
DTSTART;TZID=America/New_York:20250416T163000
DTEND;TZID=America/New_York:20250416T163000
DTSTAMP:20260425T061204
CREATED:20250416T184432Z
LAST-MODIFIED:20250416T201404Z
UID:18369-1744821000-1744821000@politicaljar.com
SUMMARY:Press Briefing by the White House Press Secretary Karoline Leavitt with a special guest
DESCRIPTION:On Camera
URL:https://politicaljar.com/event/press-briefing-by-the-white-house-press-secretary-karoline-leavitt-with-a-special-guest/
LOCATION:James S. Brady Press Briefing Room
END:VEVENT
BEGIN:VEVENT
DTSTART;TZID=America/New_York:20250416T180000
DTEND;TZID=America/New_York:20250416T220000
DTSTAMP:20260425T061204
CREATED:20250324T054416Z
LAST-MODIFIED:20250414T054408Z
UID:16575-1744826400-1744840800@politicaljar.com
SUMMARY:Socrates in the City with Dr. Larry Arnn
DESCRIPTION:Socrates in the City Presents: Eric Metaxas in Conversation with Dr. Larry Arnn\n\n\nJoin us for an unforgettable evening with Dr. Larry Arnn in Lexington\, Kentucky\, on April 16th\, as he sits down with Socrates in the City host Eric Metaxas to explore the American Constitution and its living nature in society today. \nIn this thought-provoking conversation\, Dr. Arnn will draw from his book\, The Founders’ Key: The Divine and Natural Connection Between the Declaration and the Constitution and What We Risk by Losing It. Dr. Arnn will share insights from his book and the impact of the relationship between the Declaration and Constitution\, and how a nuanced understanding of their principles may restore our political faith and revive our free institutions. \nThis is a rare opportunity to hear from one of the leading voices in the national debate on education\, faith\, and culture. Whether you’re grappling with these issues personally or simply seeking a deeper understanding of their cultural significance\, this event promises to be both inspiring and enlightening. \nDetails: \n\nDate: April 16th\, 2025\nTime: 6:00 PM Reception\, 7:00 PM Interview\, 8:30 PM VIP Dinner\nLocation: The Club at UK’s Spindletop Hall(3414 Iron Works Pike\, Lexington\, KY 40511\, USA)\nHost: Eric Metaxas\, Host of Socrates in the City\n\n– —————————————————————————————————- \nGeneral Admission: Theater-style seating to watch the main event interview with Dr. Larry Arnn and Eric Metaxas + a book signing afterwards! \nVIP Admission: Before the main event\, join Dr. Larry Arnn and Eric Metaxas for non-alcoholic drinks and passed hors d’oeuvres. \nDinner: After the main event\, join Dr. Larry Arnn and Eric Metaxas for a coursed dinner\, conversation\, and Q&A. Tickets include an invitation to the VIP reception. Limited availability. \nLive Stream: If you cannot join us in Lexington\, watch the interview as it happens — before we get to edit out the flubs and fluffs — and host friends to join you for your own private SITC event wherever you are! Watch at socratesinthecityplus.com. \n– —————————————————————————————————- \nLarry P. Arnn is the twelfth president of Hillsdale College. \nHe received his B.A. from Arkansas State University and his M.A. and Ph.D. in Government from the Claremont Graduate School. He served as director of research for Sir Martin Gilbert\, the official biographer of Winston Churchill. He served as president of the Claremont Institute for the Study of Statesmanship and Political Philosophy from 1985 to 2000. In 1996\, he was the founding chairman of the California Civil Rights Initiative\, which was passed by California voters and prohibited racial preferences in state hiring\, contracting\, and admissions. \nDr. Arnn is on the board of directors of The Heritage Foundation\, the IntercollegiateStudies Institute\, and the Claremont Institute. He served on the U.S. Army War College Board of Visitors for two years for which he earned the Department of the Army’s “Outstanding Civilian Service Medal.” He was appointed in late 2020 as chairman of President Donald Trump’s 1776 Commission\, which was established to restore in American education an understanding of the history and principles of the founding of the United States. The 1776 Commission Report was published in early 2021. He received the Bradley Prize from the Lynde and Harry Bradley Foundation in 2015\, the Edmund Burke Award for Service to Culture and Society from The New Criterion in 2022\, the Heartland Liberty Prize from The Heartland Institute in 2024\, and most recently the Great American Award from The Heritage Foundation in 2025. \nHe is a member of the American Political Science Association\, the Philadelphia Society\, Churchill Centre\, the Council for National Policy\, the Federalist Society\, the Mont Pelerin Society\, and the Philanthropy Roundtable. Published widely in national newspapers\, magazines and periodicals on issues of public policy\, history and political theory\, he is the author of three books: Liberty and Learning: The Evolution of American Education; The Founders’ Key: The Divine and Natural Connection between the Declaration and the Constitution and What We Risk by Losing It; and Churchill’s Trial: Winston Churchill and the Salvation of Free Government. \nDr. Arnn is a professor of politics and history at Hillsdale. He teaches courses on Aristotle\,Winston Churchill\, 20 th Century Totalitarian Novels\, and the American Constitution. \nHe and his wife\, Penelope\, have four children\, Henry\, Katy\, Alice\, and Tony\, and two grandchildren\, Charlotte and William.
URL:https://politicaljar.com/event/socrates-in-the-city-with-dr-larry-arnn/
LOCATION:The Club at UK’s Spindletop Hall\, 3414 Iron Works Pike\, Lexington\, KY\, 40511\, United States
ATTACH;FMTTYPE=image/jpeg:https://politicaljar.com/wp-content/uploads/2025/03/07ae16741efe9b9171991befa08497e1.jpg
END:VEVENT
BEGIN:VEVENT
DTSTART;TZID=America/New_York:20250416T183000
DTEND;TZID=America/New_York:20250416T183000
DTSTAMP:20260425T061204
CREATED:20250416T024408Z
LAST-MODIFIED:20250416T214422Z
UID:18330-1744828200-1744828200@politicaljar.com
SUMMARY:The President participates in an Easter Prayer Service and Dinner
DESCRIPTION:White House Press Pool
URL:https://politicaljar.com/event/the-president-participates-in-an-easter-prayer-service-and-dinner/
LOCATION:Blue Room
CATEGORIES:Presidents Schedule
END:VEVENT
BEGIN:VEVENT
DTSTART;TZID=America/Denver:20250416T190000
DTEND;TZID=America/Denver:20250416T200000
DTSTAMP:20260425T061204
CREATED:20250126T210150Z
LAST-MODIFIED:20250126T210150Z
UID:6465-1744830000-1744833600@politicaljar.com
SUMMARY:Pandemic Political Education Book Club
DESCRIPTION:Read books to learn lessons from HIV/AIDS Activism and Disability Justice.
URL:https://politicaljar.com/event/pandemic-political-education-book-club-3/
LOCATION:Under the Umbrella Bookstore and Cafe\, 511 West 200 South\, #Suite 120\, Salt Lake City\, UT\, 84101\, United States
ATTACH;FMTTYPE=image/jpeg:https://politicaljar.com/wp-content/uploads/2025/01/93cc9a7c223a05fb70f55dd2650a0b90.jpg
END:VEVENT
END:VCALENDAR