BEGIN:VCALENDAR
VERSION:2.0
PRODID:-//Political Jar - ECPv6.15.20//NONSGML v1.0//EN
CALSCALE:GREGORIAN
METHOD:PUBLISH
X-ORIGINAL-URL:https://politicaljar.com
X-WR-CALDESC:Events for Political Jar
REFRESH-INTERVAL;VALUE=DURATION:PT1H
X-Robots-Tag:noindex
X-PUBLISHED-TTL:PT1H
BEGIN:VTIMEZONE
TZID:America/New_York
BEGIN:DAYLIGHT
TZOFFSETFROM:-0500
TZOFFSETTO:-0400
TZNAME:EDT
DTSTART:20240310T070000
END:DAYLIGHT
BEGIN:STANDARD
TZOFFSETFROM:-0400
TZOFFSETTO:-0500
TZNAME:EST
DTSTART:20241103T060000
END:STANDARD
BEGIN:DAYLIGHT
TZOFFSETFROM:-0500
TZOFFSETTO:-0400
TZNAME:EDT
DTSTART:20250309T070000
END:DAYLIGHT
BEGIN:STANDARD
TZOFFSETFROM:-0400
TZOFFSETTO:-0500
TZNAME:EST
DTSTART:20251102T060000
END:STANDARD
BEGIN:DAYLIGHT
TZOFFSETFROM:-0500
TZOFFSETTO:-0400
TZNAME:EDT
DTSTART:20260308T070000
END:DAYLIGHT
BEGIN:STANDARD
TZOFFSETFROM:-0400
TZOFFSETTO:-0500
TZNAME:EST
DTSTART:20261101T060000
END:STANDARD
END:VTIMEZONE
BEGIN:VEVENT
DTSTART;TZID=America/New_York:20250414T090000
DTEND;TZID=America/New_York:20250414T090000
DTSTAMP:20260425T074725
CREATED:20250414T031430Z
LAST-MODIFIED:20250414T125907Z
UID:18199-1744621200-1744621200@politicaljar.com
SUMMARY:In-Town Pool Call Time
DESCRIPTION:In-Town Pool
URL:https://politicaljar.com/event/in-town-pool-call-time-53/
LOCATION:The White House
CATEGORIES:Presidents Schedule
END:VEVENT
BEGIN:VEVENT
DTSTART;TZID=America/New_York:20250414T110000
DTEND;TZID=America/New_York:20250414T110000
DTSTAMP:20260425T074725
CREATED:20250414T031431Z
LAST-MODIFIED:20250414T145918Z
UID:18200-1744628400-1744628400@politicaljar.com
SUMMARY:The President greets the President of the Republic of El Salvador
DESCRIPTION:Open Press
URL:https://politicaljar.com/event/the-president-greets-the-president-of-the-republic-of-el-salvador/
LOCATION:Stakeout Location
CATEGORIES:Presidents Schedule
END:VEVENT
BEGIN:VEVENT
DTSTART;TZID=America/New_York:20250414T110500
DTEND;TZID=America/New_York:20250414T110500
DTSTAMP:20260425T074725
CREATED:20250414T031431Z
LAST-MODIFIED:20250414T145919Z
UID:18201-1744628700-1744628700@politicaljar.com
SUMMARY:The President participates in a Bilateral Meeting with the President of the Republic of El Salvador
DESCRIPTION:White House Press Pool
URL:https://politicaljar.com/event/the-president-participates-in-a-bilateral-meeting-with-the-president-of-the-republic-of-el-salvador/
LOCATION:Oval Office
CATEGORIES:Presidents Schedule
END:VEVENT
BEGIN:VEVENT
DTSTART;TZID=America/New_York:20250414T113500
DTEND;TZID=America/New_York:20250414T113500
DTSTAMP:20260425T074725
CREATED:20250414T031432Z
LAST-MODIFIED:20250414T152914Z
UID:18202-1744630500-1744630500@politicaljar.com
SUMMARY:The President participates in a Bilateral Lunch with the President of the Republic of El Salvador
DESCRIPTION:Closed Press
URL:https://politicaljar.com/event/the-president-participates-in-a-bilateral-lunch-with-the-president-of-the-republic-of-el-salvador/
LOCATION:Cabinet Room
CATEGORIES:Presidents Schedule
END:VEVENT
BEGIN:VEVENT
DTSTART;TZID=America/New_York:20250414T150000
DTEND;TZID=America/New_York:20250414T150000
DTSTAMP:20260425T074725
CREATED:20250414T031433Z
LAST-MODIFIED:20250414T185940Z
UID:18203-1744642800-1744642800@politicaljar.com
SUMMARY:The President participates in a visit with the 2025 College Football National Champions - The Ohio State University
DESCRIPTION:Pre-Credentialed Media
URL:https://politicaljar.com/event/the-president-participates-in-a-visit-with-the-2025-college-football-national-champions-the-ohio-state-university/
LOCATION:South Lawn
CATEGORIES:Presidents Schedule
END:VEVENT
BEGIN:VEVENT
DTSTART;TZID=America/New_York:20250414T170000
DTEND;TZID=America/New_York:20250414T180000
DTSTAMP:20260425T074725
CREATED:20250315T213137Z
LAST-MODIFIED:20250414T145914Z
UID:15276-1744650000-1744653600@politicaljar.com
SUMMARY:Russian Hybrid Warfare in Central Europe
DESCRIPTION:Dr. Ivana Stradner will provide insights into the irregular tactics used by the Russian Federation against countries in Central Europe\n\n\nAbout the Lecture: \n**This lecture is part of the Intermarium Lecture Series and the Kosciuszko Chair of Polish Studies** \nWhat is hybrid warfare? How does one identify and read unconventional attacks by autocratic regimes? \nDr. Ivana Stradner will address these and related questions\, providing insights into the various tools and techniques used by the Russian Federation against NATO countries and beyond. She will draw on her experience and research on Russian activities in Central Europe and the Balkans. \n\n\nAbout the Speaker: \nDr. Ivana Stradner serves as a research fellow with FDD’s Barish Center for Media Integrity. She studies Russia’s security strategies and military doctrines to understand how Russia uses information operations for strategic communication. Her work examines both the psychological and technical aspects of Russian information security. \nIvana also analyzes Russian influence in international organizations; she is currently focusing on the UN Cybercrime Treaty and UN efforts to regulate information security. Ivana has testified before the European Parliament and has briefed various government officials. \nIvana also serves as a special correspondent for KyivPost. Before joining FDD\, Ivana worked as a visiting scholar at Harvard University and a lecturer for a variety of universities\, including the University of California\, Berkeley\, School of Law\, and as a Jeane Kirkpatrick fellow at the American Enterprise Institute. \nIvana has been published in academic journals and has written for The Washington Post\, New York Post\, Foreign Affairs\, The Hill\, Foreign Policy\, Politico\, The Telegraph\, National Review\, and more. \nMake a gift to IWP
URL:https://politicaljar.com/event/russian-hybrid-warfare-in-central-europe/
LOCATION:The Institute of World Politics\, 1521 16th Street Northwest\, Washington\, DC\, 20036\, United States
ATTACH;FMTTYPE=image/jpeg:https://politicaljar.com/wp-content/uploads/2025/02/ec124bfc47d7d505db8e2321d09c79f9.jpg
END:VEVENT
END:VCALENDAR