BEGIN:VCALENDAR
VERSION:2.0
PRODID:-//Political Jar - ECPv6.15.20//NONSGML v1.0//EN
CALSCALE:GREGORIAN
METHOD:PUBLISH
X-ORIGINAL-URL:https://politicaljar.com
X-WR-CALDESC:Events for Political Jar
REFRESH-INTERVAL;VALUE=DURATION:PT1H
X-Robots-Tag:noindex
X-PUBLISHED-TTL:PT1H
BEGIN:VTIMEZONE
TZID:America/New_York
BEGIN:DAYLIGHT
TZOFFSETFROM:-0500
TZOFFSETTO:-0400
TZNAME:EDT
DTSTART:20240310T070000
END:DAYLIGHT
BEGIN:STANDARD
TZOFFSETFROM:-0400
TZOFFSETTO:-0500
TZNAME:EST
DTSTART:20241103T060000
END:STANDARD
BEGIN:DAYLIGHT
TZOFFSETFROM:-0500
TZOFFSETTO:-0400
TZNAME:EDT
DTSTART:20250309T070000
END:DAYLIGHT
BEGIN:STANDARD
TZOFFSETFROM:-0400
TZOFFSETTO:-0500
TZNAME:EST
DTSTART:20251102T060000
END:STANDARD
BEGIN:DAYLIGHT
TZOFFSETFROM:-0500
TZOFFSETTO:-0400
TZNAME:EDT
DTSTART:20260308T070000
END:DAYLIGHT
BEGIN:STANDARD
TZOFFSETFROM:-0400
TZOFFSETTO:-0500
TZNAME:EST
DTSTART:20261101T060000
END:STANDARD
END:VTIMEZONE
BEGIN:VTIMEZONE
TZID:Australia/Adelaide
BEGIN:STANDARD
TZOFFSETFROM:+1030
TZOFFSETTO:+0930
TZNAME:ACST
DTSTART:20240406T163000
END:STANDARD
BEGIN:DAYLIGHT
TZOFFSETFROM:+0930
TZOFFSETTO:+1030
TZNAME:ACDT
DTSTART:20241005T163000
END:DAYLIGHT
BEGIN:STANDARD
TZOFFSETFROM:+1030
TZOFFSETTO:+0930
TZNAME:ACST
DTSTART:20250405T163000
END:STANDARD
BEGIN:DAYLIGHT
TZOFFSETFROM:+0930
TZOFFSETTO:+1030
TZNAME:ACDT
DTSTART:20251004T163000
END:DAYLIGHT
BEGIN:STANDARD
TZOFFSETFROM:+1030
TZOFFSETTO:+0930
TZNAME:ACST
DTSTART:20260404T163000
END:STANDARD
BEGIN:DAYLIGHT
TZOFFSETFROM:+0930
TZOFFSETTO:+1030
TZNAME:ACDT
DTSTART:20261003T163000
END:DAYLIGHT
END:VTIMEZONE
BEGIN:VEVENT
DTSTART;TZID=America/New_York:20250413T000100
DTEND;TZID=America/New_York:20250413T000100
DTSTAMP:20260425T075147
CREATED:20250413T031418Z
LAST-MODIFIED:20250413T034358Z
UID:18123-1744502460-1744502460@politicaljar.com
SUMMARY:The President arrives Palm Beach International Airport
DESCRIPTION:Out-of-Town Travel Pool
URL:https://politicaljar.com/event/the-president-arrives-palm-beach-international-airport-15/
LOCATION:Palm Beach International Airport
END:VEVENT
BEGIN:VEVENT
DTSTART;TZID=America/New_York:20250413T001000
DTEND;TZID=America/New_York:20250413T001000
DTSTAMP:20260425T075147
CREATED:20250412T034358Z
LAST-MODIFIED:20250413T034359Z
UID:18030-1744503000-1744503000@politicaljar.com
SUMMARY:The President departs Palm Beach International Airport en route Mar-a-Lago
DESCRIPTION:Out-of-Town Travel Pool
URL:https://politicaljar.com/event/the-president-departs-palm-beach-international-airport-en-route-mar-a-lago-9/
LOCATION:Palm Beach International Airport
END:VEVENT
BEGIN:VEVENT
DTSTART;TZID=America/New_York:20250413T002500
DTEND;TZID=America/New_York:20250413T002500
DTSTAMP:20260425T075147
CREATED:20250412T034359Z
LAST-MODIFIED:20250413T041405Z
UID:18031-1744503900-1744503900@politicaljar.com
SUMMARY:The President arrives Mar-a-Lago
DESCRIPTION:In-Town Pool
URL:https://politicaljar.com/event/the-president-arrives-mar-a-lago-9/
LOCATION:Mar-a-Lago
END:VEVENT
BEGIN:VEVENT
DTSTART;TZID=America/New_York:20250413T072000
DTEND;TZID=America/New_York:20250413T072000
DTSTAMP:20260425T075147
CREATED:20250412T042912Z
LAST-MODIFIED:20250413T105855Z
UID:18055-1744528800-1744528800@politicaljar.com
SUMMARY:Out-of-Town Travel Pool Call Time
DESCRIPTION:Out-of-Town Travel Pool
URL:https://politicaljar.com/event/out-of-town-travel-pool-call-time-9/
LOCATION:Mar-a-Lago
CATEGORIES:Presidents Schedule
END:VEVENT
BEGIN:VEVENT
DTSTART;TZID=Australia/Adelaide:20250413T080000
DTEND;TZID=Australia/Adelaide:20250413T120000
DTSTAMP:20260425T075147
CREATED:20250127T025019Z
LAST-MODIFIED:20250407T032937Z
UID:6653-1744531200-1744545600@politicaljar.com
SUMMARY:Camp United Nations for Girls Adelaide 2025
DESCRIPTION:Girls step on the world stage to study global affairs and diplomacy then hone their decision making skills at Camp United Nations for Girls.\n\n\nCamp United Nations for Girls Adelaide 2025 introduces girls (ages 9-17) to work of the United Nations and international policy. Camp United Nations begins with a lesson on the history of the United Nations and the organization’s purpose. This is followed by a study of the structure\, leadership\, and the rules of procedure of the United Nations. Each student will be given an assignment to serve as a delegate for a UN Member State. When the General Assembly convenes delegates will propose a resolution. The resolution will be subject to negotiation and amendment by the UN Delegates before a vote on a final version of the resolution. Girl Scouts and Girl Guides earn a Global Action Award or World Thinking badge for participating in Camp United Nations for Girls.Registrants will also receive a Certificate of Completion\, GIP shirt and GIP treat bag. For additional information contact us at +1 866-226-5911 extension 1\, via email at info@girlsinpolitics.com or visit our website at www.girlsinpolitics.com. \nAnswers to frequently asked questions \nIs this a partisan program or supported by a political party? No\, the Girls in Politics Initiative is an independent organization that is self-funded through the fees generated from hosting sessions. The curriculum is civic education. \nWho are the instructors? Our Lead Instructors are women that currently or have previously worked in government or electoral politics. Our support staffers are current or former licensed teachers. Our instructors and support staff have criminal background checks. \nDue to rising exenses associated with hosting events\, we are unale to offer financial aid.
URL:https://politicaljar.com/event/camp-united-nations-for-girls-adelaide-2025/
LOCATION:141 King William St\, 141 King William Street\, Adelaide\, SA\, 5000\, Australia
ATTACH;FMTTYPE=image/jpeg:https://politicaljar.com/wp-content/uploads/2025/01/e5d9e9b7a4d1d638e53dea547a2202da.jpg
END:VEVENT
BEGIN:VEVENT
DTSTART;TZID=Australia/Adelaide:20250413T130000
DTEND;TZID=Australia/Adelaide:20250413T170000
DTSTAMP:20260425T075147
CREATED:20250127T025023Z
LAST-MODIFIED:20250407T032937Z
UID:6655-1744549200-1744563600@politicaljar.com
SUMMARY:Camp United Nations for Girls Adelaide 2025
DESCRIPTION:Girls step on the world stage to study global affairs and diplomacy then hone their decision making skills at Camp United Nations for Girls.\n\n\nCamp United Nations for Girls Adelaide 2025 introduces girls (ages 9-17) to work of the United Nations and international policy. Camp United Nations begins with a lesson on the history of the United Nations and the organization’s purpose. This is followed by a study of the structure\, leadership\, and the rules of procedure of the United Nations. Each student will be given an assignment to serve as a delegate for a UN Member State. When the General Assembly convenes delegates will propose a resolution. The resolution will be subject to negotiation and amendment by the UN Delegates before a vote on a final version of the resolution. Girl Scouts and Girl Guides earn a Global Action Award or World Thinking badge for participating in Camp United Nations for Girls.Registrants will also receive a Certificate of Completion\, GIP shirt and GIP treat bag. For additional information contact us at +1 866-226-5911 extension 1\, via email at info@girlsinpolitics.com or visit our website at www.girlsinpolitics.com. \nAnswers to frequently asked questions \nIs this a partisan program or supported by a political party? No\, the Girls in Politics Initiative is an independent organization that is self-funded through the fees generated from hosting sessions. The curriculum is civic education. \nWho are the instructors? Our Lead Instructors are women that currently or have previously worked in government or electoral politics. Our support staffers are current or former licensed teachers. Our instructors and support staff have criminal background checks. \nDue to rising exenses associated with hosting events\, we are unale to offer financial aid.
URL:https://politicaljar.com/event/camp-united-nations-for-girls-adelaide-2025-2/
LOCATION:141 King William St\, 141 King William Street\, Adelaide\, SA\, 5000\, Australia
ATTACH;FMTTYPE=image/jpeg:https://politicaljar.com/wp-content/uploads/2025/01/3ffac52adc4b779ae94fd683745a0347.jpg
END:VEVENT
BEGIN:VEVENT
DTSTART;TZID=America/New_York:20250413T170000
DTEND;TZID=America/New_York:20250413T170000
DTSTAMP:20260425T075147
CREATED:20250412T042913Z
LAST-MODIFIED:20250413T205911Z
UID:18056-1744563600-1744563600@politicaljar.com
SUMMARY:The President departs Mar-a-Lago en route Palm Beach International
DESCRIPTION:Out-of-Town Travel Pool
URL:https://politicaljar.com/event/the-president-departs-mar-a-lago-en-route-palm-beach-international/
LOCATION:Mar-a-Lago
CATEGORIES:Presidents Schedule
END:VEVENT
BEGIN:VEVENT
DTSTART;TZID=America/New_York:20250413T171500
DTEND;TZID=America/New_York:20250413T171500
DTSTAMP:20260425T075147
CREATED:20250412T042913Z
LAST-MODIFIED:20250413T205911Z
UID:18057-1744564500-1744564500@politicaljar.com
SUMMARY:The President arrives Palm Beach International
DESCRIPTION:Out-of-Town Travel Pool
URL:https://politicaljar.com/event/the-president-arrives-palm-beach-international/
LOCATION:Palm Beach International Airport
CATEGORIES:Presidents Schedule
END:VEVENT
BEGIN:VEVENT
DTSTART;TZID=America/New_York:20250413T172500
DTEND;TZID=America/New_York:20250413T172500
DTSTAMP:20260425T075147
CREATED:20250412T042914Z
LAST-MODIFIED:20250413T205912Z
UID:18058-1744565100-1744565100@politicaljar.com
SUMMARY:The President departs Palm Beach International en route Joint Base Andrews
DESCRIPTION:Out-of-Town Travel Pool
URL:https://politicaljar.com/event/the-president-departs-palm-beach-international-en-route-joint-base-andrews/
LOCATION:Palm Beach International Airport
CATEGORIES:Presidents Schedule
END:VEVENT
BEGIN:VEVENT
DTSTART;TZID=America/New_York:20250413T184500
DTEND;TZID=America/New_York:20250413T184500
DTSTAMP:20260425T075147
CREATED:20250412T042923Z
LAST-MODIFIED:20250413T222905Z
UID:18059-1744569900-1744569900@politicaljar.com
SUMMARY:In-Town Pool Call Time
DESCRIPTION:In-Town Pool
URL:https://politicaljar.com/event/in-town-pool-call-time-52/
LOCATION:The White House
CATEGORIES:Presidents Schedule
END:VEVENT
BEGIN:VEVENT
DTSTART;TZID=America/New_York:20250413T193000
DTEND;TZID=America/New_York:20250413T193000
DTSTAMP:20260425T075147
CREATED:20250412T042924Z
LAST-MODIFIED:20250413T225920Z
UID:18060-1744572600-1744572600@politicaljar.com
SUMMARY:The President arrives Joint Base Andrews
DESCRIPTION:Out-of-Town Travel Pool
URL:https://politicaljar.com/event/the-president-arrives-joint-base-andrews-18/
LOCATION:Joint Base Andrews
CATEGORIES:Presidents Schedule
END:VEVENT
BEGIN:VEVENT
DTSTART;TZID=America/New_York:20250413T194000
DTEND;TZID=America/New_York:20250413T194000
DTSTAMP:20260425T075147
CREATED:20250412T042925Z
LAST-MODIFIED:20250413T225921Z
UID:18061-1744573200-1744573200@politicaljar.com
SUMMARY:The President departs Joint Base Andrews en route The White House
DESCRIPTION:Out-of-Town Travel Pool
URL:https://politicaljar.com/event/the-president-departs-joint-base-andrews-en-route-the-white-house-9/
LOCATION:Joint Base Andrews
CATEGORIES:Presidents Schedule
END:VEVENT
BEGIN:VEVENT
DTSTART;TZID=America/New_York:20250413T195000
DTEND;TZID=America/New_York:20250413T195000
DTSTAMP:20260425T075147
CREATED:20250412T042925Z
LAST-MODIFIED:20250413T234403Z
UID:18062-1744573800-1744573800@politicaljar.com
SUMMARY:The President arrives The White House
DESCRIPTION:Open Press
URL:https://politicaljar.com/event/the-president-arrives-the-white-house-15/
LOCATION:South Lawn
CATEGORIES:Presidents Schedule
END:VEVENT
END:VCALENDAR