BEGIN:VCALENDAR
VERSION:2.0
PRODID:-//Political Jar - ECPv6.15.20//NONSGML v1.0//EN
CALSCALE:GREGORIAN
METHOD:PUBLISH
X-WR-CALNAME:Political Jar
X-ORIGINAL-URL:https://politicaljar.com
X-WR-CALDESC:Events for Political Jar
REFRESH-INTERVAL;VALUE=DURATION:PT1H
X-Robots-Tag:noindex
X-PUBLISHED-TTL:PT1H
BEGIN:VTIMEZONE
TZID:America/New_York
BEGIN:DAYLIGHT
TZOFFSETFROM:-0500
TZOFFSETTO:-0400
TZNAME:EDT
DTSTART:20240310T070000
END:DAYLIGHT
BEGIN:STANDARD
TZOFFSETFROM:-0400
TZOFFSETTO:-0500
TZNAME:EST
DTSTART:20241103T060000
END:STANDARD
BEGIN:DAYLIGHT
TZOFFSETFROM:-0500
TZOFFSETTO:-0400
TZNAME:EDT
DTSTART:20250309T070000
END:DAYLIGHT
BEGIN:STANDARD
TZOFFSETFROM:-0400
TZOFFSETTO:-0500
TZNAME:EST
DTSTART:20251102T060000
END:STANDARD
BEGIN:DAYLIGHT
TZOFFSETFROM:-0500
TZOFFSETTO:-0400
TZNAME:EDT
DTSTART:20260308T070000
END:DAYLIGHT
BEGIN:STANDARD
TZOFFSETFROM:-0400
TZOFFSETTO:-0500
TZNAME:EST
DTSTART:20261101T060000
END:STANDARD
END:VTIMEZONE
BEGIN:VTIMEZONE
TZID:America/Chicago
BEGIN:DAYLIGHT
TZOFFSETFROM:-0600
TZOFFSETTO:-0500
TZNAME:CDT
DTSTART:20240310T080000
END:DAYLIGHT
BEGIN:STANDARD
TZOFFSETFROM:-0500
TZOFFSETTO:-0600
TZNAME:CST
DTSTART:20241103T070000
END:STANDARD
BEGIN:DAYLIGHT
TZOFFSETFROM:-0600
TZOFFSETTO:-0500
TZNAME:CDT
DTSTART:20250309T080000
END:DAYLIGHT
BEGIN:STANDARD
TZOFFSETFROM:-0500
TZOFFSETTO:-0600
TZNAME:CST
DTSTART:20251102T070000
END:STANDARD
BEGIN:DAYLIGHT
TZOFFSETFROM:-0600
TZOFFSETTO:-0500
TZNAME:CDT
DTSTART:20260308T080000
END:DAYLIGHT
BEGIN:STANDARD
TZOFFSETFROM:-0500
TZOFFSETTO:-0600
TZNAME:CST
DTSTART:20261101T070000
END:STANDARD
END:VTIMEZONE
BEGIN:VEVENT
DTSTART;TZID=America/New_York:20250405T064500
DTEND;TZID=America/New_York:20250405T064500
DTSTAMP:20260425T082624
CREATED:20250405T015856Z
LAST-MODIFIED:20250405T104401Z
UID:17485-1743835500-1743835500@politicaljar.com
SUMMARY:Out-of-Town Pool Call Time
DESCRIPTION:Out-of-Town Pool
URL:https://politicaljar.com/event/out-of-town-pool-call-time-14/
CATEGORIES:Presidents Schedule
END:VEVENT
BEGIN:VEVENT
DTSTART;TZID=America/Chicago:20250405T080000
DTEND;TZID=America/Chicago:20250405T120000
DTSTAMP:20260425T082624
CREATED:20250127T024945Z
LAST-MODIFIED:20250331T032933Z
UID:6636-1743840000-1743854400@politicaljar.com
SUMMARY:Camp Congress for Girls Nashville 2025
DESCRIPTION:It’s all fun & civics at Camp Congress for Girls Nashville 2025. Girls study government\, run for office & pass a bill.\n\n\nCamp Congress for Girls Nashville 2025 is a leadership program that introduces girls to United States politics. Camp begins with a lesson on the structure of our political system. Each girl will choose to run for a seat in the US House of Representatives\, the US Senate or for the presidency. She will create her own campaign with a platform\, campaign finance plan\, and film a political ad. All campers will register to vote and then vote in an election. Once elected to Congress and sworn in\, the newly installed members of Congress will learn how to introduce a bill\, debate the merits of the bill\, lobby fellow legislators\, collaborate with the Executive branch and finally vote on the proposed bill. Camp will culminate with a ceremonial signing of the bill by our Ms. President. Participating Girl Scouts earn a democracy or citizen badge. \nFor additional information contact us at +1 866-277-2123 extension 1\, via email at info@girlsinpolitics.com or visit our website at www.girlsinpolitics.com. Ticketing options for students ages 8-11 and 12-17. Please no solicitation emails or calls. We do not book speakers\, book vendors or recruit volunteers for events. \nFrequently Asked Questions \nIs this event a drop-off? All camps are drop-off unless parent participation is indicated. Parents may wait at the venue for the duration of the camp in any of the lounge or seating area throughout the hotel. The meeting room space capacity can only accommodate students and staff. \nIs the registration fee refundable? The registration fee is non-refundable unless the organizer cancels the session. If a participant is unable to attend a session a credit will be placed on file that may be used at any time for a future program. The credit does not expire. \nIs this a partisan program or supported by a political party? No\, the Girls in Politics Initiative is an independent organization that is self-funded through the fees generated from hosting sessions. The curriculum is civic education. \nIs financial assistance available? Due to rising costs associated with hosting events\, there is no financial assistance available for this event and there is no promo code for this event. \nWho are the instructors? Our Lead Instructors are women that currently or have previously worked in government or electoral politics. Our support staff are current or former licensed teachers. All instructors and support staff undergo background screening. All instructors and support staff are also in compliance with any local ordinances or state/provincial regulations applicable to those working with children.
URL:https://politicaljar.com/event/camp-congress-for-girls-nashville-2025/
LOCATION:170 4th Ave N\, 170 4th Avenue North\, Nashville\, TN\, 37219\, United States
ATTACH;FMTTYPE=image/jpeg:https://politicaljar.com/wp-content/uploads/2025/01/4b8b49805038db437675e5e040751c92.jpg
END:VEVENT
END:VCALENDAR