BEGIN:VCALENDAR
VERSION:2.0
PRODID:-//Political Jar - ECPv6.15.20//NONSGML v1.0//EN
CALSCALE:GREGORIAN
METHOD:PUBLISH
X-WR-CALNAME:Political Jar
X-ORIGINAL-URL:https://politicaljar.com
X-WR-CALDESC:Events for Political Jar
REFRESH-INTERVAL;VALUE=DURATION:PT1H
X-Robots-Tag:noindex
X-PUBLISHED-TTL:PT1H
BEGIN:VTIMEZONE
TZID:America/Chicago
BEGIN:DAYLIGHT
TZOFFSETFROM:-0600
TZOFFSETTO:-0500
TZNAME:CDT
DTSTART:20240310T080000
END:DAYLIGHT
BEGIN:STANDARD
TZOFFSETFROM:-0500
TZOFFSETTO:-0600
TZNAME:CST
DTSTART:20241103T070000
END:STANDARD
BEGIN:DAYLIGHT
TZOFFSETFROM:-0600
TZOFFSETTO:-0500
TZNAME:CDT
DTSTART:20250309T080000
END:DAYLIGHT
BEGIN:STANDARD
TZOFFSETFROM:-0500
TZOFFSETTO:-0600
TZNAME:CST
DTSTART:20251102T070000
END:STANDARD
BEGIN:DAYLIGHT
TZOFFSETFROM:-0600
TZOFFSETTO:-0500
TZNAME:CDT
DTSTART:20260308T080000
END:DAYLIGHT
BEGIN:STANDARD
TZOFFSETFROM:-0500
TZOFFSETTO:-0600
TZNAME:CST
DTSTART:20261101T070000
END:STANDARD
END:VTIMEZONE
BEGIN:VTIMEZONE
TZID:America/New_York
BEGIN:DAYLIGHT
TZOFFSETFROM:-0500
TZOFFSETTO:-0400
TZNAME:EDT
DTSTART:20240310T070000
END:DAYLIGHT
BEGIN:STANDARD
TZOFFSETFROM:-0400
TZOFFSETTO:-0500
TZNAME:EST
DTSTART:20241103T060000
END:STANDARD
BEGIN:DAYLIGHT
TZOFFSETFROM:-0500
TZOFFSETTO:-0400
TZNAME:EDT
DTSTART:20250309T070000
END:DAYLIGHT
BEGIN:STANDARD
TZOFFSETFROM:-0400
TZOFFSETTO:-0500
TZNAME:EST
DTSTART:20251102T060000
END:STANDARD
BEGIN:DAYLIGHT
TZOFFSETFROM:-0500
TZOFFSETTO:-0400
TZNAME:EDT
DTSTART:20260308T070000
END:DAYLIGHT
BEGIN:STANDARD
TZOFFSETFROM:-0400
TZOFFSETTO:-0500
TZNAME:EST
DTSTART:20261101T060000
END:STANDARD
END:VTIMEZONE
BEGIN:VTIMEZONE
TZID:UTC
BEGIN:STANDARD
TZOFFSETFROM:+0000
TZOFFSETTO:+0000
TZNAME:UTC
DTSTART:20240101T000000
END:STANDARD
END:VTIMEZONE
BEGIN:VEVENT
DTSTART;TZID=America/Chicago:20250328T080000
DTEND;TZID=America/Chicago:20250328T120000
DTSTAMP:20260425T193222
CREATED:20250304T025808Z
LAST-MODIFIED:20250304T025808Z
UID:13226-1743148800-1743163200@politicaljar.com
SUMMARY:59th Annual Texas Legislative Conference
DESCRIPTION:The 2025 Texas Legislative Conference will be held on March 27-28\, 2025 at the New Braunfels Civic/Convention Center.
URL:https://politicaljar.com/event/59th-annual-texas-legislative-conference-2/
LOCATION:New Braunfels Civic/Convention Center\, 375 South Castell Avenue\, New Braunfels\, TX\, 78130\, United States
ATTACH;FMTTYPE=image/jpeg:https://politicaljar.com/wp-content/uploads/2025/03/93e84d0fe6c6ecb5367b2c6d97c43ddb.jpg
END:VEVENT
BEGIN:VEVENT
DTSTART;TZID=America/New_York:20250328T090000
DTEND;TZID=America/New_York:20250328T090000
DTSTAMP:20260425T193222
CREATED:20250328T014357Z
LAST-MODIFIED:20250328T125919Z
UID:16829-1743152400-1743152400@politicaljar.com
SUMMARY:In-Town Pool Call Time
DESCRIPTION:In-Town Pool
URL:https://politicaljar.com/event/in-town-pool-call-time-40/
CATEGORIES:Presidents Schedule
END:VEVENT
BEGIN:VEVENT
DTSTART;TZID=UTC:20250328T100000
DTEND;TZID=UTC:20250328T100000
DTSTAMP:20260425T193222
CREATED:20250125T185801Z
LAST-MODIFIED:20250222T090008Z
UID:6169-1743156000-1743156000@politicaljar.com
SUMMARY:State Employment and Unemployment (Monthly)
DESCRIPTION:
URL:https://politicaljar.com/event/state-employment-and-unemployment-monthly-3/
LOCATION:Washington\, DC
CATEGORIES:BLS,IMPORTANT
END:VEVENT
BEGIN:VEVENT
DTSTART;TZID=America/New_York:20250328T120000
DTEND;TZID=America/New_York:20250328T133000
DTSTAMP:20260425T193222
CREATED:20250222T211948Z
LAST-MODIFIED:20250222T211948Z
UID:11933-1743163200-1743168600@politicaljar.com
SUMMARY:Has Evangelical Christianity Become a Threat to American Democracy?
DESCRIPTION:Live Event: Dr. Matthew D. Taylor explores Evangelicalism’s impact on U.S. democracy and Christian nationalism. Watch live on YouTube.\n\n\nHas Evangelical Christianity Become a Threat to American Democracy?\n🔴 Live Virtual Event with Dr. Matthew D. Taylor \nJoin Faithful Politics Podcast for an exclusive live event featuring Dr. Matthew D. Taylor\, a leading scholar on religion and politics and author of the phenomenal book The Violent Take It by Force: The Christian Movement That Is Threatening Our Democracy. In this compelling presentation\, Dr. Taylor will explore the intersection of Evangelical Christianity and American democracy\, addressing how religious movements influence political power and shape the national conversation. \n \nKey Topics Include:\n🔹 The historical and modern relationship between Evangelicalism and U.S. politics🔹 The impact of Christian nationalism on democracy🔹 The role of faith communities in shaping the future of American governance \n \n📺 This event will be streamed live on our YouTube Channel\, allowing viewers to watch the discussion in real time. However\, YouTube comments will not be monitored. \nIf you’d like a chance to ask questions and engage directly\, be sure to register for this event using the link below! Space is limited. \n \nWho is this lecture for?\n✅ Faith leaders and believers—who want to better understand the relationship between politics and religion in America.✅ Political thinkers and democracy advocates—who are concerned about the role of religious movements in shaping government policies.✅ Academics and researchers—who study the intersection of faith\, nationalism\, and political ideology.✅ Fans of Faithful Politics Podcast—who have engaged with past guests like Jemar Tisby\, Kristin DuMez\, Samuel Perry\, and Katherine Stewart\, all of whom have explored similar themes on our show. \n \nView our previous interviews with the guest:\n📺Disciple Nations: Understanding the New Apostolic Reformation\n📺The Christian Movement That Is Threatening Our Democracy\n📺Giving Birth to Christian Supremacy\n \n📅 Date & Time: March 28\, 2025 at 12:00 PM EST📍 Location: Streaming Live on YouTube + Exclusive Q&A for Registered Attendees
URL:https://politicaljar.com/event/has-evangelical-christianity-become-a-threat-to-american-democracy/
ATTACH;FMTTYPE=image/jpeg:https://politicaljar.com/wp-content/uploads/2025/02/9ecb7dc711146d90f7f9ffaaee8313f4.jpg
END:VEVENT
BEGIN:VEVENT
DTSTART;TZID=America/New_York:20250328T124500
DTEND;TZID=America/New_York:20250328T124500
DTSTAMP:20260425T193222
CREATED:20250328T014358Z
LAST-MODIFIED:20250328T164356Z
UID:16830-1743165900-1743165900@politicaljar.com
SUMMARY:Out-of-Town Pool Call Time
DESCRIPTION:Out-of-Town Pool
URL:https://politicaljar.com/event/out-of-town-pool-call-time-10/
CATEGORIES:Presidents Schedule
END:VEVENT
BEGIN:VEVENT
DTSTART;TZID=America/New_York:20250328T130000
DTEND;TZID=America/New_York:20250328T130000
DTSTAMP:20260425T193222
CREATED:20250328T014359Z
LAST-MODIFIED:20250328T164357Z
UID:16832-1743166800-1743166800@politicaljar.com
SUMMARY:The President participates in the Swearing-In Ceremony for the U.S. Attorney for New Jersey
DESCRIPTION:White House Press Pool
URL:https://politicaljar.com/event/the-president-participates-in-the-swearing-in-ceremony-for-the-u-s-attorney-for-new-jersey/
LOCATION:Oval Office
CATEGORIES:Presidents Schedule
END:VEVENT
BEGIN:VEVENT
DTSTART;TZID=America/New_York:20250328T140000
DTEND;TZID=America/New_York:20250328T140000
DTSTAMP:20260425T193222
CREATED:20250328T014400Z
LAST-MODIFIED:20250328T174402Z
UID:16833-1743170400-1743170400@politicaljar.com
SUMMARY:The President departs The White House en route Joint Base Andrews
DESCRIPTION:Open Press
URL:https://politicaljar.com/event/the-president-departs-the-white-house-en-route-joint-base-andrews-6/
LOCATION:South Lawn
CATEGORIES:Presidents Schedule
END:VEVENT
BEGIN:VEVENT
DTSTART;TZID=America/New_York:20250328T141000
DTEND;TZID=America/New_York:20250328T141000
DTSTAMP:20260425T193222
CREATED:20250328T014401Z
LAST-MODIFIED:20250328T174402Z
UID:16834-1743171000-1743171000@politicaljar.com
SUMMARY:The President arrives Joint Base Andrews
DESCRIPTION:Out-of-Town Travel Pool
URL:https://politicaljar.com/event/the-president-arrives-joint-base-andrews-13/
LOCATION:Joint Base Andrews
CATEGORIES:Presidents Schedule
END:VEVENT
BEGIN:VEVENT
DTSTART;TZID=America/New_York:20250328T142000
DTEND;TZID=America/New_York:20250328T142000
DTSTAMP:20260425T193222
CREATED:20250328T014407Z
LAST-MODIFIED:20250328T181356Z
UID:16835-1743171600-1743171600@politicaljar.com
SUMMARY:The President departs Joint Base Andrews en route Palm Beach International Airport
DESCRIPTION:Out-of-Town Travel Pool
URL:https://politicaljar.com/event/the-president-departs-joint-base-andrews-en-route-palm-beach-international-airport-6/
LOCATION:Joint Base Andrews
CATEGORIES:Presidents Schedule
END:VEVENT
BEGIN:VEVENT
DTSTART;TZID=America/New_York:20250328T162500
DTEND;TZID=America/New_York:20250328T162500
DTSTAMP:20260425T193222
CREATED:20250328T014408Z
LAST-MODIFIED:20250328T201410Z
UID:16836-1743179100-1743179100@politicaljar.com
SUMMARY:The President arrives Palm Beach International Airport
DESCRIPTION:Pre-Credentialed media
URL:https://politicaljar.com/event/the-president-arrives-palm-beach-international-airport-9/
LOCATION:Palm Beach International Airport
CATEGORIES:Presidents Schedule
END:VEVENT
BEGIN:VEVENT
DTSTART;TZID=America/New_York:20250328T163500
DTEND;TZID=America/New_York:20250328T163500
DTSTAMP:20260425T193222
CREATED:20250328T014409Z
LAST-MODIFIED:20250328T201411Z
UID:16837-1743179700-1743179700@politicaljar.com
SUMMARY:The President departs Palm Beach International Airport en route Mar-a-Lago
DESCRIPTION:Pre-Credentialed media
URL:https://politicaljar.com/event/the-president-departs-palm-beach-international-airport-en-route-mar-a-lago-6/
LOCATION:Palm Beach International Airport
CATEGORIES:Presidents Schedule
END:VEVENT
BEGIN:VEVENT
DTSTART;TZID=America/New_York:20250328T165000
DTEND;TZID=America/New_York:20250328T165000
DTSTAMP:20260425T193222
CREATED:20250328T014411Z
LAST-MODIFIED:20250328T204359Z
UID:16838-1743180600-1743180600@politicaljar.com
SUMMARY:The President arrives Mar-a-Lago
DESCRIPTION:Out-of-Town Travel Pool
URL:https://politicaljar.com/event/the-president-arrives-mar-a-lago-6/
LOCATION:Mar-a-Lago
CATEGORIES:Presidents Schedule
END:VEVENT
END:VCALENDAR